BEGIN:VCALENDAR
VERSION:2.0
PRODID:-//Miami Art Scene™ - ECPv6.15.20//NONSGML v1.0//EN
CALSCALE:GREGORIAN
METHOD:PUBLISH
X-WR-CALNAME:Miami Art Scene™
X-ORIGINAL-URL:https://www.themiamiartscene.com
X-WR-CALDESC:Events for Miami Art Scene™
REFRESH-INTERVAL;VALUE=DURATION:PT1H
X-Robots-Tag:noindex
X-PUBLISHED-TTL:PT1H
BEGIN:VTIMEZONE
TZID:America/New_York
BEGIN:DAYLIGHT
TZOFFSETFROM:-0500
TZOFFSETTO:-0400
TZNAME:EDT
DTSTART:20230312T070000
END:DAYLIGHT
BEGIN:STANDARD
TZOFFSETFROM:-0400
TZOFFSETTO:-0500
TZNAME:EST
DTSTART:20231105T060000
END:STANDARD
BEGIN:DAYLIGHT
TZOFFSETFROM:-0500
TZOFFSETTO:-0400
TZNAME:EDT
DTSTART:20240310T070000
END:DAYLIGHT
BEGIN:STANDARD
TZOFFSETFROM:-0400
TZOFFSETTO:-0500
TZNAME:EST
DTSTART:20241103T060000
END:STANDARD
BEGIN:DAYLIGHT
TZOFFSETFROM:-0500
TZOFFSETTO:-0400
TZNAME:EDT
DTSTART:20250309T070000
END:DAYLIGHT
BEGIN:STANDARD
TZOFFSETFROM:-0400
TZOFFSETTO:-0500
TZNAME:EST
DTSTART:20251102T060000
END:STANDARD
END:VTIMEZONE
BEGIN:VEVENT
DTSTART;TZID=America/New_York:20240628T103000
DTEND;TZID=America/New_York:20240628T123000
DTSTAMP:20260425T213420
CREATED:20240529T215227Z
LAST-MODIFIED:20240529T215227Z
UID:21405-1719570600-1719577800@www.themiamiartscene.com
SUMMARY:The Official Art Deco Walking Tour by The Miami Design Preservation
DESCRIPTION:Friday\, June 28th from 10:30am – 12:30pm experience the Official Art Deco District Walking Tour presented by the Miami Design Preservation League. This 1.5 to 2-hour walking tour provides an introduction to the Art Deco\, Mediterranean Revival\, and Miami Modern (MiMo) styles found within the Miami Beach Architectural Historic District. Explore hotels\, restaurants\, and other commercial structures with a visit to a number of interiors. Choose from select dates / PURCHASE TICKETS HERE. \nTour ticket includes free entry to the Art Deco Museum as well as 10% off at the Gift Shop.
URL:https://www.themiamiartscene.com/event/the-official-art-deco-walking-tour-by-the-miami-design-preservation-133/
LOCATION:Art Deco Welcome Center\, 1001 Ocean Drive\, Miami Beach\, FL\, 33139\, United States
ATTACH;FMTTYPE=image/jpeg:https://www.themiamiartscene.com/wp-content/uploads/2024/04/miami-beach-art-deco-beach-patrol--scaled-e1712359053205.jpeg
END:VEVENT
BEGIN:VEVENT
DTSTART;TZID=America/New_York:20240628T180000
DTEND;TZID=America/New_York:20240628T210000
DTSTAMP:20260425T213420
CREATED:20240619T215008Z
LAST-MODIFIED:20240619T215008Z
UID:21513-1719597600-1719608400@www.themiamiartscene.com
SUMMARY:Gallery Night in the Miami Design District: Zilberman | Pan American | JCMC
DESCRIPTION:Friday\, June 28th from 6 – 9pm Pan American Art Projects\, Zilberman | Miami\, and The Juan Carlos Maldonado Collection (JCMC) invite you to a Gallery Night in their Miami Design District spaces across 39th Street\, with early access for Fountainhead Arts members at 5pm. \nPan American Art Projects will be hosting three solo exhibitions: “Whispers of Nature” featuring Miami-based Argentinian artist Carolina Sardi\, “Postales del Abismo” featuring Cuban artist Juan Carlos Alom\, and “Impossible Dialogues – Sumerian Disputations” featuring Miami-based Cuban artist Sandra Ramos. \nZilberman | Miami will open the group show Young Fresh Different Miami 2024\, resulting from an open call for emerging artists based in Florida. These selected artists reflect Florida’s rich diversity and multiculturalism\, with their works primarily exploring themes of personal and collective identity\, cultural heritage\, and self-exploration. \nJCMC will offer a glimpse into their collection through the exhibition “The Juan Carlos Maldonado Collection in Time: The Rigor of Geometric Shapes” unveiling the dedication of a collector to showcase Geometric Abstraction as a universal artistic language that transcends geographies and cultural backgrounds.
URL:https://www.themiamiartscene.com/event/gallery-night-in-the-miami-design-district-zilberman-pan-american-jcmc/
LOCATION:Design District\, 21-45 NE 39th St.\, Miami\, FL\, 33137\, United States
ATTACH;FMTTYPE=image/jpeg:https://www.themiamiartscene.com/wp-content/uploads/2024/06/miami-design-district-st-gallery-night.jpeg
END:VEVENT
END:VCALENDAR