BEGIN:VCALENDAR
VERSION:2.0
PRODID:-//Miami Art Scene™ - ECPv6.15.20//NONSGML v1.0//EN
CALSCALE:GREGORIAN
METHOD:PUBLISH
X-WR-CALNAME:Miami Art Scene™
X-ORIGINAL-URL:https://www.themiamiartscene.com
X-WR-CALDESC:Events for Miami Art Scene™
REFRESH-INTERVAL;VALUE=DURATION:PT1H
X-Robots-Tag:noindex
X-PUBLISHED-TTL:PT1H
BEGIN:VTIMEZONE
TZID:America/New_York
BEGIN:DAYLIGHT
TZOFFSETFROM:-0500
TZOFFSETTO:-0400
TZNAME:EDT
DTSTART:20230312T070000
END:DAYLIGHT
BEGIN:STANDARD
TZOFFSETFROM:-0400
TZOFFSETTO:-0500
TZNAME:EST
DTSTART:20231105T060000
END:STANDARD
BEGIN:DAYLIGHT
TZOFFSETFROM:-0500
TZOFFSETTO:-0400
TZNAME:EDT
DTSTART:20240310T070000
END:DAYLIGHT
BEGIN:STANDARD
TZOFFSETFROM:-0400
TZOFFSETTO:-0500
TZNAME:EST
DTSTART:20241103T060000
END:STANDARD
BEGIN:DAYLIGHT
TZOFFSETFROM:-0500
TZOFFSETTO:-0400
TZNAME:EDT
DTSTART:20250309T070000
END:DAYLIGHT
BEGIN:STANDARD
TZOFFSETFROM:-0400
TZOFFSETTO:-0500
TZNAME:EST
DTSTART:20251102T060000
END:STANDARD
END:VTIMEZONE
BEGIN:VEVENT
DTSTART;TZID=America/New_York:20240713T103000
DTEND;TZID=America/New_York:20240713T123000
DTSTAMP:20260425T195049
CREATED:20240627T001320Z
LAST-MODIFIED:20240627T001320Z
UID:21551-1720866600-1720873800@www.themiamiartscene.com
SUMMARY:The Official Art Deco Walking Tour by The Miami Design Preservation
DESCRIPTION:Saturday\, July 13th from 10:30am – 12:30pm experience the Official Art Deco District Walking Tour presented by the Miami Design Preservation League. This 1.5 to 2-hour walking tour provides an introduction to the Art Deco\, Mediterranean Revival\, and Miami Modern (MiMo) styles found within the Miami Beach Architectural Historic District. Explore hotels\, restaurants\, and other commercial structures with a visit to a number of interiors. Choose from select dates / PURCHASE TICKETS HERE. \nTour ticket includes free entry to the Art Deco Museum as well as 10% off at the Gift Shop.
URL:https://www.themiamiartscene.com/event/the-official-art-deco-walking-tour-by-the-miami-design-preservation-148/
LOCATION:Art Deco Welcome Center\, 1001 Ocean Drive\, Miami Beach\, FL\, 33139\, United States
ATTACH;FMTTYPE=image/jpeg:https://www.themiamiartscene.com/wp-content/uploads/2023/02/art-deco-miami-beach.jpg
END:VEVENT
BEGIN:VEVENT
DTSTART;TZID=America/New_York:20240713T120000
DTEND;TZID=America/New_York:20240713T133000
DTSTAMP:20260425T195049
CREATED:20240626T231949Z
LAST-MODIFIED:20240626T231949Z
UID:21522-1720872000-1720877400@www.themiamiartscene.com
SUMMARY:NSU Art Museum presents Creativity Exploration: Wire Weavings
DESCRIPTION:Saturday\, July 13th from 12 – 1:30pm enjoy Creativity Exploration: Wire Weavings at NSU Art Museum in Fort Lauderdale. Inspired by the art of Brad Kahlhamer and other wire artists\, craft your own work while considering the flexibility and interconnectedness of building artwork with wire. \nCreativity Exploration adult workshops promote the benefits of material exploration and the mind-to-body experience. Studies have shown that 45 minutes of creative activity a day reduces stress and offers mental clarity and relaxation. In addition to producing a sense of well-being\, sessions expand participants’ perceptions of forms\, while increasing brain connectivity through visual and cognitive stimulation. The workshop is led by educator Lark Keeler\, a specialist in mindfulness education. \nPre-registration Required. Space is Limited. RSVP HERE. \n  \nCreativity Exploration is sponsored by the Charles P. Ferro Foundation.
URL:https://www.themiamiartscene.com/event/nsu-art-museum-presents-creativity-exploration-wire-weavings/
LOCATION:NSU Art Museum\, One East Las Olas Boulevard\, Fort Lauderdale\, FL\, 33301\, United States
ATTACH;FMTTYPE=image/jpeg:https://www.themiamiartscene.com/wp-content/uploads/2024/06/nsu-art-museum-wire-weavings-creativity-exploration.jpg
END:VEVENT
BEGIN:VEVENT
DTSTART;TZID=America/New_York:20240713T140000
DTEND;TZID=America/New_York:20240713T150000
DTSTAMP:20260425T195049
CREATED:20240708T235031Z
LAST-MODIFIED:20240708T235031Z
UID:21657-1720879200-1720882800@www.themiamiartscene.com
SUMMARY:The Bass Highlights Tour
DESCRIPTION:Saturday\, July 13th from 2 – 3pm enjoy a guided tour at The Bass. Guests will explore various highlights of the collection\, the museum’s architecture and current exhibitions both inside and outside of The Bass through an interactive guided tour. Trained educators who facilitate engaging discussions will provide behind-the-scenes experience of The Bass and activities to further engage your experience with art. This tour is included with cost of museum admission and lasts approximately 45 minutes. \n  \nMaximum capacity applies on a first-come\, first-served basis.
URL:https://www.themiamiartscene.com/event/the-bass-highlights-tour-28/
LOCATION:The Bass\, 2100 Collins Avenue\, Miami Beach\, FL\, 33139\, United States
ATTACH;FMTTYPE=image/jpeg:https://www.themiamiartscene.com/wp-content/uploads/2023/01/The-Bass-highlight-tour.jpg
END:VEVENT
END:VCALENDAR