BEGIN:VCALENDAR
VERSION:2.0
PRODID:-//Miami Art Scene™ - ECPv6.15.20//NONSGML v1.0//EN
CALSCALE:GREGORIAN
METHOD:PUBLISH
X-ORIGINAL-URL:https://www.themiamiartscene.com
X-WR-CALDESC:Events for Miami Art Scene™
REFRESH-INTERVAL;VALUE=DURATION:PT1H
X-Robots-Tag:noindex
X-PUBLISHED-TTL:PT1H
BEGIN:VTIMEZONE
TZID:America/New_York
BEGIN:DAYLIGHT
TZOFFSETFROM:-0500
TZOFFSETTO:-0400
TZNAME:EDT
DTSTART:20230312T070000
END:DAYLIGHT
BEGIN:STANDARD
TZOFFSETFROM:-0400
TZOFFSETTO:-0500
TZNAME:EST
DTSTART:20231105T060000
END:STANDARD
BEGIN:DAYLIGHT
TZOFFSETFROM:-0500
TZOFFSETTO:-0400
TZNAME:EDT
DTSTART:20240310T070000
END:DAYLIGHT
BEGIN:STANDARD
TZOFFSETFROM:-0400
TZOFFSETTO:-0500
TZNAME:EST
DTSTART:20241103T060000
END:STANDARD
BEGIN:DAYLIGHT
TZOFFSETFROM:-0500
TZOFFSETTO:-0400
TZNAME:EDT
DTSTART:20250309T070000
END:DAYLIGHT
BEGIN:STANDARD
TZOFFSETFROM:-0400
TZOFFSETTO:-0500
TZNAME:EST
DTSTART:20251102T060000
END:STANDARD
END:VTIMEZONE
BEGIN:VEVENT
DTSTART;TZID=America/New_York:20240824T103000
DTEND;TZID=America/New_York:20240824T123000
DTSTAMP:20260425T174851
CREATED:20240804T162311Z
LAST-MODIFIED:20240804T162311Z
UID:21890-1724495400-1724502600@www.themiamiartscene.com
SUMMARY:The Official Art Deco Walking Tour by The Miami Design Preservation
DESCRIPTION:Saturday\, August 24th from 10:30am – 12:30pm experience the Official Art Deco District Walking Tour presented by the Miami Design Preservation League. This 1.5 to 2-hour walking tour provides an introduction to the Art Deco\, Mediterranean Revival\, and Miami Modern (MiMo) styles found within the Miami Beach Architectural Historic District. Explore hotels\, restaurants\, and other commercial structures with a visit to a number of interiors. Choose from select dates / PURCHASE TICKETS HERE. \nTour ticket includes free entry to the Art Deco Museum as well as 10% off at the Gift Shop.
URL:https://www.themiamiartscene.com/event/the-official-art-deco-walking-tour-by-the-miami-design-preservation-190/
LOCATION:Art Deco Welcome Center\, 1001 Ocean Drive\, Miami Beach\, FL\, 33139\, United States
ATTACH;FMTTYPE=image/jpeg:https://www.themiamiartscene.com/wp-content/uploads/2024/06/art-deco-hotel-miami-beach-the-berkeley-shore.jpeg
END:VEVENT
BEGIN:VEVENT
DTSTART;TZID=America/New_York:20240824T183000
DTEND;TZID=America/New_York:20240824T230000
DTSTAMP:20260425T174851
CREATED:20240809T141324Z
LAST-MODIFIED:20240809T202442Z
UID:21993-1724524200-1724540400@www.themiamiartscene.com
SUMMARY:Gallery Art presents the UNVEILING of the stunning "Mamba On" painting of Kobe Bryant
DESCRIPTION:Saturday\, August 24th from 6:30-11pm at Gallery Art in Aventura\, art lovers and aficionados are cordially invited to experience the UNVEILING of Mamba On\, the stunning 2013 painting of Kobe Bryant\, a decade unseen\, signed by the legend himself. Spend an unforgettable night with people who love art\, sports memorabilia\, and all things Kobe Bryant! This unforgettable evening will take place on  Gain insights and inspiration from esteemed guest speakers who knew Kobe and have been deeply influenced by his unparalleled work ethic\, leadership\, and commitment to excellence. Guests will enjoy live music\, food\, drinks\, and prizes. The first 20 tickets are FREE using Promo Code: MAS. This is a limited-time offer\, reserve your spot today for this exclusive event\, RSVP HERE.
URL:https://www.themiamiartscene.com/event/gallery-art-presents-the-unveiling-of-the-stunning-mamba-on-painting-of-kobe-bryant/
LOCATION:Gallery Art\, 20633 Biscayne Boulevard\, Aventura\, FL\, 33180\, United States
ATTACH;FMTTYPE=image/png:https://www.themiamiartscene.com/wp-content/uploads/2024/08/mamba-on.png
END:VEVENT
END:VCALENDAR