BEGIN:VCALENDAR
VERSION:2.0
PRODID:-//Miami Art Scene™ - ECPv6.15.20//NONSGML v1.0//EN
CALSCALE:GREGORIAN
METHOD:PUBLISH
X-WR-CALNAME:Miami Art Scene™
X-ORIGINAL-URL:https://www.themiamiartscene.com
X-WR-CALDESC:Events for Miami Art Scene™
REFRESH-INTERVAL;VALUE=DURATION:PT1H
X-Robots-Tag:noindex
X-PUBLISHED-TTL:PT1H
BEGIN:VTIMEZONE
TZID:America/New_York
BEGIN:DAYLIGHT
TZOFFSETFROM:-0500
TZOFFSETTO:-0400
TZNAME:EDT
DTSTART:20230312T070000
END:DAYLIGHT
BEGIN:STANDARD
TZOFFSETFROM:-0400
TZOFFSETTO:-0500
TZNAME:EST
DTSTART:20231105T060000
END:STANDARD
BEGIN:DAYLIGHT
TZOFFSETFROM:-0500
TZOFFSETTO:-0400
TZNAME:EDT
DTSTART:20240310T070000
END:DAYLIGHT
BEGIN:STANDARD
TZOFFSETFROM:-0400
TZOFFSETTO:-0500
TZNAME:EST
DTSTART:20241103T060000
END:STANDARD
BEGIN:DAYLIGHT
TZOFFSETFROM:-0500
TZOFFSETTO:-0400
TZNAME:EDT
DTSTART:20250309T070000
END:DAYLIGHT
BEGIN:STANDARD
TZOFFSETFROM:-0400
TZOFFSETTO:-0500
TZNAME:EST
DTSTART:20251102T060000
END:STANDARD
END:VTIMEZONE
BEGIN:VEVENT
DTSTART;TZID=America/New_York:20240929T103000
DTEND;TZID=America/New_York:20240929T123000
DTSTAMP:20260425T140502
CREATED:20240910T140652Z
LAST-MODIFIED:20240910T141013Z
UID:22167-1727605800-1727613000@www.themiamiartscene.com
SUMMARY:The Official Art Deco Walking Tour by The Miami Design Preservation
DESCRIPTION:Sunday\, September 29th from 10:30am – 12:30pm experience the Official Art Deco District Walking Tour presented by the Miami Design Preservation League. This 1.5 to 2-hour walking tour provides an introduction to the Art Deco\, Mediterranean Revival\, and Miami Modern (MiMo) styles found within the Miami Beach Architectural Historic District. Explore hotels\, restaurants\, and other commercial structures with a visit to a number of interiors. Choose from select dates / PURCHASE TICKETS HERE. \nTour ticket includes free entry to the Art Deco Museum as well as 10% off at the Gift Shop.
URL:https://www.themiamiartscene.com/event/the-official-art-deco-walking-tour-by-the-miami-design-preservation-226/
LOCATION:Art Deco Welcome Center\, 1001 Ocean Drive\, Miami Beach\, FL\, 33139\, United States
ATTACH;FMTTYPE=image/jpeg:https://www.themiamiartscene.com/wp-content/uploads/2024/04/miami-beach-art-deco-beach-patrol--scaled-e1712359053205.jpeg
END:VEVENT
BEGIN:VEVENT
DTSTART;TZID=America/New_York:20240929T120000
DTEND;TZID=America/New_York:20240929T170000
DTSTAMP:20260425T140502
CREATED:20240910T201153Z
LAST-MODIFIED:20240910T201153Z
UID:22171-1727611200-1727629200@www.themiamiartscene.com
SUMMARY:NSU Art Museum: FREE Fort Lauderdale Neighbor Day
DESCRIPTION:Sunday\, September 29th from 12noon – 5pm Fort Lauderdale residents receive FREE admission to NSU Art Museum on Free Fort Lauderdale Neighbor Days. Residents will enjoy the exhibitions on view\, and also receive 10% discount on catalogues published by NSU Art Museum in the Museum Store as well as 2-for-1 wine in the Museum Café. \nFor free admission\, residents must show a photo ID\, driver’s license or residential utility bill with proof of Fort Lauderdale address. \n  \nFort Lauderdale Neighbor Day is supported by the City of Fort Lauderdale.
URL:https://www.themiamiartscene.com/event/nsu-art-museum-free-fort-lauderdale-neighbor-day-24/
LOCATION:NSU Art Museum\, One East Las Olas Boulevard\, Fort Lauderdale\, FL\, 33301\, United States
ATTACH;FMTTYPE=image/png:https://www.themiamiartscene.com/wp-content/uploads/2022/09/nsu-art-museum_neighborday.png
END:VEVENT
BEGIN:VEVENT
DTSTART;TZID=America/New_York:20240929T150000
DTEND;TZID=America/New_York:20240929T150000
DTSTAMP:20260425T140502
CREATED:20240801T222819Z
LAST-MODIFIED:20240801T222819Z
UID:21869-1727622000-1727622000@www.themiamiartscene.com
SUMMARY:"Hispanic Heritage Celebration"– Alhambra Orchestra with soloists performs music of Sarasate\, Tarrego\, Lecuona\, Villa-Lobos and more
DESCRIPTION:Sunday\, September 29th at 3pm enjoy “Hispanic Heritage Celebration”– Alhambra Orchestra with soloists performs music of Sarasate\, Tarrego\, Lecuona\, Villa-Lobos and more.  TWO performances\, taking place at Sanctuary of the Arts in Coral Gables\, Florida. \nThe Alhambra Orchestra\, led by by Artistic Director Daniel Andai\, presents an unforgettable celebration of Hispanic composers including Lecuona\, Rodrigo\, Sarasate\, Tarrega and more\, featuring the Guitar Concerto by Villa-Lobos with soloist Koh Kazama\, a professor at New World School of the Arts. Attendees will enjoy hearing flutist Carol Naveira-Nicholson in a lovely piece by Rodrigo\, and violinists Steffen Zeichner and Daniel Andai in a virtuosic duet by Sarasate. Plus\, of course\, rousing popular Latin melodies. The Alhambra Orchestra is Miami’s community orchestra\, presenting live classical performances in affordable\, convenient venues. PURCHASE TICKETS HERE. \nDetails: Tickets $10 adults\, $5 seniors and students (18 and under). For questions or special accommodations\, contact Alhambra Orchestra at (305) 668-9260\, email music@alhambraorchestra.org
URL:https://www.themiamiartscene.com/event/hispanic-heritage-celebration-alhambra-orchestra-with-soloists-performs-music-of-sarasate-tarrego-lecuona-villa-lobos-and-more-2/
LOCATION:Sanctuary of the Arts\, 410 Andalusia Avenue\, Coral Gables\, FL\, 33134
ATTACH;FMTTYPE=image/jpeg:https://www.themiamiartscene.com/wp-content/uploads/2024/08/alhambra-orchestra.jpeg
END:VEVENT
END:VCALENDAR