BEGIN:VCALENDAR
VERSION:2.0
PRODID:-//Miami Art Scene™ - ECPv6.15.20//NONSGML v1.0//EN
CALSCALE:GREGORIAN
METHOD:PUBLISH
X-ORIGINAL-URL:https://www.themiamiartscene.com
X-WR-CALDESC:Events for Miami Art Scene™
REFRESH-INTERVAL;VALUE=DURATION:PT1H
X-Robots-Tag:noindex
X-PUBLISHED-TTL:PT1H
BEGIN:VTIMEZONE
TZID:America/New_York
BEGIN:DAYLIGHT
TZOFFSETFROM:-0500
TZOFFSETTO:-0400
TZNAME:EDT
DTSTART:20230312T070000
END:DAYLIGHT
BEGIN:STANDARD
TZOFFSETFROM:-0400
TZOFFSETTO:-0500
TZNAME:EST
DTSTART:20231105T060000
END:STANDARD
BEGIN:DAYLIGHT
TZOFFSETFROM:-0500
TZOFFSETTO:-0400
TZNAME:EDT
DTSTART:20240310T070000
END:DAYLIGHT
BEGIN:STANDARD
TZOFFSETFROM:-0400
TZOFFSETTO:-0500
TZNAME:EST
DTSTART:20241103T060000
END:STANDARD
BEGIN:DAYLIGHT
TZOFFSETFROM:-0500
TZOFFSETTO:-0400
TZNAME:EDT
DTSTART:20250309T070000
END:DAYLIGHT
BEGIN:STANDARD
TZOFFSETFROM:-0400
TZOFFSETTO:-0500
TZNAME:EST
DTSTART:20251102T060000
END:STANDARD
END:VTIMEZONE
BEGIN:VEVENT
DTSTART;TZID=America/New_York:20241026T090000
DTEND;TZID=America/New_York:20241026T140000
DTSTAMP:20260425T102500
CREATED:20241024T224345Z
LAST-MODIFIED:20241024T224345Z
UID:22438-1729933200-1729951200@www.themiamiartscene.com
SUMMARY:Delray Old School Square: First Delray GreenMarket of the Season!
DESCRIPTION:Saturday\, October 26th from 9am – 2pm you’re invited to Old School Square for the most popular event in Downtown Delray – the weekly Delray Green Market! The farmer’s market is every Saturday from 9am – 2pm and features dozens of local produce\, gourmet food and plant vendors. \nThe Delray GreenMarket is a Saturday morning destination in the heart of Downtown Delray. The open-air farmer’s market was created in 1996 by the Community Redevelopment Agency and has become one of the most popular and charming aspects of the ‘season’ in Delray Beach. \nAt the GreenMarket you’ll find more than 50+ vendors featuring Palm Beach County farm-to-fork produce\, just picked citrus and juice\, farm fresh eggs\, raw milk and butter\, 100% grass-fed and finished (antibiotic and hormone free) Florida beef\, poultry\, pork and lamb\, fragrant artisan baked goods\, plenty of gluten free\, vegan and sugar free products\, fresh cut flowers\, plants and other unique gourmet fare along with live musical entertainment each week.
URL:https://www.themiamiartscene.com/event/delray-old-school-square-first-delray-greenmarket-of-the-season/
LOCATION:Old School Square\, 51 North Swinton Avenue\, Delray Beach\, FL\, 33444\, United States
ATTACH;FMTTYPE=image/jpeg:https://www.themiamiartscene.com/wp-content/uploads/2024/10/GreenMarket3.jpeg
END:VEVENT
BEGIN:VEVENT
DTSTART;TZID=America/New_York:20241026T103000
DTEND;TZID=America/New_York:20241026T123000
DTSTAMP:20260425T102500
CREATED:20241011T162144Z
LAST-MODIFIED:20241011T162144Z
UID:22341-1729938600-1729945800@www.themiamiartscene.com
SUMMARY:The Official Art Deco Walking Tour by The Miami Design Preservation
DESCRIPTION:Saturday\, October 26th from 10:30am – 12:30pm experience the Official Art Deco District Walking Tour presented by the Miami Design Preservation League. This 1.5 to 2-hour walking tour provides an introduction to the Art Deco\, Mediterranean Revival\, and Miami Modern (MiMo) styles found within the Miami Beach Architectural Historic District. Explore hotels\, restaurants\, and other commercial structures with a visit to a number of interiors. Choose from select dates / PURCHASE TICKETS HERE. \nTour ticket includes free entry to the Art Deco Museum as well as 10% off at the Gift Shop.
URL:https://www.themiamiartscene.com/event/the-official-art-deco-walking-tour-by-the-miami-design-preservation-253/
LOCATION:Art Deco Welcome Center\, 1001 Ocean Drive\, Miami Beach\, FL\, 33139\, United States
ATTACH;FMTTYPE=image/jpeg:https://www.themiamiartscene.com/wp-content/uploads/2024/06/art-deco_marlin-hotel_miami-beach.jpeg
END:VEVENT
BEGIN:VEVENT
DTSTART;TZID=America/New_York:20241026T140000
DTEND;TZID=America/New_York:20241026T170000
DTSTAMP:20260425T102500
CREATED:20241011T152826Z
LAST-MODIFIED:20241020T195733Z
UID:22328-1729951200-1729962000@www.themiamiartscene.com
SUMMARY:The Contemporary Art Modern Project (The CAMP Gallery) presents an Art Talk for ‘Pulling at The Threads of Social Discourse: We Got The Power’
DESCRIPTION:Saturday\, October 26th from 2 – 5pm The Contemporary Art Modern Project (The CAMP Gallery) is pleased to announce an artist talk for our annual fiber exhibition\, 77 Women Pulling at The Threads of Social Discourse\, FAMA and Guests: We Got The Power. This panel will feature CAMP artists Pangea Kali Virga\, Silvana Soriano\, Valeria Montag and art historian Angela Chaine. This Event is FREE & Open to the Public / RSVP HERE. \nThe 6th edition of Women Pulling at The Threads of Social Discourse: We Got The Power. Showcasing fibers works from 81 artists responding to “Lysistrata” by Aristophanes\, and “Chi-Raq” by Spike Lee\, this exhibition explores\, through unity\, the possibility for change. This exhibition is on view from October 11 through December 20\, 2024. Learn more & view works from this exhibition on ARTSY. \n \nParticipating artists: Mary Tooley Parker\, Eden Quispe\, Fruma Markowitz\, Kathy Nida\, Margaret Roleke\, Natalia Schonowski\, Joan Wheeler\, Leslie Sheryll\, Fernanda Froes\, Barbara Ringer\, Christine Lee Tyler\, Silvana Soriano\, Karola Pezarro\, Jacqueline Myers- Cho\, Mabelin Castellanos\, Katika\, Janine Brown\, Kristina Reinis\, Camille Eskell\, Adriana Carvalho\, Rita Valley\, Rima Day\, Marine Fonteyne\, Star Trauth\, Manju Shandler\, Ola Rondiak\, Louise Cadoux\, Aida Tejada\, Olya Tereschuk\, Itamar Yehiel\, Debora Rosental\, Marjolein Burbank\, Nicole Durham the Caulk Artist\, Amy Gelb\, Lauren Reilly\, Aurora Molina\, Deborah Simon\, Nancy Ofori\, Delaney Conner\, Ainaz Alipour\, Heidi Hankanieman\, Alan Nieder\, Nanilee Robarge\, Melissa Godoy Nieto\, Rosa Henriquez\, Laetitia Adam-Rabel\, Yanira Lopez\, Alexis Oliva\, Hou Guan Ting\, Kim Moore\, Melanie Brewster\, Pangea Kali Virga\, Shelly McCoy\, Alina Rodriguez Rojo\, Micheal Sylvan Robinson\, Eileen Hoffman\, Sarah Laing\, Brenda Kuong\, Marcia Manconi\, Carlos Bautista Biernnay\, Sooo-Z Mastropietro\, Lauren Januhowski\, Deborah Weir\, Amy Putman\, Toni Thomas\, Breanna Cee Martins\, AtelierLustig\, Valeria Montag\, Alieh Rezaei\, Elaine Luther\, Molly Gambardella\, Isabel Infante\, Autumn Kioti Horne\, Caitlin McCormack\, Nancy Tobin\, Janet Mueller\, Kimberly Bentley\, Catherine Olivier\, Lydia Viscardi\, and Julie Peppito.\n  \nIMAGE: Pangea Kali Virga\, As Easy As Love\, 2024. Printed Silk\, Gold Thread Hand Embroidery\, Hand Beaded Pearls\, Beads and Sequins\, 12 × 24 in | 30.5 × 61 cm.
URL:https://www.themiamiartscene.com/event/the-contemporary-art-modern-project-the-camp-gallery-presents-an-art-talk-for-pulling-at-the-threads-of-social-discourse-we-got-the-power/
LOCATION:The Contemporary Art Modern Project (The CAMP Gallery)\, 791-793 NE 125th Street\, North Miami\, FL\, 33161\, United States
ATTACH;FMTTYPE=image/png:https://www.themiamiartscene.com/wp-content/uploads/2024/10/camp-gallery_we-got-the-power_north-miami.png
END:VEVENT
END:VCALENDAR