BEGIN:VCALENDAR
VERSION:2.0
PRODID:-//Miami Art Scene™ - ECPv6.15.20//NONSGML v1.0//EN
CALSCALE:GREGORIAN
METHOD:PUBLISH
X-WR-CALNAME:Miami Art Scene™
X-ORIGINAL-URL:https://www.themiamiartscene.com
X-WR-CALDESC:Events for Miami Art Scene™
REFRESH-INTERVAL;VALUE=DURATION:PT1H
X-Robots-Tag:noindex
X-PUBLISHED-TTL:PT1H
BEGIN:VTIMEZONE
TZID:America/New_York
BEGIN:DAYLIGHT
TZOFFSETFROM:-0500
TZOFFSETTO:-0400
TZNAME:EDT
DTSTART:20230312T070000
END:DAYLIGHT
BEGIN:STANDARD
TZOFFSETFROM:-0400
TZOFFSETTO:-0500
TZNAME:EST
DTSTART:20231105T060000
END:STANDARD
BEGIN:DAYLIGHT
TZOFFSETFROM:-0500
TZOFFSETTO:-0400
TZNAME:EDT
DTSTART:20240310T070000
END:DAYLIGHT
BEGIN:STANDARD
TZOFFSETFROM:-0400
TZOFFSETTO:-0500
TZNAME:EST
DTSTART:20241103T060000
END:STANDARD
BEGIN:DAYLIGHT
TZOFFSETFROM:-0500
TZOFFSETTO:-0400
TZNAME:EDT
DTSTART:20250309T070000
END:DAYLIGHT
BEGIN:STANDARD
TZOFFSETFROM:-0400
TZOFFSETTO:-0500
TZNAME:EST
DTSTART:20251102T060000
END:STANDARD
END:VTIMEZONE
BEGIN:VEVENT
DTSTART;TZID=America/New_York:20241118T080000
DTEND;TZID=America/New_York:20241118T170000
DTSTAMP:20260425T121300
CREATED:20241119T022343Z
LAST-MODIFIED:20241119T022343Z
UID:22667-1731916800-1731949200@www.themiamiartscene.com
SUMMARY:NSU Art Museum: Art Talk - Rose B. Simpson and vanessa german
DESCRIPTION:Saturday\, December 7th from 12noon – 1pm enjoy an Art Talk at NSU Art Museum – Rose B. Simpson and vanessa german. In conjunction with their exhibition\, IT INCLUDES EVERYONE\, EVERYWHERE\, ALWAYS. RSVP is required. RSVP HERE. \nFREE for members\, Art Basel VIPs and Exhibitors\n$16 for non-members \n  \nImages:\nvanessa german\, BIRD #1\, 2022 wood\, foam\, black pigment\, grace\, the dream of a human woman who became a bird to tell us that we are all more than human\, glass bottles found at the trash dump for the Biltmore— the largest house in America\, gold metallic paint\, plaster\, plaster gauze wood\, ribbon\, astroturf\, love\, an open heart. 65 1/2 x 24 x 60 inches (166.4 x 61 x 152.4 cm). Copyright of the artist.\nRose B. Simpson\, Conjure II\, 2022\, Clay\, grout\, indigenous New Mexico pine from new studio build\, 28 × 12 × 14 inches (71.1 × 30.5 × 35.6 cm)\, Collection of Noel E.D. Kirnon\, Image courtesy of the artist and Jack Shainman Gallery\, New York.
URL:https://www.themiamiartscene.com/event/nsu-art-museum-art-talk-rose-b-simpson-and-vanessa-german/
LOCATION:NSU Art Museum\, One East Las Olas Boulevard\, Fort Lauderdale\, FL\, 33301\, United States
ATTACH;FMTTYPE=image/jpeg:https://www.themiamiartscene.com/wp-content/uploads/2024/11/nsu-art-talk.jpeg
END:VEVENT
BEGIN:VEVENT
DTSTART;TZID=America/New_York:20241118T103000
DTEND;TZID=America/New_York:20241118T123000
DTSTAMP:20260425T121300
CREATED:20241105T223715Z
LAST-MODIFIED:20241105T223715Z
UID:22527-1731925800-1731933000@www.themiamiartscene.com
SUMMARY:The Official Art Deco Walking Tour by The Miami Design Preservation
DESCRIPTION:Monday\, November 18th from 10:30am – 12:30pm experience the Official Art Deco District Walking Tour presented by the Miami Design Preservation League. This 1.5 to 2-hour walking tour provides an introduction to the Art Deco\, Mediterranean Revival\, and Miami Modern (MiMo) styles found within the Miami Beach Architectural Historic District. Explore hotels\, restaurants\, and other commercial structures with a visit to a number of interiors. Choose from select dates / PURCHASE TICKETS HERE. \nTour ticket includes free entry to the Art Deco Museum as well as 10% off at the Gift Shop.
URL:https://www.themiamiartscene.com/event/the-official-art-deco-walking-tour-by-the-miami-design-preservation-276/
LOCATION:Art Deco Welcome Center\, 1001 Ocean Drive\, Miami Beach\, FL\, 33139\, United States
ATTACH;FMTTYPE=image/jpeg:https://www.themiamiartscene.com/wp-content/uploads/2024/04/miami-beach-art-deco-beach-patrol--scaled-e1712359053205.jpeg
END:VEVENT
END:VCALENDAR