BEGIN:VCALENDAR
VERSION:2.0
PRODID:-//Miami Art Scene™ - ECPv6.15.20//NONSGML v1.0//EN
CALSCALE:GREGORIAN
METHOD:PUBLISH
X-WR-CALNAME:Miami Art Scene™
X-ORIGINAL-URL:https://www.themiamiartscene.com
X-WR-CALDESC:Events for Miami Art Scene™
REFRESH-INTERVAL;VALUE=DURATION:PT1H
X-Robots-Tag:noindex
X-PUBLISHED-TTL:PT1H
BEGIN:VTIMEZONE
TZID:America/New_York
BEGIN:DAYLIGHT
TZOFFSETFROM:-0500
TZOFFSETTO:-0400
TZNAME:EDT
DTSTART:20230312T070000
END:DAYLIGHT
BEGIN:STANDARD
TZOFFSETFROM:-0400
TZOFFSETTO:-0500
TZNAME:EST
DTSTART:20231105T060000
END:STANDARD
BEGIN:DAYLIGHT
TZOFFSETFROM:-0500
TZOFFSETTO:-0400
TZNAME:EDT
DTSTART:20240310T070000
END:DAYLIGHT
BEGIN:STANDARD
TZOFFSETFROM:-0400
TZOFFSETTO:-0500
TZNAME:EST
DTSTART:20241103T060000
END:STANDARD
BEGIN:DAYLIGHT
TZOFFSETFROM:-0500
TZOFFSETTO:-0400
TZNAME:EDT
DTSTART:20250309T070000
END:DAYLIGHT
BEGIN:STANDARD
TZOFFSETFROM:-0400
TZOFFSETTO:-0500
TZNAME:EST
DTSTART:20251102T060000
END:STANDARD
END:VTIMEZONE
BEGIN:VEVENT
DTSTART;TZID=America/New_York:20241203T100000
DTEND;TZID=America/New_York:20241207T180000
DTSTAMP:20260425T071534
CREATED:20241025T015450Z
LAST-MODIFIED:20241025T015450Z
UID:22463-1733220000-1733594400@www.themiamiartscene.com
SUMMARY:NADA Miami 2024
DESCRIPTION:Tuesday\, December 3rd through Saturday\, December 7th enjoy NADA Miami during Miami Art Week. The New Art Dealers Alliance (NADA) is pleased to present its 21th edition of NADA Miami at Ice Palace Studios. NADA Miami will feature a diverse selection of 146 galleries\, art spaces and nonprofit organizations. This year’s fair includes many NADA member galleries and many first-time exhibitors. \nNADA Miami is dedicated to celebrating rising talents from around the globe. As a non-profit\, member-based organization\, we are flexible and adaptable in responding to the needs of its exhibitors and the industry at large by creatively reinventing the experience and presentation of art. NADA encourages and facilitates the continued growth of community amongst our exhibitors\, artists\, and members\, while fostering their intrinsic support networks of curators\, collectors\, advisors\, and critics. We believe you will find this spirit in the atmosphere of NADA’s Miami art fair\, and hope you will consider visiting. \n  \nFAIR HOURS\nVIP Preview: Tuesday\, December 3rd\, 10am – 4pm by Invitation\nPUBLIC DAYS\nTuesday\, December 3\, 4pm – 7pm\nWednesday\, December 4\, 11am – 7pm\nThursday\, December 5\, 11am – 7pm\nFriday\, December 6\, 11am – 6pm\nSaturday\, December 7\, 11am – 6pm
URL:https://www.themiamiartscene.com/event/nada-miami-2024/
LOCATION:Ice Palace Studios\, 1400 North Miami Avenue\, Miami\, FL\, 33136\, United States
ATTACH;FMTTYPE=image/jpeg:https://www.themiamiartscene.com/wp-content/uploads/2023/11/nada-miami-2023-scaled-e1699995137135.jpeg
END:VEVENT
BEGIN:VEVENT
DTSTART;TZID=America/New_York:20241203T100000
DTEND;TZID=America/New_York:20241208T170000
DTSTAMP:20260425T071534
CREATED:20241024T203553Z
LAST-MODIFIED:20241024T203553Z
UID:22423-1733220000-1733677200@www.themiamiartscene.com
SUMMARY:UNTITLED\, Miami Beach 2024
DESCRIPTION:Wednesday\, December 4th through Sunday\, December 8th enjoy UNTITLED ART Miami Beach taking place annually on the sands of Miami Beach at 12th Street and Ocean Drive. Founded in 2012\, Untitled Art is a leading contemporary art fair taking place annually\, guided by a mission to support the wider art ecosystem\, Untitled Art offers an inclusive platform for discovering contemporary art that prioritizes collaboration within each aspect of the fair. \nEach year\, new and long-standing exhibitors are selected by Untitled Art’s evolving curatorial team for their artistic integrity and international reach\, with several galleries based outside of mainstream art hubs. Emerging artists\, young galleries\, and non-profit organizations are supported through its ‘Nest’ sector\, an initiative offering subsidized booths developed in response to traditional entry barriers posed by art fair participation. The first to launch an online art fair\, Untitled Art continually invests in new technologies to make contemporary art collecting more accessible to new audiences\, and it proactively advances responsible culture by using its platform to amplify diverse voices. \n  \nVIP and Press Preview:\nTuesday\, 3 Dec 10am-7pm\n\nOpening Hours:\nWed\, 4 Dec 11am – 7pm\nThurs\, 5 Dec 11am – 7pm\nFri\, 6 Dec 11am – 7pm\nSat\, 7 Dec 11am – 7pm\nSun\, 8 Dec 11am – 5pm
URL:https://www.themiamiartscene.com/event/untitled-miami-beach-2024/
LOCATION:Untitled\, ART\, Ocean Drive and 12th Street\, Miami Beach\, FL\, 33139\, United States
ATTACH;FMTTYPE=image/png:https://www.themiamiartscene.com/wp-content/uploads/2024/10/untitled_miami.png
END:VEVENT
BEGIN:VEVENT
DTSTART;TZID=America/New_York:20241203T103000
DTEND;TZID=America/New_York:20241203T123000
DTSTAMP:20260425T071534
CREATED:20241129T235500Z
LAST-MODIFIED:20241129T235500Z
UID:22713-1733221800-1733229000@www.themiamiartscene.com
SUMMARY:The Official Art Deco Walking Tour by The Miami Design Preservation
DESCRIPTION:Tuesday\, December 3rd from 10:30am – 12:30pm experience the Official Art Deco District Walking Tour presented by the Miami Design Preservation League. This 1.5 to 2-hour walking tour provides an introduction to the Art Deco\, Mediterranean Revival\, and Miami Modern (MiMo) styles found within the Miami Beach Architectural Historic District. Explore hotels\, restaurants\, and other commercial structures with a visit to a number of interiors. Choose from select dates / PURCHASE TICKETS HERE. \nTour ticket includes free entry to the Art Deco Museum as well as 10% off at the Gift Shop.
URL:https://www.themiamiartscene.com/event/the-official-art-deco-walking-tour-by-the-miami-design-preservation-291/
LOCATION:Art Deco Welcome Center\, 1001 Ocean Drive\, Miami Beach\, FL\, 33139\, United States
ATTACH;FMTTYPE=image/jpeg:https://www.themiamiartscene.com/wp-content/uploads/2022/07/art-deco-walking-tour-miami-beach3s.jpg
END:VEVENT
BEGIN:VEVENT
DTSTART;TZID=America/New_York:20241203T110000
DTEND;TZID=America/New_York:20241208T180000
DTSTAMP:20260425T071534
CREATED:20241025T004603Z
LAST-MODIFIED:20241025T005647Z
UID:22455-1733223600-1733680800@www.themiamiartscene.com
SUMMARY:Art Miami 2024
DESCRIPTION:Tuesday\, December 3rd through Sunday\, December 8th Art Miami will take place at the prestigious waterfront location of One Herald Plaza in the heart of downtown Miami. The fair takes place alongside sister fair CONTEXT Art Miami. \nArt Miami continues to develop and draw upon the vast collector base\, art dealers\, advisors\, curators and museums that descend upon Miami for what has been largely heralded as the most important week for contemporary art in the United States. \nThe Fair’s world-class internationally respected group of participating galleries continually report high volume sales as collectors and advisors acquire important works from the forefront of the contemporary\, modern\, classical modern\, post-war and pop eras showcased in the fair. \n  \nFAIR HOURS\nTuesday\, December 3\, 2024\nPlatinum VIP Preview:\n11am – 1pm\nAccess for Art Miami + CONTEXT Art Miami Platinum VIP Passholders\nTuesday\, December 3\, 2024\nVIP Preview:\n1pm – 4pm\nAccess for Art Miami + CONTEXT VIP Passholders\, Art Basel Miami Beach\, Design Miami\, Untitled VIP Passholders & Press\nGENERAL ADMISSION\nTuesday\, December 3rd | 4pm – 9pm\nWednesday\, December 4 | 11am – 7pm\nThursday\, December 5 | 11am – 7pm\nFriday\, December 6 | 11am – 7pm\nSaturday\, December 7 | 11am – 7pm\nSunday\, December 8 | 11am – 6pm
URL:https://www.themiamiartscene.com/event/art-miami-2024/
LOCATION:FL
ATTACH;FMTTYPE=image/jpeg:https://www.themiamiartscene.com/wp-content/uploads/2023/11/art-miami-fair-2023.jpeg
END:VEVENT
BEGIN:VEVENT
DTSTART;TZID=America/New_York:20241203T110000
DTEND;TZID=America/New_York:20241208T180000
DTSTAMP:20260425T071534
CREATED:20241025T005448Z
LAST-MODIFIED:20241025T005448Z
UID:22457-1733223600-1733680800@www.themiamiartscene.com
SUMMARY:CONTEXT Art Miami 2024
DESCRIPTION:Tuesday\, December 3rd through Sunday\, December 8th CONTEXT Art Miami returns alongside sister fair Art Miami at the prestigious waterfront location of One Herald Plaza in the heart of downtown Miami. CONTEXT is dedicated to the development and reinforcement of emerging and mid-career artists. \nLaunched in 2012\, CONTEXT Art Miami’s open atmosphere creates a meaningful dialogue between artists\, galleries and collectors while providing the ultimate platform for the presentation of mid-career\, emergent and cutting-edge talent by emerging and established galleries. \nThe combined efforts of CONTEXT Art Miami and Art Miami provide a unique and alternative opportunity for leading primary dealers and their artists to be marketed and promoted internationally during the most important week for contemporary art in America. \n\nPlatinum VIP Preview\n\nTuesday\, December 3 | 11am – 1pm \nBy Invitation Only – Access for CONTEXT and Art Miami Platinum VIP Passholders & Press \n\nVIP Preview\n\nTuesday\, December 3 | 1pm – 4pm \nAccess for CONTEXT\, Art Miami VIP Passholders\, Art Basel Miami Beach VIP Passholders\, Design Miami VIP Passholders\, Untitled VIP Passholders\, & Press. Benefiting the Perez Art Museum Miami. \n\n\nGeneral Admission\n\nTuesday\, December 3 | 4pm – 9pm\nWednesday\, December 4 | 11am – 7pm\n\n\nThursday\, December 5 | 11am – 7pm\n\n\nFriday\, December 6 | 11am – 7pm\n\n\nSaturday\, December 7 | 11am – 7pm\n\n\nSunday\, December 8 | 11am – 6pm
URL:https://www.themiamiartscene.com/event/context-art-miami-2024/
LOCATION:Art Miami + CONTEXT Pavilions\, One Herald Plaza (Biscayne Bay & NE 14th Street)\, Miami\, FL\, 33132\, United States
ATTACH;FMTTYPE=image/jpeg:https://www.themiamiartscene.com/wp-content/uploads/2021/08/context-art-miami-e1629048515379.jpg
END:VEVENT
BEGIN:VEVENT
DTSTART;TZID=America/New_York:20241203T120000
DTEND;TZID=America/New_York:20241208T200000
DTSTAMP:20260425T071534
CREATED:20241024T175821Z
LAST-MODIFIED:20241024T175821Z
UID:22419-1733227200-1733688000@www.themiamiartscene.com
SUMMARY:Scope Miami Beach 2024
DESCRIPTION:Tuesday\, December 3rd through Sunday\, December 8th enjoy Scope Miami Beach during Miami Art Week. SCOPE returns to the sandy beaches of Miami Beach for it’s 24th edition. SCOPE Art Show is the premier showcase and incubator for contemporary art\, convening the most dynamic emerging galleries and artists from around the world for more than two decades. \nIts annual flagship show in Miami represents the future of the arts ecosystem by forecasting new trends and the people and ideas that drive them\, from alternative and nomadic gallery models to cutting-edge artists traversing the boundaries of technology\, culture\, and society. As the highest attended fair during Miami Art Week\, SCOPE Art Show is a welcoming hub for art and culture seekers\, from the established collector to the first-time fair visitor. Its signature experiential programming across art\, design\, music\, technology\, wellness\, and hospitality offers visitors myriad access points for discovery\, learning\, and community. Purchase Tickets Here. \n  \nSHOW HOURS\n*Tuesday | December 3 2024 | 12-8pm (VIP Preview Access Only)\nWednesday | December 4 2024 | 11am-8pm\nThursday | December 5 2024 | 11am-8pm\nFriday | December 6 2024 | 11am-8pm\nSaturday | December 7 2024 | 11am-8pm\nSunday | December 8 2024 | 11am-8pm
URL:https://www.themiamiartscene.com/event/scope-miami-beach-2024/
LOCATION:SCOPE Miami Beach Pavilion\, 801 Ocean Drive\, Miami Beach\, 33139\, United States
ATTACH;FMTTYPE=image/jpeg:https://www.themiamiartscene.com/wp-content/uploads/2024/10/scope-art-show-miami.jpeg
END:VEVENT
BEGIN:VEVENT
DTSTART;TZID=America/New_York:20241203T130000
DTEND;TZID=America/New_York:20241208T180000
DTSTAMP:20260425T071534
CREATED:20241126T192632Z
LAST-MODIFIED:20241126T192632Z
UID:22681-1733230800-1733680800@www.themiamiartscene.com
SUMMARY:Mark Hachem Galerie/Paris featuring Cheryl Maeder at Art Miami
DESCRIPTION:Tuesday\, December 3rd through Sunday\, December 8th experience internationally collected Video/Sound Installation Artist & Photographer Cheryl Maeder at Art Miami with Mark Hachem Galerie/Paris BOOTH AM207 during Miami Art Basel Week. Maeder is best known for her conceptual style of photography\, video/sound art and filmmaking. The artist’s work is captivating\, optimistic and meaningful. \n  \nFAIR SCHEDULE \nTuesday\, December 3\, 2024 \nPlatinum VIP Preview:\n11am – 1pm \nAccess for Art Miami + CONTEXT Art Miami Platinum VIP Passholders \nTuesday\, December 3\, 2024 \nVIP Preview:\n1pm – 4pm \nAccess for Art Miami + CONTEXT VIP Passholders\, Art Basel Miami Beach\, Design Miami\, Untitled VIP Passholders & Press \nGENERAL ADMISSION \nTuesday\, December 3\nWednesday\, December 4\n4pm – 9pm\n11am – 7pm \nThursday\, December 5\n11am – 7pm \nFriday\, December 6\n11am – 7pm \nSaturday\, December 7\n11am – 7pm \nSunday\, December 8\n11am – 6pm
URL:https://www.themiamiartscene.com/event/mark-hachem-galerie-paris-featuring-cheryl-maeder-at-art-miami/
LOCATION:Art Miami + CONTEXT Pavilions\, One Herald Plaza (Biscayne Bay & NE 14th Street)\, Miami\, FL\, 33132\, United States
ATTACH;FMTTYPE=image/jpeg:https://www.themiamiartscene.com/wp-content/uploads/2024/11/art-miami-2024-e1732649171144.jpeg
END:VEVENT
END:VCALENDAR