BEGIN:VCALENDAR
VERSION:2.0
PRODID:-//Miami Art Scene™ - ECPv6.15.20//NONSGML v1.0//EN
CALSCALE:GREGORIAN
METHOD:PUBLISH
X-WR-CALNAME:Miami Art Scene™
X-ORIGINAL-URL:https://www.themiamiartscene.com
X-WR-CALDESC:Events for Miami Art Scene™
REFRESH-INTERVAL;VALUE=DURATION:PT1H
X-Robots-Tag:noindex
X-PUBLISHED-TTL:PT1H
BEGIN:VTIMEZONE
TZID:America/New_York
BEGIN:DAYLIGHT
TZOFFSETFROM:-0500
TZOFFSETTO:-0400
TZNAME:EDT
DTSTART:20240310T070000
END:DAYLIGHT
BEGIN:STANDARD
TZOFFSETFROM:-0400
TZOFFSETTO:-0500
TZNAME:EST
DTSTART:20241103T060000
END:STANDARD
BEGIN:DAYLIGHT
TZOFFSETFROM:-0500
TZOFFSETTO:-0400
TZNAME:EDT
DTSTART:20250309T070000
END:DAYLIGHT
BEGIN:STANDARD
TZOFFSETFROM:-0400
TZOFFSETTO:-0500
TZNAME:EST
DTSTART:20251102T060000
END:STANDARD
BEGIN:DAYLIGHT
TZOFFSETFROM:-0500
TZOFFSETTO:-0400
TZNAME:EDT
DTSTART:20260308T070000
END:DAYLIGHT
BEGIN:STANDARD
TZOFFSETFROM:-0400
TZOFFSETTO:-0500
TZNAME:EST
DTSTART:20261101T060000
END:STANDARD
END:VTIMEZONE
BEGIN:VEVENT
DTSTART;TZID=America/New_York:20251017T103000
DTEND;TZID=America/New_York:20251017T123000
DTSTAMP:20260424T051017
CREATED:20250924T144538Z
LAST-MODIFIED:20250924T144538Z
UID:24809-1760697000-1760704200@www.themiamiartscene.com
SUMMARY:The Official Art Deco Walking Tour by The Miami Design Preservation League
DESCRIPTION:Friday\, October 17th from 10:30am – 12:30pm experience the Official Art Deco District Walking Tour presented by the Miami Design Preservation League. This 1.5 to 2-hour walking tour provides an introduction to the Art Deco\, Mediterranean Revival\, and Miami Modern (MiMo) styles found within the Miami Beach Architectural Historic District. Explore hotels\, restaurants\, and other commercial structures with a visit to a number of interiors. Choose from select dates / PURCHASE TICKETS HERE. \nTour ticket includes free entry to the Art Deco Museum as well as 10% off at the Gift Shop.
URL:https://www.themiamiartscene.com/event/the-official-art-deco-walking-tour-by-the-miami-design-preservation-league-782/
LOCATION:Art Deco Welcome Center\, 1001 Ocean Drive\, Miami Beach\, FL\, 33139\, United States
ATTACH;FMTTYPE=image/jpeg:https://www.themiamiartscene.com/wp-content/uploads/2024/06/art-deco-miami-beach-leslie.jpeg
END:VEVENT
BEGIN:VEVENT
DTSTART;TZID=America/New_York:20251017T180000
DTEND;TZID=America/New_York:20251017T210000
DTSTAMP:20260424T051017
CREATED:20251007T173938Z
LAST-MODIFIED:20251007T173938Z
UID:24868-1760724000-1760734800@www.themiamiartscene.com
SUMMARY:The Coral Springs Museum of Art presents "Transitions"
DESCRIPTION:Friday\, October 17th from 6 – 9pm The Coral Springs Museum of Art is pleased to announce its next exhibition “Transitions”\, a partnership with SOBRA Collective\, featuring a collection of more than 30 works that reflect on moments of profound personal and collective change. \nA free Opening Reception will be held on Friday\, October 17 from 6 – 9pm. RSVP HERE. \n  \nIMAGE: ‘Super Natural Orbs Video Art Film’ by internationally collected Video/Sound Installation Artist & Photographer Cheryl Maeder\, best known for her conceptual style of photography\, video/sound art and filmmaking. The artist’s work is captivating\, optimistic and meaningful.
URL:https://www.themiamiartscene.com/event/the-coral-springs-museum-of-art-presents-transitions/
LOCATION:Coral Springs Museum of Art\, 2855 Coral Springs Drive\, Coral Springs\, FL\, 33065\, United States
ATTACH;FMTTYPE=image/jpeg:https://www.themiamiartscene.com/wp-content/uploads/2025/10/cheryl-maeder-orbs.jpeg
END:VEVENT
BEGIN:VEVENT
DTSTART;TZID=America/New_York:20251017T180000
DTEND;TZID=America/New_York:20251017T220000
DTSTAMP:20260424T051017
CREATED:20251015T042858Z
LAST-MODIFIED:20251015T042858Z
UID:24961-1760724000-1760738400@www.themiamiartscene.com
SUMMARY:The Contemporary Art Modern Project (CAMP Gallery) announces its 7th Edition of Women Pulling at The Threads of Social Discourse: Don’t be Absurd
DESCRIPTION:Friday\, October 17th from 6 – 10pm The Contemporary Art Modern Project (CAMP Gallery) invites you to the Opening Reception of its 7th Edition of Women Pulling at The Threads of Social Discourse: Don’t be Absurd\, at CAMP’s North Miami gallery with an artist and collector preview. RSVP HERE. \nOver 100 years ago Søren Aabye Kierkegaard set the stage for society to look beyond one’s own concerns with the start of Existentialism. Absurdism emerges after the Second World War as the world grappled with the sense of the meaninglessness of life due to an overwhelming indifference for humanity and the suffering of others. For this year’s edition of: Women Pulling at The Threads of Social Discourse\, and Guests: Don’t Be Absurd\, the exploration of Absurdism is done through the hands of fiber artists. Artists were asked to refer to works by: Albert Camus\, Franz Kafka\, Simone De Beauvoir\, Samuel Beckett\, and Jose Saramago and interpret the writings into circular fiber responses. This exhibition is on view October 17 — December 20\, 2025. \n  \nParticpating Artists:\nAdriana Carvalho\, Aida Tejada\, Ainaz Alipour\, Alexa Mac Crady\, Alice Raymond\, Alison Stein\, Allison Green\, Amy Llanes\, Amy Putman\, Angelica Bergamini\, Ana Garces Kiley\, Andrea Jablonski\, Andrea Venero Carrasco\, Angela Franklin\, Anji Woodley\, AnneIsabel Wenhammer\, Annie Lindberg\, Atelier Lustig\, Badru Temitayo\, Barbara Ringer\, Beth Toledo\, Brenda Kuong\, Brittany Kiertzner\, Camille Eskell\, Camille Nozay\, Carlos Gamez de Francisco\, Dana Donaty\, Daniela Reis\, David Zalben\, Debora Rosental\, Deborah Simon\, Eden Quispe\, Eileen Braun\, Eileen Hoffman\, Elham Shafael\, Emily Peters\, Eva Petrič\, Evania Sempeles\, Ewa Dąbkowska\, Fernanda Froes\, Frances Melhop\, Francisca Rodillo\, Fruma Markowitz\, Georgia Frambis\, Gin Stone\, Giulia Sanambrogio\, Han Cao\, Hannah Banciella\, Holis Hickerson\, Hou Guan Ting\, Jacqueline Myers-Cho\, Jamie Zimchek\, Janet M Muller\, Jeanne Ciravolo\, Joan Wheeler\, Joanne Steinhardt\, Jody Mac Donald\, Judy Polstra\, Karen Perry\, Katia Bandeira de Mello\, Katika\, Kimberly Bentley\, Laetitia Adam Rabel\, Laura Marsh\, Linda Fernandez\, Lindsay Overbey\, Lisa Rockford\, Lottie Emma\, Lydia Viscardi\, Mabelin Castellanos\, Macarena Zilveti\, Madeline Thoman\, Madison Hendry\, Margaret Roleke\, Maria Claudia Brigido\, Marine Fonteyne\, Marsha Borden\, Meghan Udell\, Melissa Campbell\, Melissa Zexter\, Michela Martello\, Mila Hajjar\, Molly Gambardella\, Monica Czukerberg\, Mychaelyn Michalec\, Nabila Valera\, Nan Robarge\, Nancy Tobin\, Natale Cree Adgnot\, Natalia Schonowski\, Nicole Durham\, Nina K Ekman\, Ola Rondiak\, Orsolya Illes\, Paula Jacobo Alonso Leon\, Rafael Montilla\, Rebecca White\, RemiJin Camping\, Renata Daina\, Rosa Henriquez\, Sarah Laing\, Sascha Mallon\, Sherry Davis\, Silvana Soriano\, Simona Fantappiè\, Sonja Czekalski\, Sophie Papiau\, Toni Thomas\, Micheal Sylvan Robinson\, Uta Kreher\, Vanda Berecz\, Valeria Salinas and Yochi Yakir-Avin.
URL:https://www.themiamiartscene.com/event/the-contemporary-art-modern-project-camp-gallery-announces-its-7th-edition-of-women-pulling-at-the-threads-of-social-discourse-dont-be-absurd/
LOCATION:The Contemporary Art Modern Project (The CAMP Gallery)\, 791-793 NE 125th Street\, North Miami\, FL\, 33161\, United States
ATTACH;FMTTYPE=image/jpeg:https://www.themiamiartscene.com/wp-content/uploads/2025/10/camp-gallery_dont-be-absurd.jpeg
END:VEVENT
END:VCALENDAR