BEGIN:VCALENDAR
VERSION:2.0
PRODID:-//Miami Art Scene™ - ECPv6.15.20//NONSGML v1.0//EN
CALSCALE:GREGORIAN
METHOD:PUBLISH
X-WR-CALNAME:Miami Art Scene™
X-ORIGINAL-URL:https://www.themiamiartscene.com
X-WR-CALDESC:Events for Miami Art Scene™
REFRESH-INTERVAL;VALUE=DURATION:PT1H
X-Robots-Tag:noindex
X-PUBLISHED-TTL:PT1H
BEGIN:VTIMEZONE
TZID:America/New_York
BEGIN:DAYLIGHT
TZOFFSETFROM:-0500
TZOFFSETTO:-0400
TZNAME:EDT
DTSTART:20250309T070000
END:DAYLIGHT
BEGIN:STANDARD
TZOFFSETFROM:-0400
TZOFFSETTO:-0500
TZNAME:EST
DTSTART:20251102T060000
END:STANDARD
BEGIN:DAYLIGHT
TZOFFSETFROM:-0500
TZOFFSETTO:-0400
TZNAME:EDT
DTSTART:20260308T070000
END:DAYLIGHT
BEGIN:STANDARD
TZOFFSETFROM:-0400
TZOFFSETTO:-0500
TZNAME:EST
DTSTART:20261101T060000
END:STANDARD
BEGIN:DAYLIGHT
TZOFFSETFROM:-0500
TZOFFSETTO:-0400
TZNAME:EDT
DTSTART:20270314T070000
END:DAYLIGHT
BEGIN:STANDARD
TZOFFSETFROM:-0400
TZOFFSETTO:-0500
TZNAME:EST
DTSTART:20271107T060000
END:STANDARD
END:VTIMEZONE
BEGIN:VEVENT
DTSTART;TZID=America/New_York:20260307T103000
DTEND;TZID=America/New_York:20260307T123000
DTSTAMP:20260423T162012
CREATED:20260213T223215Z
LAST-MODIFIED:20260213T223215Z
UID:25991-1772879400-1772886600@www.themiamiartscene.com
SUMMARY:The Official Art Deco Walking Tour by The Miami Design Preservation League
DESCRIPTION:Saturday\, March 7th from 10:30am – 12:30pm experience the Official Art Deco District Walking Tour presented by the Miami Design Preservation League. This 1.5 to 2-hour walking tour provides an introduction to the Art Deco\, Mediterranean Revival\, and Miami Modern (MiMo) styles found within the Miami Beach Architectural Historic District. Explore hotels\, restaurants\, and other commercial structures with a visit to a number of interiors. Choose from select dates / PURCHASE TICKETS HERE. \nTour ticket includes free entry to the Art Deco Museum as well as 10% off at the Gift Shop.
URL:https://www.themiamiartscene.com/event/the-official-art-deco-walking-tour-by-the-miami-design-preservation-league-925/
LOCATION:Art Deco Welcome Center\, 1001 Ocean Drive\, Miami Beach\, FL\, 33139\, United States
ATTACH;FMTTYPE=image/jpeg:https://www.themiamiartscene.com/wp-content/uploads/2023/10/art-deco-carlyle-miami-beach-e1696182712202.jpeg
END:VEVENT
BEGIN:VEVENT
DTSTART;TZID=America/New_York:20260307T160000
DTEND;TZID=America/New_York:20260307T200000
DTSTAMP:20260423T162012
CREATED:20260304T203419Z
LAST-MODIFIED:20260304T203419Z
UID:26165-1772899200-1772913600@www.themiamiartscene.com
SUMMARY:Downtown Doral Art Walk & Artisan Market
DESCRIPTION:Saturday\, March 7th from 4 – 8pm experience the Downtown Doral Art Walk & Artisan Market. Local artists and artisans transform Downtown Doral Park into an outdoor gallery and marketplace. The 8th annual Downtown Doral Art Walk & Artisan Market brings together area creators and performers for an afternoon of artistic discovery. \nShop your usual favorites while discovering unique art\, live painting\, arts & crafts\, personalized poems\, photo ops\, and music by a live DJ. \n\nArtisan vendors and handmade goods\nFresh\, locally sourced produce\nPrepared foods and sweet treats\nMusic throughout the market\nA relaxed\, family-friendly outdoor setting\nArts & Crafts by Art Shack\nLive Painting by JayRamirez\nPersonalized Poems\nPhoto Opportunities
URL:https://www.themiamiartscene.com/event/downtown-doral-art-walk-artisan-market/
LOCATION:Doral Central Park Turf Promenade\, 3005 NW 92nd Avenue\, Doral\, FL\, 33172\, United States
ATTACH;FMTTYPE=image/jpeg:https://www.themiamiartscene.com/wp-content/uploads/2026/03/doral.jpeg
END:VEVENT
END:VCALENDAR