BEGIN:VCALENDAR
VERSION:2.0
PRODID:-//Miami Art Scene™ - ECPv6.15.20//NONSGML v1.0//EN
CALSCALE:GREGORIAN
METHOD:PUBLISH
X-WR-CALNAME:Miami Art Scene™
X-ORIGINAL-URL:https://www.themiamiartscene.com
X-WR-CALDESC:Events for Miami Art Scene™
REFRESH-INTERVAL;VALUE=DURATION:PT1H
X-Robots-Tag:noindex
X-PUBLISHED-TTL:PT1H
BEGIN:VTIMEZONE
TZID:America/New_York
BEGIN:DAYLIGHT
TZOFFSETFROM:-0500
TZOFFSETTO:-0400
TZNAME:EDT
DTSTART:20240310T070000
END:DAYLIGHT
BEGIN:STANDARD
TZOFFSETFROM:-0400
TZOFFSETTO:-0500
TZNAME:EST
DTSTART:20241103T060000
END:STANDARD
BEGIN:DAYLIGHT
TZOFFSETFROM:-0500
TZOFFSETTO:-0400
TZNAME:EDT
DTSTART:20250309T070000
END:DAYLIGHT
BEGIN:STANDARD
TZOFFSETFROM:-0400
TZOFFSETTO:-0500
TZNAME:EST
DTSTART:20251102T060000
END:STANDARD
BEGIN:DAYLIGHT
TZOFFSETFROM:-0500
TZOFFSETTO:-0400
TZNAME:EDT
DTSTART:20260308T070000
END:DAYLIGHT
BEGIN:STANDARD
TZOFFSETFROM:-0400
TZOFFSETTO:-0500
TZNAME:EST
DTSTART:20261101T060000
END:STANDARD
END:VTIMEZONE
BEGIN:VEVENT
DTSTART;TZID=America/New_York:20250904T180000
DTEND;TZID=America/New_York:20250904T200000
DTSTAMP:20260424T064526
CREATED:20250904T215412Z
LAST-MODIFIED:20250904T215412Z
UID:24662-1757008800-1757016000@www.themiamiartscene.com
SUMMARY:Opening Reception for Melissa Wallen's “you are not an island” & Luna Palazzolo-Daboul’s "Scattered Pieces” in the Miami Design District
DESCRIPTION:Thursday\, September 4th from 6 – 8pm kick off the season of new exhibitions in Miami Design District‘s Paradise Plaza with two of the most exciting contemporary artists working in Miami today. Melissa Wallen’s “you are not an island” and Luna Palazzolo-Daboul’s “Scattered Pieces” invite visitors to explore themes of connection\, fragmentation and resilience in their work. This Event is FREE & Open to the Public. RSVP HERE.
URL:https://www.themiamiartscene.com/event/opening-reception-for-melissa-wallens-you-are-not-an-island-luna-palazzolo-dabouls-scattered-pieces-in-the-miami-design-district/
LOCATION:Miami Design District Paradise Plaza\, 151 NE 41st Street\, Miami\, FL\, 33137\, United States
ATTACH;FMTTYPE=image/png:https://www.themiamiartscene.com/wp-content/uploads/2025/09/paradise-plaza.png
END:VEVENT
BEGIN:VEVENT
DTSTART;TZID=America/New_York:20250913T110000
DTEND;TZID=America/New_York:20250913T120000
DTSTAMP:20260424T064526
CREATED:20250904T204703Z
LAST-MODIFIED:20250904T205119Z
UID:24652-1757761200-1757764800@www.themiamiartscene.com
SUMMARY:Miami Design District Public Art Tour
DESCRIPTION:Saturday\, September 13th from 11am – 12pm join the Miami Design District for a walking tour of the district\, explore the history of the art and architecture that characterize the neighborhood. Visit outdoor installations and murals including Buckminster Fuller Fly’s Eye Dome\, Virgil Abloh’s Dollar a Gallon\, Criola’s Interdimensional Portal\, and more. \nMeet in front of the Fly’s Eye Dome on the first floor of Palm Court (enter at 140 NE 39th Street). This Event is Free & Open to the Public. RSVP HERE.
URL:https://www.themiamiartscene.com/event/miami-design-district-public-art-tour-48/
LOCATION:Miami Design District Palm Court\, 140 NE 39th Street\, Miami\, FL\, 33137\, United States
ATTACH;FMTTYPE=image/jpeg:https://www.themiamiartscene.com/wp-content/uploads/2020/06/Miami-design-district-public-tours.jpg
END:VEVENT
BEGIN:VEVENT
DTSTART;TZID=America/New_York:20250926T183000
DTEND;TZID=America/New_York:20250926T203000
DTSTAMP:20260424T064526
CREATED:20250904T213112Z
LAST-MODIFIED:20250904T213112Z
UID:24657-1758911400-1758918600@www.themiamiartscene.com
SUMMARY:Opening for Ad Minoliti: Pink Spatial Microbiata in the Miami Design District
DESCRIPTION:Friday\, September 26th from 6:30 – 8:30pm enjoy the Opening for Ad Minoliti: Pink Spatial Microbiata in the Miami Design District for the unveiling of a new site-specific commission by Ad Minoliti. \nJoin us in the Miami Design District for the unveiling of a new site-specific commission by Ad Minoliti (Argentina\, born 1980)\, extending across four floors of the Buick Building. \nOpening reception followed by conversation with the artist. Limited capacity. RSVP is mandatory.
URL:https://www.themiamiartscene.com/event/opening-for-ad-minoliti-pink-spatial-microbiata-in-the-miami-design-district/
LOCATION:Buick Building in the Miami Design District\, Northeast 2nd Avenue\, Miami\, FL\, 33137\, United States
ATTACH;FMTTYPE=image/png:https://www.themiamiartscene.com/wp-content/uploads/2025/09/ad-m.png
END:VEVENT
BEGIN:VEVENT
DTSTART;TZID=America/New_York:20250927T110000
DTEND;TZID=America/New_York:20250927T120000
DTSTAMP:20260424T064526
CREATED:20250904T210939Z
LAST-MODIFIED:20250904T210939Z
UID:24655-1758970800-1758974400@www.themiamiartscene.com
SUMMARY:Miami Design District Public Art Tour
DESCRIPTION:Saturday\, September 27th from 11am – 12pm join the Miami Design District for a walking tour of the district\, explore the history of the art and architecture that characterize the neighborhood. Visit outdoor installations and murals including Buckminster Fuller Fly’s Eye Dome\, Virgil Abloh’s Dollar a Gallon\, Criola’s Interdimensional Portal\, and more. \nMeet in front of the Fly’s Eye Dome on the first floor of Palm Court (enter at 140 NE 39th Street). This Event is Free & Open to the Public. RSVP HERE.
URL:https://www.themiamiartscene.com/event/miami-design-district-public-art-tour-49/
LOCATION:Miami Design District Palm Court\, 140 NE 39th Street\, Miami\, FL\, 33137\, United States
ATTACH;FMTTYPE=image/jpeg:https://www.themiamiartscene.com/wp-content/uploads/2025/01/miami-design-district-public-art-tour-2025.jpeg
END:VEVENT
END:VCALENDAR