BEGIN:VCALENDAR
VERSION:2.0
PRODID:-//Miami Art Scene™ - ECPv6.15.20//NONSGML v1.0//EN
CALSCALE:GREGORIAN
METHOD:PUBLISH
X-ORIGINAL-URL:https://www.themiamiartscene.com
X-WR-CALDESC:Events for Miami Art Scene™
REFRESH-INTERVAL;VALUE=DURATION:PT1H
X-Robots-Tag:noindex
X-PUBLISHED-TTL:PT1H
BEGIN:VTIMEZONE
TZID:America/New_York
BEGIN:DAYLIGHT
TZOFFSETFROM:-0500
TZOFFSETTO:-0400
TZNAME:EDT
DTSTART:20250309T070000
END:DAYLIGHT
BEGIN:STANDARD
TZOFFSETFROM:-0400
TZOFFSETTO:-0500
TZNAME:EST
DTSTART:20251102T060000
END:STANDARD
BEGIN:DAYLIGHT
TZOFFSETFROM:-0500
TZOFFSETTO:-0400
TZNAME:EDT
DTSTART:20260308T070000
END:DAYLIGHT
BEGIN:STANDARD
TZOFFSETFROM:-0400
TZOFFSETTO:-0500
TZNAME:EST
DTSTART:20261101T060000
END:STANDARD
BEGIN:DAYLIGHT
TZOFFSETFROM:-0500
TZOFFSETTO:-0400
TZNAME:EDT
DTSTART:20270314T070000
END:DAYLIGHT
BEGIN:STANDARD
TZOFFSETFROM:-0400
TZOFFSETTO:-0500
TZNAME:EST
DTSTART:20271107T060000
END:STANDARD
END:VTIMEZONE
BEGIN:VEVENT
DTSTART;TZID=America/New_York:20260102T090000
DTEND;TZID=America/New_York:20260104T160000
DTSTAMP:20260423T211626
CREATED:20251223T231006Z
LAST-MODIFIED:20251223T231006Z
UID:25719-1767344400-1767542400@www.themiamiartscene.com
SUMMARY:West Palm Beach Antique Festival
DESCRIPTION:Friday\, January 2nd through Sunday\, January 4th enjoy the West Palm Beach Antique Festival\, Florida’s largest monthly antique & vintage show\, featuring Antiques\, Vintage\, Art & Design at The South Florida Fairgrounds. Everything from Pyrex to Rolex. Over 80\,000 square feet of vintage treasure awaits. Discover one-of-a-kind finds from hundreds of vendors at the West Palm Beach Antiques Festival—South Florida’s must-shop event for antiques\, vintage\, art\, and design. From vintage fashion and fine jewelry to mid-century modern\, original art\, and that perfect statement handbag\, it’s all under one roof. \nFirst Full Weekend of Every Month | Friday–Sunday | South Florida Fairgrounds – West Expo and Buildings 6-10\, over 300+ Booths. Endless Possibilities. \nYour next great find is waiting!
URL:https://www.themiamiartscene.com/event/west-palm-beach-antique-festival-2/
LOCATION:West Palm Beach Antiques Festival\, 9067 Southern Boulevard\, West Palm Beach\, FL\, 33411\, United States
ATTACH;FMTTYPE=image/jpeg:https://www.themiamiartscene.com/wp-content/uploads/2025/07/wpb-antique-festival.jpeg
END:VEVENT
BEGIN:VEVENT
DTSTART;TZID=America/New_York:20260110T110000
DTEND;TZID=America/New_York:20260110T120000
DTSTAMP:20260423T211626
CREATED:20251213T195659Z
LAST-MODIFIED:20251213T195659Z
UID:25558-1768042800-1768046400@www.themiamiartscene.com
SUMMARY:Miami Design District Public Art Tour
DESCRIPTION:Saturday\, January 10th from 11am – 12pm join the Miami Design District for a walking tour of the district\, explore the history of the art and architecture that characterize the neighborhood. Visit outdoor installations and murals including Buckminster Fuller Fly’s Eye Dome\, Virgil Abloh’s Dollar a Gallon\, Criola’s Interdimensional Portal\, and more. \nMeet in front of the Fly’s Eye Dome on the first floor of Palm Court (enter at 140 NE 39th Street). This Event is Free & Open to the Public. RSVP HERE.
URL:https://www.themiamiartscene.com/event/miami-design-district-public-art-tour-52/
LOCATION:Miami Design District Palm Court\, 140 NE 39th Street\, Miami\, FL\, 33137\, United States
ATTACH;FMTTYPE=image/jpeg:https://www.themiamiartscene.com/wp-content/uploads/2025/12/public-art-tour_530488.jpeg
END:VEVENT
BEGIN:VEVENT
DTSTART;TZID=America/New_York:20260124T110000
DTEND;TZID=America/New_York:20260124T120000
DTSTAMP:20260423T211626
CREATED:20251213T200008Z
LAST-MODIFIED:20251213T200008Z
UID:25561-1769252400-1769256000@www.themiamiartscene.com
SUMMARY:Miami Design District Public Art Tour
DESCRIPTION:Saturday\, January 24th from 11am – 12pm join the Miami Design District for a walking tour of the district\, explore the history of the art and architecture that characterize the neighborhood. Visit outdoor installations and murals including Buckminster Fuller Fly’s Eye Dome\, Virgil Abloh’s Dollar a Gallon\, Criola’s Interdimensional Portal\, and more. \nMeet in front of the Fly’s Eye Dome on the first floor of Palm Court (enter at 140 NE 39th Street). This Event is Free & Open to the Public. RSVP HERE.
URL:https://www.themiamiartscene.com/event/miami-design-district-public-art-tour-53/
LOCATION:Miami Design District Palm Court\, 140 NE 39th Street\, Miami\, FL\, 33137\, United States
ATTACH;FMTTYPE=image/jpeg:https://www.themiamiartscene.com/wp-content/uploads/2025/01/miami-design-district-public-art-tour-2025.jpeg
END:VEVENT
END:VCALENDAR