BEGIN:VCALENDAR
VERSION:2.0
PRODID:-//Miami Art Scene™ - ECPv6.15.20//NONSGML v1.0//EN
CALSCALE:GREGORIAN
METHOD:PUBLISH
X-ORIGINAL-URL:https://www.themiamiartscene.com
X-WR-CALDESC:Events for Miami Art Scene™
REFRESH-INTERVAL;VALUE=DURATION:PT1H
X-Robots-Tag:noindex
X-PUBLISHED-TTL:PT1H
BEGIN:VTIMEZONE
TZID:America/New_York
BEGIN:DAYLIGHT
TZOFFSETFROM:-0500
TZOFFSETTO:-0400
TZNAME:EDT
DTSTART:20240310T070000
END:DAYLIGHT
BEGIN:STANDARD
TZOFFSETFROM:-0400
TZOFFSETTO:-0500
TZNAME:EST
DTSTART:20241103T060000
END:STANDARD
BEGIN:DAYLIGHT
TZOFFSETFROM:-0500
TZOFFSETTO:-0400
TZNAME:EDT
DTSTART:20250309T070000
END:DAYLIGHT
BEGIN:STANDARD
TZOFFSETFROM:-0400
TZOFFSETTO:-0500
TZNAME:EST
DTSTART:20251102T060000
END:STANDARD
BEGIN:DAYLIGHT
TZOFFSETFROM:-0500
TZOFFSETTO:-0400
TZNAME:EDT
DTSTART:20260308T070000
END:DAYLIGHT
BEGIN:STANDARD
TZOFFSETFROM:-0400
TZOFFSETTO:-0500
TZNAME:EST
DTSTART:20261101T060000
END:STANDARD
END:VTIMEZONE
BEGIN:VEVENT
DTSTART;TZID=America/New_York:20250404T110000
DTEND;TZID=America/New_York:20250406T180000
DTSTAMP:20260425T124343
CREATED:20250404T133549Z
LAST-MODIFIED:20250404T133549Z
UID:23510-1743764400-1743962400@www.themiamiartscene.com
SUMMARY:Meet-The-Artist Reception & Art Exhibition featuring Abby Modell at Posh Gallery in Delray Beach April 4 - 6\, 2025
DESCRIPTION:Friday\, April 4th through Sunday\, April 6th collectors and art aficionados are cordially invited to preview new works by renowned glass artist Abby Modell. Guests will enjoy a Meet-The-Artist Reception at Posh Art Gallery in Delray Beach this weekend along with a spectacular exhibition of new works by Modell. This Event is Free & Open to the Public | RSVP to margaroleary@aol.com (or) call (516)532-9749. \nExperience Modell’s new Galaxy Collection illustrating the movement and luminosity of the universe\, with an Artist Reception on Saturday\, April 5th from 4:00pm – 6:00pm. The artist’s vision of celestial waterfalls and cosmic butterflies are interpreted throughout the collection which includes Wall Art\, Sculptural Objects and LED Lighting. Modell specializes in hand-applied glass assemblages on three-dimensional surfaces\, developed through her exploration of contemporary glass techniques. \n  \nFor further information: www.abbymodell.com\nFollow Abby Modell on Instagram @AbbyModell \nArtist Reception: Saturday\, April 5th from 4:00pm – 6:00pm \nNew work on view:\nFriday\, April 4th – 11:00am – 7:00pm\nSaturday\, April 5th – 11:00am – 7:00pm\nSunday\, April 6th – 12:00pm – 6:00pm
URL:https://www.themiamiartscene.com/event/meet-the-artist-reception-and-art-exhibition-featuring-abby-modell-at-posh-gallery-in-delray-beach-april-4-6-2025/
LOCATION:Posh Art Gallery\, 9089 Atlantic Avenue #104\, Delray Beach\, FL\, 33446\, United States
ATTACH;FMTTYPE=image/jpeg:https://www.themiamiartscene.com/wp-content/uploads/2025/04/AModell-PoshGallery-Evite-032025-Final.jpeg
END:VEVENT
BEGIN:VEVENT
DTSTART;TZID=America/New_York:20250405T103000
DTEND;TZID=America/New_York:20250405T123000
DTSTAMP:20260425T124343
CREATED:20250329T213048Z
LAST-MODIFIED:20250329T213048Z
UID:23440-1743849000-1743856200@www.themiamiartscene.com
SUMMARY:The Official Art Deco Walking Tour by The Miami Design Preservation League
DESCRIPTION:Saturday\, April 5th from 10:30am – 12:30pm experience the Official Art Deco District Walking Tour presented by the Miami Design Preservation League. This 1.5 to 2-hour walking tour provides an introduction to the Art Deco\, Mediterranean Revival\, and Miami Modern (MiMo) styles found within the Miami Beach Architectural Historic District. Explore hotels\, restaurants\, and other commercial structures with a visit to a number of interiors. Choose from select dates / PURCHASE TICKETS HERE. \nTour ticket includes free entry to the Art Deco Museum as well as 10% off at the Gift Shop.
URL:https://www.themiamiartscene.com/event/the-official-art-deco-walking-tour-by-the-miami-design-preservation-league-587/
LOCATION:Art Deco Welcome Center\, 1001 Ocean Drive\, Miami Beach\, FL\, 33139\, United States
ATTACH;FMTTYPE=image/jpeg:https://www.themiamiartscene.com/wp-content/uploads/2023/02/art-deco-miami-beach-2023.jpg
END:VEVENT
END:VCALENDAR