BEGIN:VCALENDAR
VERSION:2.0
PRODID:-//Miami Art Scene™ - ECPv6.15.20//NONSGML v1.0//EN
CALSCALE:GREGORIAN
METHOD:PUBLISH
X-WR-CALNAME:Miami Art Scene™
X-ORIGINAL-URL:https://www.themiamiartscene.com
X-WR-CALDESC:Events for Miami Art Scene™
REFRESH-INTERVAL;VALUE=DURATION:PT1H
X-Robots-Tag:noindex
X-PUBLISHED-TTL:PT1H
BEGIN:VTIMEZONE
TZID:America/New_York
BEGIN:DAYLIGHT
TZOFFSETFROM:-0500
TZOFFSETTO:-0400
TZNAME:EDT
DTSTART:20240310T070000
END:DAYLIGHT
BEGIN:STANDARD
TZOFFSETFROM:-0400
TZOFFSETTO:-0500
TZNAME:EST
DTSTART:20241103T060000
END:STANDARD
BEGIN:DAYLIGHT
TZOFFSETFROM:-0500
TZOFFSETTO:-0400
TZNAME:EDT
DTSTART:20250309T070000
END:DAYLIGHT
BEGIN:STANDARD
TZOFFSETFROM:-0400
TZOFFSETTO:-0500
TZNAME:EST
DTSTART:20251102T060000
END:STANDARD
BEGIN:DAYLIGHT
TZOFFSETFROM:-0500
TZOFFSETTO:-0400
TZNAME:EDT
DTSTART:20260308T070000
END:DAYLIGHT
BEGIN:STANDARD
TZOFFSETFROM:-0400
TZOFFSETTO:-0500
TZNAME:EST
DTSTART:20261101T060000
END:STANDARD
END:VTIMEZONE
BEGIN:VEVENT
DTSTART;TZID=America/New_York:20250424T103000
DTEND;TZID=America/New_York:20250424T123000
DTSTAMP:20260425T085443
CREATED:20250329T220057Z
LAST-MODIFIED:20250329T220057Z
UID:23478-1745490600-1745497800@www.themiamiartscene.com
SUMMARY:The Official Art Deco Walking Tour by The Miami Design Preservation League
DESCRIPTION:Thursday\, April 24th from 10:30am – 12:30pm experience the Official Art Deco District Walking Tour presented by the Miami Design Preservation League. This 1.5 to 2-hour walking tour provides an introduction to the Art Deco\, Mediterranean Revival\, and Miami Modern (MiMo) styles found within the Miami Beach Architectural Historic District. Explore hotels\, restaurants\, and other commercial structures with a visit to a number of interiors. Choose from select dates / PURCHASE TICKETS HERE. \nTour ticket includes free entry to the Art Deco Museum as well as 10% off at the Gift Shop.
URL:https://www.themiamiartscene.com/event/the-official-art-deco-walking-tour-by-the-miami-design-preservation-league-606/
LOCATION:Art Deco Welcome Center\, 1001 Ocean Drive\, Miami Beach\, FL\, 33139\, United States
ATTACH;FMTTYPE=image/jpeg:https://www.themiamiartscene.com/wp-content/uploads/2024/04/miami-beach-art-deco-crescent.jpeg
END:VEVENT
BEGIN:VEVENT
DTSTART;TZID=America/New_York:20250424T180000
DTEND;TZID=America/New_York:20250424T200000
DTSTAMP:20260425T085443
CREATED:20250423T182844Z
LAST-MODIFIED:20250423T182844Z
UID:23608-1745517600-1745524800@www.themiamiartscene.com
SUMMARY:Frank Contemporaries: Of Seeing and Being
DESCRIPTION:Thursday\, April 24th from 6 – 8pm enjoy a Conversation with Giannina Dwin and Tony Fernandez\, guided by curators Liliam Dominguez and Sophie Bonet at The Frank Gallery in Pembroke Pines. Don’t miss artists Giannina Dwin and Tony Fernandez discussing their work featured in “Of Seeing and Being” an exhibition part of the Deering Estate at The Frank Program. Of Seeing and Being is on view at The Frank Gallery from March 13 – June 7\, 2025. \nJoined by curator Liliam Dominguez\, Dwin and Fernandez will discuss the themes of presence\, absence\, and the interplay between the visible and the hidden found in their artworks on exhibit. \n  \nEvent Details: \n• Doors Open: 6:00 PM \n• Panel Discussion: 6:30 PM–7:30 PM \n• Exhibition Viewing: 7:30–8:00 PM \n  \nThe event includes a Q&A session and light refreshments. \nAdmission: Free | All Ages Welcome
URL:https://www.themiamiartscene.com/event/frank-contemporaries-of-seeing-and-being/
LOCATION:The Frank\, 601 City Center Way\, Pembroke Pines\, FL\, 33025\, United States
ATTACH;FMTTYPE=image/jpeg:https://www.themiamiartscene.com/wp-content/uploads/2025/04/April-FrankContemporaries.jpeg
END:VEVENT
BEGIN:VEVENT
DTSTART;TZID=America/New_York:20250424T200000
DTEND;TZID=America/New_York:20250424T230000
DTSTAMP:20260425T085443
CREATED:20250424T142713Z
LAST-MODIFIED:20250424T142713Z
UID:23611-1745524800-1745535600@www.themiamiartscene.com
SUMMARY:The Bass presents Night at the Museum
DESCRIPTION:Thursday\, April 24th from 8 – 11pm The Bass invites you to their annual members-only EXTRAvaganza\, Night at the Museum! Guests will enjoy a grand evening\, celebrating artists in this splendid art-themed extravaganza. Don’t miss your chance to showcase your creativity through your most lavish ARTtire ensemble\, with fashions inspired by the museum’s current exhibitions. \nDress to impress and be EXTRA. The Best ARTtire prize will be awarded to the most stylish ensemble inspired by the exhibitions on view. Mingle with some of your favorite artists while experiencing the museum’s exhibitions\, enhanced with open bar\, culinary delights\, dancing\, and more! \nNight at the Museum is The Bass’ signature event! Museum members at the Affiliate level ($250) receive two complimentary tickets. Members enjoy additional benefits throughout the year including free museum admission\, invitation to special events\, discounts\, advance registration\, and more! \nTo join\, upgrade or renew\, visit the museum’s Membership page. Members can RSVP NOW.
URL:https://www.themiamiartscene.com/event/the-bass-presents-night-at-the-museum-2/
LOCATION:The Bass\, 2100 Collins Avenue\, Miami Beach\, FL\, 33139\, United States
ATTACH;FMTTYPE=image/gif:https://www.themiamiartscene.com/wp-content/uploads/2025/04/the-bass_night-at-the-museum.gif
END:VEVENT
END:VCALENDAR