BEGIN:VCALENDAR
VERSION:2.0
PRODID:-//Miami Art Scene™ - ECPv6.15.20//NONSGML v1.0//EN
CALSCALE:GREGORIAN
METHOD:PUBLISH
X-WR-CALNAME:Miami Art Scene™
X-ORIGINAL-URL:https://www.themiamiartscene.com
X-WR-CALDESC:Events for Miami Art Scene™
REFRESH-INTERVAL;VALUE=DURATION:PT1H
X-Robots-Tag:noindex
X-PUBLISHED-TTL:PT1H
BEGIN:VTIMEZONE
TZID:America/New_York
BEGIN:DAYLIGHT
TZOFFSETFROM:-0500
TZOFFSETTO:-0400
TZNAME:EDT
DTSTART:20240310T070000
END:DAYLIGHT
BEGIN:STANDARD
TZOFFSETFROM:-0400
TZOFFSETTO:-0500
TZNAME:EST
DTSTART:20241103T060000
END:STANDARD
BEGIN:DAYLIGHT
TZOFFSETFROM:-0500
TZOFFSETTO:-0400
TZNAME:EDT
DTSTART:20250309T070000
END:DAYLIGHT
BEGIN:STANDARD
TZOFFSETFROM:-0400
TZOFFSETTO:-0500
TZNAME:EST
DTSTART:20251102T060000
END:STANDARD
BEGIN:DAYLIGHT
TZOFFSETFROM:-0500
TZOFFSETTO:-0400
TZNAME:EDT
DTSTART:20260308T070000
END:DAYLIGHT
BEGIN:STANDARD
TZOFFSETFROM:-0400
TZOFFSETTO:-0500
TZNAME:EST
DTSTART:20261101T060000
END:STANDARD
END:VTIMEZONE
BEGIN:VEVENT
DTSTART;TZID=America/New_York:20250614T100000
DTEND;TZID=America/New_York:20250614T180000
DTSTAMP:20260425T122203
CREATED:20250611T145345Z
LAST-MODIFIED:20250611T145345Z
UID:23941-1749895200-1749924000@www.themiamiartscene.com
SUMMARY:Coral Gables Museum: Family Day on Aragon
DESCRIPTION:Saturday\, June 14th from 10am – 6pm celebrate Father’s Day and Coral Gables Firefighters at the Coral Gables Museum’s special Family Day! Bring the whole family for a day of fun\, learning\, and community spirit. Kids can become Jr. Firefighters with hands-on activities\, and the first 50 young visitors will receive a free Firefighter Goody Bag! \n  \n\n\nEnjoy a full day of excitement including:  \n10 AM–6 PM: Blood Donation Bus (give back to the community!)  \n\n\n\n\n11 AM: ITP Father’s Day Performance  \n12:30 PM: Storytime   \n1 PM: Firefighting Art Making Workshop  \nPlus\, meet real Coral Gables Firefighters and discover more surprises throughout the day! Full schedule with firefighter appearances coming soon. Don’t miss this memorable celebration honoring dads and our local heroes! 
URL:https://www.themiamiartscene.com/event/coral-gables-museum-family-day-on-aragon/
LOCATION:Coral Gables Museum\, 285 Aragon Avenue\, Coral Gables\, FL\, 33134\, United States
ATTACH;FMTTYPE=image/png:https://www.themiamiartscene.com/wp-content/uploads/2025/06/coral-gables-museum-family-day.png
END:VEVENT
BEGIN:VEVENT
DTSTART;TZID=America/New_York:20250614T103000
DTEND;TZID=America/New_York:20250614T123000
DTSTAMP:20260425T122203
CREATED:20250525T030010Z
LAST-MODIFIED:20250525T030010Z
UID:23887-1749897000-1749904200@www.themiamiartscene.com
SUMMARY:The Official Art Deco Walking Tour by The Miami Design Preservation League
DESCRIPTION:Saturday\, June 14th from 10:30am – 12:30pm experience the Official Art Deco District Walking Tour presented by the Miami Design Preservation League. This 1.5 to 2-hour walking tour provides an introduction to the Art Deco\, Mediterranean Revival\, and Miami Modern (MiMo) styles found within the Miami Beach Architectural Historic District. Explore hotels\, restaurants\, and other commercial structures with a visit to a number of interiors. Choose from select dates / PURCHASE TICKETS HERE. \nTour ticket includes free entry to the Art Deco Museum as well as 10% off at the Gift Shop.
URL:https://www.themiamiartscene.com/event/the-official-art-deco-walking-tour-by-the-miami-design-preservation-league-657/
LOCATION:Art Deco Welcome Center\, 1001 Ocean Drive\, Miami Beach\, FL\, 33139\, United States
ATTACH;FMTTYPE=image/jpeg:https://www.themiamiartscene.com/wp-content/uploads/2023/06/miami-beach-art-deco-district.jpg
END:VEVENT
BEGIN:VEVENT
DTSTART;TZID=America/New_York:20250614T120000
DTEND;TZID=America/New_York:20250614T133000
DTSTAMP:20260425T122203
CREATED:20250523T024916Z
LAST-MODIFIED:20250523T024916Z
UID:23848-1749902400-1749907800@www.themiamiartscene.com
SUMMARY:NSU Art Museum presents Creativity Exploration: Curving\, Coiling\, and Creating
DESCRIPTION:Saturday\, June 14th from 12 Noon – 1:30 pm NSU Art Museum presents Creativity Exploration: Curving\, Coiling\, and Creating. Inspired by the artist Joana Schneider\, form a work of art by coiling and curving cord\, yarn\, and rope into an organic shape\, going with the flow and peacefully creating. \nCreativity Exploration adult workshops promote the benefits of material exploration and the mind-to-body experience. Studies have shown that 45 minutes of creative activity a day reduces stress and offers mental clarity and relaxation. In addition to producing a sense of well-being\, sessions expand participants’ perceptions of forms\, while increasing brain connectivity through visual and cognitive stimulation. The workshop is led by educator Lark Keeler\, a specialist in mindfulness education. \nPreregistration Required. Space is Limited.
URL:https://www.themiamiartscene.com/event/nsu-art-museum-presents-creativity-exploration-curving-coiling-and-creating/
LOCATION:NSU Art Museum\, One East Las Olas Boulevard\, Fort Lauderdale\, FL\, 33301\, United States
ATTACH;FMTTYPE=image/jpeg:https://www.themiamiartscene.com/wp-content/uploads/2025/05/nsu-creativity-exploration-curving-coiling-and-creating-e1747968464542.jpg
END:VEVENT
END:VCALENDAR