BEGIN:VCALENDAR
VERSION:2.0
PRODID:-//Miami Art Scene™ - ECPv6.15.20//NONSGML v1.0//EN
CALSCALE:GREGORIAN
METHOD:PUBLISH
X-ORIGINAL-URL:https://www.themiamiartscene.com
X-WR-CALDESC:Events for Miami Art Scene™
REFRESH-INTERVAL;VALUE=DURATION:PT1H
X-Robots-Tag:noindex
X-PUBLISHED-TTL:PT1H
BEGIN:VTIMEZONE
TZID:America/New_York
BEGIN:DAYLIGHT
TZOFFSETFROM:-0500
TZOFFSETTO:-0400
TZNAME:EDT
DTSTART:20240310T070000
END:DAYLIGHT
BEGIN:STANDARD
TZOFFSETFROM:-0400
TZOFFSETTO:-0500
TZNAME:EST
DTSTART:20241103T060000
END:STANDARD
BEGIN:DAYLIGHT
TZOFFSETFROM:-0500
TZOFFSETTO:-0400
TZNAME:EDT
DTSTART:20250309T070000
END:DAYLIGHT
BEGIN:STANDARD
TZOFFSETFROM:-0400
TZOFFSETTO:-0500
TZNAME:EST
DTSTART:20251102T060000
END:STANDARD
BEGIN:DAYLIGHT
TZOFFSETFROM:-0500
TZOFFSETTO:-0400
TZNAME:EDT
DTSTART:20260308T070000
END:DAYLIGHT
BEGIN:STANDARD
TZOFFSETFROM:-0400
TZOFFSETTO:-0500
TZNAME:EST
DTSTART:20261101T060000
END:STANDARD
END:VTIMEZONE
BEGIN:VEVENT
DTSTART;TZID=America/New_York:20250814T190000
DTEND;TZID=America/New_York:20250816T010000
DTSTAMP:20260424T041025
CREATED:20250806T194008Z
LAST-MODIFIED:20250807T012341Z
UID:24461-1755198000-1755306000@www.themiamiartscene.com
SUMMARY:Experience Nude Nite Miami
DESCRIPTION:Thursday\, August 14th through Saturday\, August 16th from 7pm – 1am experience Nude Nite Miami Edition in the Wynwood Art District. After over 20 years of captivating audiences in Orlando and Tampa\, Nude Nite\, the nation’s largest celebration of figurative art\, makes its highly anticipated return to Miami—its first in eight years—at the newly opened 555 Studios Wynwood. From August 14–16\, 2025\, this groundbreaking three-night event will transform the venue into a provocative and empowering art experience unlike anything else in the city. \nNude Nite is more than an art show — it’s a celebration of artistic expression\, human vulnerability\, and the beauty of the nude form. Purchase Tickets Here.
URL:https://www.themiamiartscene.com/event/experience-nude-nite-miami/
LOCATION:555 Entertainment\, 555 Northwest 29th Street\, Miami\, FL\, 33127\, United States
ATTACH;FMTTYPE=image/jpeg:https://www.themiamiartscene.com/wp-content/uploads/2025/08/Poster-MiamiNN25-e1754515182863.jpg
END:VEVENT
BEGIN:VEVENT
DTSTART;TZID=America/New_York:20250815T103000
DTEND;TZID=America/New_York:20250815T123000
DTSTAMP:20260424T041025
CREATED:20250731T030637Z
LAST-MODIFIED:20250731T030637Z
UID:24371-1755253800-1755261000@www.themiamiartscene.com
SUMMARY:The Official Art Deco Walking Tour by The Miami Design Preservation League
DESCRIPTION:Friday\, August 15th from 10:30am – 12:30pm experience the Official Art Deco District Walking Tour presented by the Miami Design Preservation League. This 1.5 to 2-hour walking tour provides an introduction to the Art Deco\, Mediterranean Revival\, and Miami Modern (MiMo) styles found within the Miami Beach Architectural Historic District. Explore hotels\, restaurants\, and other commercial structures with a visit to a number of interiors. Choose from select dates / PURCHASE TICKETS HERE. \nTour ticket includes free entry to the Art Deco Museum as well as 10% off at the Gift Shop.
URL:https://www.themiamiartscene.com/event/the-official-art-deco-walking-tour-by-the-miami-design-preservation-league-719/
LOCATION:Art Deco Welcome Center\, 1001 Ocean Drive\, Miami Beach\, FL\, 33139\, United States
ATTACH;FMTTYPE=image/jpeg:https://www.themiamiartscene.com/wp-content/uploads/2023/02/art-deco-miami-beach-2023.jpg
END:VEVENT
END:VCALENDAR