BEGIN:VCALENDAR
VERSION:2.0
PRODID:-//Miami Art Scene™ - ECPv6.15.20//NONSGML v1.0//EN
CALSCALE:GREGORIAN
METHOD:PUBLISH
X-ORIGINAL-URL:https://www.themiamiartscene.com
X-WR-CALDESC:Events for Miami Art Scene™
REFRESH-INTERVAL;VALUE=DURATION:PT1H
X-Robots-Tag:noindex
X-PUBLISHED-TTL:PT1H
BEGIN:VTIMEZONE
TZID:America/New_York
BEGIN:DAYLIGHT
TZOFFSETFROM:-0500
TZOFFSETTO:-0400
TZNAME:EDT
DTSTART:20240310T070000
END:DAYLIGHT
BEGIN:STANDARD
TZOFFSETFROM:-0400
TZOFFSETTO:-0500
TZNAME:EST
DTSTART:20241103T060000
END:STANDARD
BEGIN:DAYLIGHT
TZOFFSETFROM:-0500
TZOFFSETTO:-0400
TZNAME:EDT
DTSTART:20250309T070000
END:DAYLIGHT
BEGIN:STANDARD
TZOFFSETFROM:-0400
TZOFFSETTO:-0500
TZNAME:EST
DTSTART:20251102T060000
END:STANDARD
BEGIN:DAYLIGHT
TZOFFSETFROM:-0500
TZOFFSETTO:-0400
TZNAME:EDT
DTSTART:20260308T070000
END:DAYLIGHT
BEGIN:STANDARD
TZOFFSETFROM:-0400
TZOFFSETTO:-0500
TZNAME:EST
DTSTART:20261101T060000
END:STANDARD
END:VTIMEZONE
BEGIN:VEVENT
DTSTART;TZID=America/New_York:20251015T103000
DTEND;TZID=America/New_York:20251015T120000
DTSTAMP:20260424T000409
CREATED:20251013T173529Z
LAST-MODIFIED:20251013T173529Z
UID:24899-1760524200-1760529600@www.themiamiartscene.com
SUMMARY:Friends of NSU Art Museum Presents: Meeting & Luncheon with Marion Fass
DESCRIPTION:Wednesday\, October 15th from 10:30am – 12pm Friends of NSU Art Museum Presents: Meeting & Luncheon with Marion Fass. Experience a Lecture by Marion Fass\, Docent Speakers’ Bureau: Highlight from the NSU Art Museum Collection. PURCHASE TICKETS | RSVP HERE. \nJoin NSU Art Museum for the Friends Season Opener with an overview of the noteworthy art collections recently donated to the museum. From Christo & Jeanne-Claude’s Surrounded Islands to the expanded Latin American collection to Joel Meyerowitz’s stunning photographs\, something for everyone to enjoy. This lecture will highlight the old and new artworks that have attracted the notice of the New York Times\, the Miami Herald\, Forbes\, Ebony\, and other major media. \nWednesday\, October 15\, 2025\nAt 10:30 am\nLunch will follow\nNSU Art Museum Fort Lauderdale–Norma and William Horvitz Auditorium\nOne East Las Olas Blvd.\, Fort Lauderdale\, FL\, 33301\nFree Presentation / Lunch: Members and Guests $30 per person\nRSVP BY October 8\, 2025\n  \n  \n 
URL:https://www.themiamiartscene.com/event/friends-of-nsu-art-museum-presents-meeting-luncheon-with-marion-fass/
LOCATION:NSU Art Museum\, One East Las Olas Boulevard\, Fort Lauderdale\, FL\, 33301\, United States
ATTACH;FMTTYPE=image/jpeg:https://www.themiamiartscene.com/wp-content/uploads/2025/10/nsu-new-exhibitions-e1760376858952.jpeg
END:VEVENT
BEGIN:VEVENT
DTSTART;TZID=America/New_York:20251015T103000
DTEND;TZID=America/New_York:20251015T123000
DTSTAMP:20260424T000409
CREATED:20250924T144144Z
LAST-MODIFIED:20250924T144144Z
UID:24805-1760524200-1760531400@www.themiamiartscene.com
SUMMARY:The Official Art Deco Walking Tour by The Miami Design Preservation League
DESCRIPTION:Wednesday\, October 15th from 10:30am – 12:30pm experience the Official Art Deco District Walking Tour presented by the Miami Design Preservation League. This 1.5 to 2-hour walking tour provides an introduction to the Art Deco\, Mediterranean Revival\, and Miami Modern (MiMo) styles found within the Miami Beach Architectural Historic District. Explore hotels\, restaurants\, and other commercial structures with a visit to a number of interiors. Choose from select dates / PURCHASE TICKETS HERE. \nTour ticket includes free entry to the Art Deco Museum as well as 10% off at the Gift Shop.
URL:https://www.themiamiartscene.com/event/the-official-art-deco-walking-tour-by-the-miami-design-preservation-league-780/
LOCATION:Art Deco Welcome Center\, 1001 Ocean Drive\, Miami Beach\, FL\, 33139\, United States
ATTACH;FMTTYPE=image/jpeg:https://www.themiamiartscene.com/wp-content/uploads/2023/03/art-deco-walking-tours.jpg
END:VEVENT
BEGIN:VEVENT
DTSTART;TZID=America/New_York:20251015T110000
DTEND;TZID=America/New_York:20251015T143000
DTSTAMP:20260424T000409
CREATED:20251013T210019Z
LAST-MODIFIED:20251013T210019Z
UID:24912-1760526000-1760538600@www.themiamiartscene.com
SUMMARY:PAMM presents International Women’s Committee Luncheon
DESCRIPTION:October 15th from 11am – 2:30pm join the Pérez Art Museum Miami’s (PAMM) for the International Women’s Committee (IWC) Annual Luncheon\, honoring women in the community who have had a major impact on the arts. This year\, we are honoring Alexa Isbell Wolman for her dedication to the arts and philanthropy in Miami. PURCHASE TICKETS | RSVP HERE. \nHonoree: Alexa Isbell Wolman \nActive IWC members at the Innovator and Trailblazer levels can request a complimentary individual ticket by emailing Felipe Arencibia at farencibia@pamm.org to reserve their spot. \n 
URL:https://www.themiamiartscene.com/event/pamm-presents-international-womens-committee-luncheon/
LOCATION:Pérez Art Museum Miami\, 1103 Biscayne Boulevard\, Miami\, FL\, 33132\, United States
ATTACH;FMTTYPE=image/png:https://www.themiamiartscene.com/wp-content/uploads/2025/10/pamm-IWC.png
END:VEVENT
END:VCALENDAR