BEGIN:VCALENDAR
VERSION:2.0
PRODID:-//Miami Art Scene™ - ECPv6.15.20//NONSGML v1.0//EN
CALSCALE:GREGORIAN
METHOD:PUBLISH
X-ORIGINAL-URL:https://www.themiamiartscene.com
X-WR-CALDESC:Events for Miami Art Scene™
REFRESH-INTERVAL;VALUE=DURATION:PT1H
X-Robots-Tag:noindex
X-PUBLISHED-TTL:PT1H
BEGIN:VTIMEZONE
TZID:America/New_York
BEGIN:DAYLIGHT
TZOFFSETFROM:-0500
TZOFFSETTO:-0400
TZNAME:EDT
DTSTART:20240310T070000
END:DAYLIGHT
BEGIN:STANDARD
TZOFFSETFROM:-0400
TZOFFSETTO:-0500
TZNAME:EST
DTSTART:20241103T060000
END:STANDARD
BEGIN:DAYLIGHT
TZOFFSETFROM:-0500
TZOFFSETTO:-0400
TZNAME:EDT
DTSTART:20250309T070000
END:DAYLIGHT
BEGIN:STANDARD
TZOFFSETFROM:-0400
TZOFFSETTO:-0500
TZNAME:EST
DTSTART:20251102T060000
END:STANDARD
BEGIN:DAYLIGHT
TZOFFSETFROM:-0500
TZOFFSETTO:-0400
TZNAME:EDT
DTSTART:20260308T070000
END:DAYLIGHT
BEGIN:STANDARD
TZOFFSETFROM:-0400
TZOFFSETTO:-0500
TZNAME:EST
DTSTART:20261101T060000
END:STANDARD
END:VTIMEZONE
BEGIN:VEVENT
DTSTART;TZID=America/New_York:20251023T103000
DTEND;TZID=America/New_York:20251023T123000
DTSTAMP:20260424T000243
CREATED:20250924T150339Z
LAST-MODIFIED:20250924T150339Z
UID:24821-1761215400-1761222600@www.themiamiartscene.com
SUMMARY:The Official Art Deco Walking Tour by The Miami Design Preservation League
DESCRIPTION:Thursday\, October 23rd from 10:30am – 12:30pm experience the Official Art Deco District Walking Tour presented by the Miami Design Preservation League. This 1.5 to 2-hour walking tour provides an introduction to the Art Deco\, Mediterranean Revival\, and Miami Modern (MiMo) styles found within the Miami Beach Architectural Historic District. Explore hotels\, restaurants\, and other commercial structures with a visit to a number of interiors. Choose from select dates / PURCHASE TICKETS HERE. \nTour ticket includes free entry to the Art Deco Museum as well as 10% off at the Gift Shop.
URL:https://www.themiamiartscene.com/event/the-official-art-deco-walking-tour-by-the-miami-design-preservation-league-788/
LOCATION:Art Deco Welcome Center\, 1001 Ocean Drive\, Miami Beach\, FL\, 33139\, United States
ATTACH;FMTTYPE=image/jpeg:https://www.themiamiartscene.com/wp-content/uploads/2024/06/art-deco-historic-district-miami-beach.jpeg
END:VEVENT
BEGIN:VEVENT
DTSTART;TZID=America/New_York:20251023T190000
DTEND;TZID=America/New_York:20251023T200000
DTSTAMP:20260424T000243
CREATED:20251013T211656Z
LAST-MODIFIED:20251013T211656Z
UID:24921-1761246000-1761249600@www.themiamiartscene.com
SUMMARY:PAMM presents Scholl Lecture Series: Lee Jaffe in Conversation with Franklin Sirmans
DESCRIPTION:October 23rd from 7 – 8pm join the Pérez Art Museum Miami (PAMM) for the museum’s Scholl lecture series\, featuring the premier cultural creatives of our time\, with a conversation with multidisciplinary artist\, musician\, filmmaker\, and producer Lee Jaffe. In dialogue with Franklin Sirmans\, Sandra and Tony Tamer director at PAMM\, Jaffe will reflect on his remarkable career working alongside some of the most iconic figures in art and music. His unique perspective and storied history will highlight themes of cross-cultural collaboration and his distinct artistic journey. \nAs part of PAMM’s commitment to accessibility live translation for this program will be available in Amercian Sign Language\, Spanish and Haitian Creole. The program will also be streamed live\, online via PAMM’s Youtube Channel. \n\nFree with museum admission. Admission is $18 for adults and free for members. Space is limited\, and seating is available on a first-come\, first-served basis. RSVP HERE. \n\n  \nIMAGE: Jaffe paint poem.
URL:https://www.themiamiartscene.com/event/pamm-presents-scholl-lecture-series-lee-jaffe-in-conversation-with-franklin-sirmans/
LOCATION:Pérez Art Museum Miami\, 1103 Biscayne Boulevard\, Miami\, FL\, 33132\, United States
ATTACH;FMTTYPE=image/png:https://www.themiamiartscene.com/wp-content/uploads/2025/10/Jaffe-paint-poem.png
END:VEVENT
END:VCALENDAR