BEGIN:VCALENDAR
VERSION:2.0
PRODID:-//Miami Art Scene™ - ECPv6.15.20//NONSGML v1.0//EN
CALSCALE:GREGORIAN
METHOD:PUBLISH
X-ORIGINAL-URL:https://www.themiamiartscene.com
X-WR-CALDESC:Events for Miami Art Scene™
REFRESH-INTERVAL;VALUE=DURATION:PT1H
X-Robots-Tag:noindex
X-PUBLISHED-TTL:PT1H
BEGIN:VTIMEZONE
TZID:America/New_York
BEGIN:DAYLIGHT
TZOFFSETFROM:-0500
TZOFFSETTO:-0400
TZNAME:EDT
DTSTART:20250309T070000
END:DAYLIGHT
BEGIN:STANDARD
TZOFFSETFROM:-0400
TZOFFSETTO:-0500
TZNAME:EST
DTSTART:20251102T060000
END:STANDARD
BEGIN:DAYLIGHT
TZOFFSETFROM:-0500
TZOFFSETTO:-0400
TZNAME:EDT
DTSTART:20260308T070000
END:DAYLIGHT
BEGIN:STANDARD
TZOFFSETFROM:-0400
TZOFFSETTO:-0500
TZNAME:EST
DTSTART:20261101T060000
END:STANDARD
BEGIN:DAYLIGHT
TZOFFSETFROM:-0500
TZOFFSETTO:-0400
TZNAME:EDT
DTSTART:20270314T070000
END:DAYLIGHT
BEGIN:STANDARD
TZOFFSETFROM:-0400
TZOFFSETTO:-0500
TZNAME:EST
DTSTART:20271107T060000
END:STANDARD
END:VTIMEZONE
BEGIN:VEVENT
DTSTART;TZID=America/New_York:20260409T160000
DTEND;TZID=America/New_York:20260412T170000
DTSTAMP:20260423T113139
CREATED:20260317T165523Z
LAST-MODIFIED:20260318T135602Z
UID:26247-1775750400-1776013200@www.themiamiartscene.com
SUMMARY:Experience Contemporary Artist Christian Burnham at ArtExpo New York | Booth S307
DESCRIPTION:Thursday\, April 9th through Sunday\, April 12th experience contemporary artist Christian Burnham in an exhibition at ArtExpo New York\, Booth S307 at Pier 36 NYC. Christian Burnham is a contemporary artist\, born in 1973 in Eastbourne\, England\, and currently based in Hasselt\, Belgium. His work fuses stencil art with symbolic realism\, serving as both a personal testimony and a reflection on transformation. In 2025\, his work was exhibited internationally at the XV Florence Contemporary Biennale and Spectrum Miami\, where he was awarded Best New Exhibitor\, marking an important milestone in his growing presence on the international art stage. Follow Christian Burnham on Instagram @christianburnhamart \nBurnham’s art is driven by an innate creative impulse\, functioning as both a meditative practice and a form of storytelling. His work strives to evoke emotion\, raise awareness\, and offer a voice for recovery. He explores the complexities of addiction\, healing\, and the human experience\, frequently delving into themes of spirituality\, philosophical questions about reality\, and the influence of the pre-conditioned mind. These inquiries form the foundation of his artistic inspiration. \nHis artistic process merges street art aesthetics with fine art craftsmanship\, using spray paint\, acrylics\, markers\, and Japanese inks in combination with meticulously designed stencils. He works across a variety of surfaces\, including canvas\, wood\, and metals. A vital part of Burnham’s process involves setting up installations of objects\, which he photographs to use as references for his compositions. In other instances\, he combines several images or draws by hand to construct a scene\, later refining the imagery digitally in Illustrator and/or Photoshop. The finalized designs are then translated into hand-cut stencils used in the finished works. \nHis approach balances controlled precision with spontaneous expression\, allowing the artwork to evolve organically while maintaining a strong conceptual focus. His development as an artist has been shaped by personal transformation\, experimentation\, and a continuous search for new modes of expression. From his earliest works to his most recent pieces\, Burnham has consistently pushed the boundaries of stencil art\, evolving both technically and conceptually. \n  \n  \n \n  \nFAIR HOURS & TICKETS\nVIP / PRESS PREVIEW\nThursday\, April 9\, 2026 | 4 PM – 5 PM \nOPENING NIGHT PREVIEW\nThursday\, April 9\, 2026 | 5 PM – 8 PM \nPUBLIC FAIR HOURS\nFriday\, April 10\, 2026 | 11 AM – 7 PM\nSaturday\, April 11\, 2026 | 11 AM – 7 PM\nSunday\, April 12\, 2026 | 11 AM – 5 PM \n  \nMain Image: Contemporary Artist Christian Burnham’s Rebirth.
URL:https://www.themiamiartscene.com/event/experience-contemporary-artist-christian-burnham-at-artexpo-new-york-booth-s307/
LOCATION:ArtExpo New York\, Pier 36 NYC 299 South Street\, New York\, NY\, 10002\, United States
ATTACH;FMTTYPE=image/jpeg:https://www.themiamiartscene.com/wp-content/uploads/2026/03/Rebirth_H_Res-scaled.jpg
END:VEVENT
BEGIN:VEVENT
DTSTART;TZID=America/New_York:20260410T100000
DTEND;TZID=America/New_York:20260412T183000
DTSTAMP:20260423T113139
CREATED:20260315T192927Z
LAST-MODIFIED:20260329T212337Z
UID:26229-1775815200-1776018600@www.themiamiartscene.com
SUMMARY:64th Delray Affair
DESCRIPTION:Friday\, April 10th through Sunday\, April 12th enjoy Downtown Delray Beach’s most colorful weekend\, the 64th Delray Affair returns April 10–12\, 2026\, bringing hundreds of artists and vendors to The Avenue for three days of art\, crafts\, and free admission. Grab your friends\, stroll the street\, and see why it’s called The Greatest Show Under the Sun! \nGet ready to immerse yourself in an exhilarating artistic extravaganza like no other as the Greater Delray Beach Chamber of Commerce presents the 64th edition of the Delray Affair in 2026! Get ready to witness the “Greatest Show under the Sun\,” a spectacle that has earned its reputation as the premier arts and craft festival in the Southeast United States. Brace yourself for an awe-inspiring event that will ignite your imagination and leave you breathless. \nPicture this: the vibrant streets of Delray Beach\, adorned with majestic palm trees\, come alive as the Delray Affair stretches across an astonishing 7 city blocks. This sprawling artistic wonderland is renowned for its eclectic fusion of art\, exquisite crafts\, and funky products sourced from all corners of the globe. Prepare to be enchanted by a melting pot of creativity\, where artists and crafters from across the United States converge to showcase their exceptional talent. \n  \nFree parking and shuttle service from Palm Beach County Administrative Complex located at 345 S. Congress Avenue\, Delray Beach\, FL. (Allow 30 minutes for shuttle bus.) Large box trucks and RV’s also permitted.\nHours 10am – 9:30 Friday & Saturday / 10am – 6:30pm Sunday.
URL:https://www.themiamiartscene.com/event/64th-delray-affair/
LOCATION:FL
ATTACH;FMTTYPE=image/jpeg:https://www.themiamiartscene.com/wp-content/uploads/2026/03/64th-delray-affair.jpeg
END:VEVENT
BEGIN:VEVENT
DTSTART;TZID=America/New_York:20260411T093000
DTEND;TZID=America/New_York:20260411T103000
DTSTAMP:20260423T113139
CREATED:20260318T031228Z
LAST-MODIFIED:20260318T031228Z
UID:26355-1775899800-1775903400@www.themiamiartscene.com
SUMMARY:Sensory Saturdays: Free Sensory-Friendly Programs at NSU Art Museum
DESCRIPTION:Saturday\, April 11th from 9:30 – 10:30am NSU Art Museum Fort Lauderdale offers a sensory-friendly program FREE for children on the Autism Spectrum ages 6-17 and their families. RSVP HERE. \nExperience NSU Art Museum on April 11th\, 2026\, from 9:30-10:30 am\, before regular museum hours\, for a sensory-friendly environment and exclusive museum access. Enjoy making art and wandering through the museum with low lighting\, reduced noise\, and plenty of hands-on art items. Sensory-friendly materials will be available for all visiting children on the spectrum\, including: noise-cancelling headphones\, weighted lap pads\, soft seating\, sensory-friendly art materials\, and a special gift for each child. \nRegistration opens one month prior to each date. Admission to Sensory Saturday is FREE with a required RSVP. Space is limited.
URL:https://www.themiamiartscene.com/event/sensory-saturdays-free-sensory-friendly-programs-at-nsu-art-museum-2/
LOCATION:NSU Art Museum\, One East Las Olas Boulevard\, Fort Lauderdale\, FL\, 33301\, United States
ATTACH;FMTTYPE=image/jpeg:https://www.themiamiartscene.com/wp-content/uploads/2025/12/nsu-art-museum-sensory-saturdays.jpg
END:VEVENT
BEGIN:VEVENT
DTSTART;TZID=America/New_York:20260411T103000
DTEND;TZID=America/New_York:20260411T123000
DTSTAMP:20260423T113139
CREATED:20260317T211903Z
LAST-MODIFIED:20260317T211903Z
UID:26286-1775903400-1775910600@www.themiamiartscene.com
SUMMARY:The Official Art Deco Walking Tour by The Miami Design Preservation League
DESCRIPTION:Saturday\, April 11th from 10:30am – 12:30pm experience the Official Art Deco District Walking Tour presented by the Miami Design Preservation League. This 1.5 to 2-hour walking tour provides an introduction to the Art Deco\, Mediterranean Revival\, and Miami Modern (MiMo) styles found within the Miami Beach Architectural Historic District. Explore hotels\, restaurants\, and other commercial structures with a visit to a number of interiors. Choose from select dates / PURCHASE TICKETS HERE. \nTour ticket includes free entry to the Art Deco Museum as well as 10% off at the Gift Shop.
URL:https://www.themiamiartscene.com/event/the-official-art-deco-walking-tour-by-the-miami-design-preservation-league-961/
LOCATION:Art Deco Welcome Center\, 1001 Ocean Drive\, Miami Beach\, FL\, 33139\, United States
ATTACH;FMTTYPE=image/jpeg:https://www.themiamiartscene.com/wp-content/uploads/2023/01/art-deco-walking-tour-2023.jpg
END:VEVENT
BEGIN:VEVENT
DTSTART;TZID=America/New_York:20260411T110000
DTEND;TZID=America/New_York:20260411T120000
DTSTAMP:20260423T113139
CREATED:20260409T160821Z
LAST-MODIFIED:20260409T160821Z
UID:26535-1775905200-1775908800@www.themiamiartscene.com
SUMMARY:Miami Design District Public Art Tour
DESCRIPTION:Saturday\, April 11th from 11am – 12pm join the Miami Design District for a walking tour of the district\, explore the history of the art and architecture that characterize the neighborhood. Visit outdoor installations and murals including Buckminster Fuller Fly’s Eye Dome\, Virgil Abloh’s Dollar a Gallon\, Criola’s Interdimensional Portal\, and more. \nMeet in front of the Fly’s Eye Dome on the first floor of Palm Court (enter at 140 NE 39th Street). This Event is Free & Open to the Public. RSVP HERE.
URL:https://www.themiamiartscene.com/event/miami-design-district-public-art-tour-59/
LOCATION:Miami Design District Palm Court\, 140 NE 39th Street\, Miami\, FL\, 33137\, United States
ATTACH;FMTTYPE=image/png:https://www.themiamiartscene.com/wp-content/uploads/2026/04/miami-design-district-public-art-tour.png
END:VEVENT
BEGIN:VEVENT
DTSTART;TZID=America/New_York:20260411T120000
DTEND;TZID=America/New_York:20260411T133000
DTSTAMP:20260423T113139
CREATED:20260318T030842Z
LAST-MODIFIED:20260318T030842Z
UID:26352-1775908800-1775914200@www.themiamiartscene.com
SUMMARY:NSU Art Museum presents Creativity Exploration: Making & Movement
DESCRIPTION:Saturday\, April 11th from 12 – 1:30pm NSU Art Museum presents Creativity Exploration: Making & Movement. Inspired by the organic\, flowing shapes found in paintings by Diana Motta\, create your own painting on canvas\, exploring the gestural energy captured in each brush stroke. RSVP HERE. \nCreativity Exploration adult workshops promote the benefits of material exploration and the mind-to-body experience. Studies have shown that 45 minutes of creative activity a day reduces stress and offers mental clarity and relaxation. In addition to producing a sense of well-being\, sessions expand participants’ perceptions of forms while increasing brain connectivity through visual and cognitive stimulation. The workshop is led by educator Lark Keeler\, a specialist in mindfulness education. \nPreregistration Required. Space is Limited. \nCreativity Exploration is sponsored by the Maurer Family Foundation. \nVeteran discount tickets thanks to Spirit Charitable Foundation. \nDate of event: 4/11/2026\nTime: Noon – 1:30 pm\nPricing: $15 for members; $25 for non-members\nLocation: NSU Art Museum\nAges: 18+
URL:https://www.themiamiartscene.com/event/nsu-art-museum-presents-creativity-exploration-making-movement/
LOCATION:NSU Art Museum\, One East Las Olas Boulevard\, Fort Lauderdale\, FL\, 33301\, United States
ATTACH;FMTTYPE=image/jpeg:https://www.themiamiartscene.com/wp-content/uploads/2026/03/CEImage.3.14.26-1617x2048-1.jpg
END:VEVENT
BEGIN:VEVENT
DTSTART;TZID=America/New_York:20260411T180000
DTEND;TZID=America/New_York:20260411T210000
DTSTAMP:20260423T113139
CREATED:20260407T014637Z
LAST-MODIFIED:20260407T014637Z
UID:26509-1775930400-1775941200@www.themiamiartscene.com
SUMMARY:Rosen Fine Art: Wine\, Cheese & Arts\, Please! An Art-Lover's Showcase
DESCRIPTION:Saturday\, April 11th from 6 – 9pm the Wilton Manors Art District (WMAD) invites you to enjoy an evening of Wine\, Cheese & Arts\, Please! An Art-Lover’s Showcase at Rosen Fine Art\, where Artist Jacki Rosen will share her creative process. An evening of curated culture and conversation with light bites & drinks. RSVP FOR THE RAFFLE! This Event is Free & Open to the Public. \nEnjoy a captivating evening filled with amazing art and splendid conversation. Whether you’re an art newbie or a seasoned fan\, this mixer is the perfect chance to meet fellow art lovers\, enjoy great vibes\, and discover new favorites. Jacki will be live painting throughout the evening\, sharing her process and stories from her 42 years of experience in the art field. Don’t miss out on a fun night of creativity and good company. RSVP to be entered in the Exclusive Raffle. Win a one-on-one workshop with Jacki Rosen (a $300 value)!
URL:https://www.themiamiartscene.com/event/rosen-fine-art-wine-cheese-arts-please-an-art-lovers-showcase/
LOCATION:Rosen Fine Art\, 2426 North Dixie Highway\, Wilton Manors\, FL\, 33305\, United States
ATTACH;FMTTYPE=image/png:https://www.themiamiartscene.com/wp-content/uploads/2026/04/wilteon-manors-art-district-rosen-fine-art.png
END:VEVENT
BEGIN:VEVENT
DTSTART;TZID=America/New_York:20260411T190000
DTEND;TZID=America/New_York:20260411T230000
DTSTAMP:20260423T113139
CREATED:20251215T003536Z
LAST-MODIFIED:20251215T003536Z
UID:25585-1775934000-1775948400@www.themiamiartscene.com
SUMMARY:Wynwood Art District Second Saturdays Art Walk
DESCRIPTION:Saturday\, April 11th from 7-11pm enjoy the Wynwood Art District Second Saturday Art Walk. Experience open galleries\, studios and alternative art spaces throughout the district; located just north of downtown between 23rd and 30th streets and NW 2nd Avenue.
URL:https://www.themiamiartscene.com/event/wynwood-art-district-second-saturdays-art-walk-41/
LOCATION:FL
ATTACH;FMTTYPE=image/jpeg:https://www.themiamiartscene.com/wp-content/uploads/2025/06/wynwood-image-miami.jpeg
END:VEVENT
END:VCALENDAR