BEGIN:VCALENDAR
VERSION:2.0
PRODID:-//Miami Art Scene™ - ECPv6.15.20//NONSGML v1.0//EN
CALSCALE:GREGORIAN
METHOD:PUBLISH
X-WR-CALNAME:Miami Art Scene™
X-ORIGINAL-URL:https://www.themiamiartscene.com
X-WR-CALDESC:Events for Miami Art Scene™
REFRESH-INTERVAL;VALUE=DURATION:PT1H
X-Robots-Tag:noindex
X-PUBLISHED-TTL:PT1H
BEGIN:VTIMEZONE
TZID:America/New_York
BEGIN:DAYLIGHT
TZOFFSETFROM:-0500
TZOFFSETTO:-0400
TZNAME:EDT
DTSTART:20230312T070000
END:DAYLIGHT
BEGIN:STANDARD
TZOFFSETFROM:-0400
TZOFFSETTO:-0500
TZNAME:EST
DTSTART:20231105T060000
END:STANDARD
BEGIN:DAYLIGHT
TZOFFSETFROM:-0500
TZOFFSETTO:-0400
TZNAME:EDT
DTSTART:20240310T070000
END:DAYLIGHT
BEGIN:STANDARD
TZOFFSETFROM:-0400
TZOFFSETTO:-0500
TZNAME:EST
DTSTART:20241103T060000
END:STANDARD
BEGIN:DAYLIGHT
TZOFFSETFROM:-0500
TZOFFSETTO:-0400
TZNAME:EDT
DTSTART:20250309T070000
END:DAYLIGHT
BEGIN:STANDARD
TZOFFSETFROM:-0400
TZOFFSETTO:-0500
TZNAME:EST
DTSTART:20251102T060000
END:STANDARD
END:VTIMEZONE
BEGIN:VEVENT
DTSTART;TZID=America/New_York:20240413T160000
DTEND;TZID=America/New_York:20240413T173000
DTSTAMP:20260425T231127
CREATED:20240407T015850Z
LAST-MODIFIED:20240407T015850Z
UID:21137-1713024000-1713029400@www.themiamiartscene.com
SUMMARY:NSU Art Museum presents James Judd – What is Interpretation?
DESCRIPTION:Saturday\, April 13th from 4 – 5:30pm NSU Art Museum in Fort Lauderdale presents James Judd – What is Interpretation? Looking at music; the space between notes: Listening to art: the space between brush strokes. RSVP HERE. \nWorld-renowned conductor and music director James Judd and Bonnie Clearwater\, Director and Chief Curator of NSU Art Museum discuss ‘What is interpretation’…with musical and visual examples. \nMarks Gallery (second floor of NSU Art Museum) \nFree for members; $16 for non-members
URL:https://www.themiamiartscene.com/event/nsu-art-museum-presents-james-judd-what-is-interpretation/
LOCATION:NSU Art Museum\, One East Las Olas Boulevard\, Fort Lauderdale\, FL\, 33301\, United States
ATTACH;FMTTYPE=image/png:https://www.themiamiartscene.com/wp-content/uploads/2024/04/nsu-art-museum_james-judd.png
END:VEVENT
END:VCALENDAR