BEGIN:VCALENDAR
VERSION:2.0
PRODID:-//Miami Art Scene™ - ECPv6.15.20//NONSGML v1.0//EN
CALSCALE:GREGORIAN
METHOD:PUBLISH
X-ORIGINAL-URL:https://www.themiamiartscene.com
X-WR-CALDESC:Events for Miami Art Scene™
REFRESH-INTERVAL;VALUE=DURATION:PT1H
X-Robots-Tag:noindex
X-PUBLISHED-TTL:PT1H
BEGIN:VTIMEZONE
TZID:America/New_York
BEGIN:DAYLIGHT
TZOFFSETFROM:-0500
TZOFFSETTO:-0400
TZNAME:EDT
DTSTART:20230312T070000
END:DAYLIGHT
BEGIN:STANDARD
TZOFFSETFROM:-0400
TZOFFSETTO:-0500
TZNAME:EST
DTSTART:20231105T060000
END:STANDARD
BEGIN:DAYLIGHT
TZOFFSETFROM:-0500
TZOFFSETTO:-0400
TZNAME:EDT
DTSTART:20240310T070000
END:DAYLIGHT
BEGIN:STANDARD
TZOFFSETFROM:-0400
TZOFFSETTO:-0500
TZNAME:EST
DTSTART:20241103T060000
END:STANDARD
BEGIN:DAYLIGHT
TZOFFSETFROM:-0500
TZOFFSETTO:-0400
TZNAME:EDT
DTSTART:20250309T070000
END:DAYLIGHT
BEGIN:STANDARD
TZOFFSETFROM:-0400
TZOFFSETTO:-0500
TZNAME:EST
DTSTART:20251102T060000
END:STANDARD
END:VTIMEZONE
BEGIN:VEVENT
DTSTART;TZID=America/New_York:20240829T180000
DTEND;TZID=America/New_York:20240829T210000
DTSTAMP:20260425T135153
CREATED:20240818T011746Z
LAST-MODIFIED:20240818T011746Z
UID:22016-1724954400-1724965200@www.themiamiartscene.com
SUMMARY:The Bass presents Electronic Music Labs
DESCRIPTION:Thursday\, August 29th from 6 – 9pm get ready for your new favorite remix featuring The Bass and MyFi Studio through a series of 𝙀𝙡𝙚𝙘𝙩𝙧𝙤𝙣𝙞𝙘 𝙈𝙪𝙨𝙞𝙘 𝙇𝙖𝙗𝙨\, an innovative and interactive experience where participants can create music and art. To further perpetuate the potency of connectivity and collaboration that the internet provides\, The Bass commissioned MyFi Studio\, a multimedia production studio led by performance duo Aimee Rubensteen and Dr. Josh Eisenberg\, to create 404 custom electronic music instruments\, offering a new avenue for internet citizens to co-create new work as a collective. RSVP HERE. \nThe Bass and MyFi Studio partnered to create an interactive art and music-making experience by presenting a series of Electronic Music Labs\, inspired by artist Nam June Paik’s musical roots and artwork titled Internet Dweller (on loan from Art Bridges)\, currently on view at the museum. \nJoin live or online for the opportunity to own\, play\, and create music with MyFi Studio’s newly commissioned electronic music instruments: in real time (2024). Internet Dweller Online Open Studio Sessions will be hosted on Twitch\, while live Internet Dweller Electronic Music Labs will be held onsite at The Bass. Live sessions will feature special guests: Gustavo Matamoros\, Archival Feedback\, and Smurphio. \n*in real time is best played on laptop + desktop computers\, we encourage guests to bring their own laptop and headphones. \nGuests will learn how to play MyFi Studio instruments\, create new media\, and have the chance to own an electronic instrument.
URL:https://www.themiamiartscene.com/event/the-bass-presents-electronic-music-labs/
LOCATION:The Bass\, 2100 Collins Avenue\, Miami Beach\, FL\, 33139\, United States
ATTACH;FMTTYPE=image/gif:https://www.themiamiartscene.com/wp-content/uploads/2024/08/the-bass-electronic-music-lab.gif
END:VEVENT
END:VCALENDAR