BEGIN:VCALENDAR
VERSION:2.0
PRODID:-//Miami Art Scene™ - ECPv6.15.20//NONSGML v1.0//EN
CALSCALE:GREGORIAN
METHOD:PUBLISH
X-ORIGINAL-URL:https://www.themiamiartscene.com
X-WR-CALDESC:Events for Miami Art Scene™
REFRESH-INTERVAL;VALUE=DURATION:PT1H
X-Robots-Tag:noindex
X-PUBLISHED-TTL:PT1H
BEGIN:VTIMEZONE
TZID:America/New_York
BEGIN:DAYLIGHT
TZOFFSETFROM:-0500
TZOFFSETTO:-0400
TZNAME:EDT
DTSTART:20230312T070000
END:DAYLIGHT
BEGIN:STANDARD
TZOFFSETFROM:-0400
TZOFFSETTO:-0500
TZNAME:EST
DTSTART:20231105T060000
END:STANDARD
BEGIN:DAYLIGHT
TZOFFSETFROM:-0500
TZOFFSETTO:-0400
TZNAME:EDT
DTSTART:20240310T070000
END:DAYLIGHT
BEGIN:STANDARD
TZOFFSETFROM:-0400
TZOFFSETTO:-0500
TZNAME:EST
DTSTART:20241103T060000
END:STANDARD
BEGIN:DAYLIGHT
TZOFFSETFROM:-0500
TZOFFSETTO:-0400
TZNAME:EDT
DTSTART:20250309T070000
END:DAYLIGHT
BEGIN:STANDARD
TZOFFSETFROM:-0400
TZOFFSETTO:-0500
TZNAME:EST
DTSTART:20251102T060000
END:STANDARD
END:VTIMEZONE
BEGIN:VEVENT
DTSTART;TZID=America/New_York:20241003T160000
DTEND;TZID=America/New_York:20241003T190000
DTSTAMP:20260425T064926
CREATED:20240925T162417Z
LAST-MODIFIED:20240925T193555Z
UID:22210-1727971200-1727982000@www.themiamiartscene.com
SUMMARY:KX2 "Ripple Effect" Opening and Artist Lecture at Rosemary Duffy Larson Gallery\, Broward College
DESCRIPTION:Thursday\, October 3rd from 4-7pm experience the Opening Reception of “Ripple Effect” featuring KX2 (Dana Kleinman & Ruth Avra) at Rosemary Duffy Larson Gallery\, Broward College. Guests will also enjoy an Artist Lecture at 5pm. “Ripple Effect” delves into the fragile relationship between urbanization and the environment\, with a focus on water infrastructure\, climate change\, flooding\, and the growing scarcity of potable water. \nThe exhibition is a culmination of KX2’s ongoing exploration of these critical themes\, reflecting on the current state of natural resources while provoking a dialogue about the future of our communities and the planet. \nThis exhibition is on view from October 3rd through November 9th \, 2024.
URL:https://www.themiamiartscene.com/event/kx2-ripple-effect-opening-and-artist-lecture-at-rosemary-duffy-larson-gallery-broward-college/
LOCATION:Rosemary Duffy Larson Gallery\, Broward College\, 3501 Davie Road\, Davie\, FL\, 33314\, United States
ATTACH;FMTTYPE=image/png:https://www.themiamiartscene.com/wp-content/uploads/2024/09/kx2-ripple-effect-rosemary-duffy-larson-gallery-broward-university.png
END:VEVENT
END:VCALENDAR