BEGIN:VCALENDAR
VERSION:2.0
PRODID:-//Miami Art Scene™ - ECPv6.15.20//NONSGML v1.0//EN
CALSCALE:GREGORIAN
METHOD:PUBLISH
X-ORIGINAL-URL:https://www.themiamiartscene.com
X-WR-CALDESC:Events for Miami Art Scene™
REFRESH-INTERVAL;VALUE=DURATION:PT1H
X-Robots-Tag:noindex
X-PUBLISHED-TTL:PT1H
BEGIN:VTIMEZONE
TZID:America/New_York
BEGIN:DAYLIGHT
TZOFFSETFROM:-0500
TZOFFSETTO:-0400
TZNAME:EDT
DTSTART:20240310T070000
END:DAYLIGHT
BEGIN:STANDARD
TZOFFSETFROM:-0400
TZOFFSETTO:-0500
TZNAME:EST
DTSTART:20241103T060000
END:STANDARD
BEGIN:DAYLIGHT
TZOFFSETFROM:-0500
TZOFFSETTO:-0400
TZNAME:EDT
DTSTART:20250309T070000
END:DAYLIGHT
BEGIN:STANDARD
TZOFFSETFROM:-0400
TZOFFSETTO:-0500
TZNAME:EST
DTSTART:20251102T060000
END:STANDARD
BEGIN:DAYLIGHT
TZOFFSETFROM:-0500
TZOFFSETTO:-0400
TZNAME:EDT
DTSTART:20260308T070000
END:DAYLIGHT
BEGIN:STANDARD
TZOFFSETFROM:-0400
TZOFFSETTO:-0500
TZNAME:EST
DTSTART:20261101T060000
END:STANDARD
END:VTIMEZONE
BEGIN:VEVENT
DTSTART;TZID=America/New_York:20250320T170000
DTEND;TZID=America/New_York:20250323T180000
DTSTAMP:20260425T124513
CREATED:20250311T154449Z
LAST-MODIFIED:20250311T165810Z
UID:23350-1742490000-1742752800@www.themiamiartscene.com
SUMMARY:Fashion Icon & Portrait Artist Brandusa Niro at Palm Beach Modern + Contemporary (PBM+C) March 20-23\, 2025
DESCRIPTION:Thursday\, March 20th from 5pm – 9pm enjoy the VIP Preview of Palm Beach Modern + Contemporary (PBM+C) and experience the art of Fashion Icon & Portrait Artist Brandusa Niro with Avant Gallery in Booth #G3 at the Palm Beach County Convention Center. Palm Beach Modern + Contemporary will take place Thursday\, March 20th through Sunday\, March 23rd – it is South Florida’s premier and most prestigious winter art fair\, coinciding with the world-renowned Palm Beach International Boat Show in Downtown West Palm Beach\, Florida. \nNiro became a titan in the media and publishing worlds eventually becoming Senior Vice President at IMG Media. In 2002\, she laid the foundation for her legacy by founding the esteemed American Fashion industry publication\, The Daily Front Row\, where she remains as Editor-in-Chief today. Throughout these years\, Brandusa Niro continued to create artwork and is now making a full return to her greatest passion that never left. Represented by Avant Gallery\, her work has been shown at art fairs such as Art Palm Beach. \nIn Brandusa Niro’s 2024 series\, Models\, her inspiration pays homage to the extraordinary women who have graced Niro’s life and career. With each portraits’ brushstroke\, Niro conjures visions of ethereal beauty\, infusing her canvases with a great use of bright colors and evoking a range of emotions and moods. A blend of realism and impressionism\, Brandusa’s muses are elongated and graceful with luminous eyes that pierce the soul\, while their oversized heads and unfinished hands imbue them with an otherworldly allure. The Models series evokes senses of sexiness and sensuality yet an eerie\, almost haunting\, quality\, inviting viewers to contemplate the transient nature of beauty itself. Niro is introducing her new 2025 series\, About a Girl\, presented this month at Palm Beach Modern + Contemporary (PBM+C). \n  \nIMAGE: (from left to right)\n‘Jacqueline with Pearls’ (2024)\, Acrylic and Flashe on Canvas\, 48″ x 36″ (SOLD)\n‘Jacqueline in the Winter Garden’ (2025)\, Acrylic and Flashe on Canvas\, 48″ x 36″\n‘Jacqueline and her pheasant\, Louis’ (2025)\, Acrylic and Flashe on Canvas\, 48″ x 36″\n  \nVisit www.avantgallery.com/collections/brandusa-niro\nFollow Brandusa Niro on Instagram @brandusaniro \n  \nFAIR HOURS\nThursday\, March 20\, 2025\nVIP Preview: 5pm – 9pm\nAccess for PBM+C VIP Passholders & Press\, benefiting the Ann Norton Sculpture Gardens \nGENERAL ADMISSION\nFriday\, March 21 from 11am – 7pm\nSaturday\, March 22 from 11am – 7pm\nSunday\, March 23 from 11am – 6pm
URL:https://www.themiamiartscene.com/event/fashion-icon-portrait-artist-brandusa-niro-at-palm-beach-modern-contemporary-pbmc/
LOCATION:Palm Beach County Convention Center\, 650 Okeechobee Boulevard\, West Palm Beach\, FL\, 33401\, United States
ATTACH;FMTTYPE=image/png:https://www.themiamiartscene.com/wp-content/uploads/2025/03/Brandusa-Niro_the-Jacqueline-trio.png
END:VEVENT
BEGIN:VEVENT
DTSTART;TZID=America/New_York:20250320T170000
DTEND;TZID=America/New_York:20250323T180000
DTSTAMP:20260425T124513
CREATED:20250319T011129Z
LAST-MODIFIED:20250319T013320Z
UID:23383-1742490000-1742752800@www.themiamiartscene.com
SUMMARY:Bermano’s $360K Masterpiece at Palm Beach Modern + Contemporary Fair Booth #J11
DESCRIPTION:Sunrise Sunset\, 48 x 36 inches\, Acrylic on Canvas \n  \nThursday\, March 20th from 5pm – 9pm enjoy the VIP Preview of Palm Beach Modern + Contemporary (PBM+C) and experience the unveiling of Bermano‘s latest masterpiece\, See The Beauty. This breathtaking painting\, valued at $360\,000\, is set to steal the spotlight with its vibrant depiction of nature’s most stunning creature. Measuring an impressive 6.5 feet by 4.5 feet\, it dazzles with intricate detail\, and the custom hand-crafted frame\, adorned with 14 carats of marquis and round diamonds\, which adds a touch of unrivaled luxury. \nEnjoy the art of Bermano Gallery Booth #J11 at Palm Beach Modern + Contemporary (PBM+C) March 20 – 23\, 2025 | Booth #J11 at the Palm Beach County Convention Center. Palm Beach Modern + Contemporary will take place Thursday\, March 20th through Sunday\, March 23rd – it is South Florida’s premier and most prestigious winter art fair\, coinciding with the world-renowned Palm Beach International Boat Show in Downtown West Palm Beach\, Florida. \nFor more information and tickets\, please email art@bermano.gallery.\nVisit www.bermanogallery.com\nFollow Bermano Gallery on Instagram @therealbermano\nFAIR HOURS\nThursday\, March 20\, 2025\nVIP Preview: 5pm – 9pm\nAccess for PBM+C VIP Passholders & Press\, benefiting the Ann Norton Sculpture Gardens \nGENERAL ADMISSION\nFriday\, March 21 from 11am – 7pm\nSaturday\, March 22 from 11am – 7pm\nSunday\, March 23 from 11am – 6pm \n\n\n\nImage: See The Beauty (detail shot)\n 
URL:https://www.themiamiartscene.com/event/bermanos-360k-masterpiece-at-palm-beach-modern-contemporary-fair-booth-j11/
LOCATION:FL
ATTACH;FMTTYPE=image/jpeg:https://www.themiamiartscene.com/wp-content/uploads/2025/03/bermano-gallery_sunrise-sunset.jpeg
END:VEVENT
END:VCALENDAR