BEGIN:VCALENDAR
VERSION:2.0
PRODID:-//Miami Art Scene™ - ECPv6.15.20//NONSGML v1.0//EN
CALSCALE:GREGORIAN
METHOD:PUBLISH
X-WR-CALNAME:Miami Art Scene™
X-ORIGINAL-URL:https://www.themiamiartscene.com
X-WR-CALDESC:Events for Miami Art Scene™
REFRESH-INTERVAL;VALUE=DURATION:PT1H
X-Robots-Tag:noindex
X-PUBLISHED-TTL:PT1H
BEGIN:VTIMEZONE
TZID:America/New_York
BEGIN:DAYLIGHT
TZOFFSETFROM:-0500
TZOFFSETTO:-0400
TZNAME:EDT
DTSTART:20230312T070000
END:DAYLIGHT
BEGIN:STANDARD
TZOFFSETFROM:-0400
TZOFFSETTO:-0500
TZNAME:EST
DTSTART:20231105T060000
END:STANDARD
BEGIN:DAYLIGHT
TZOFFSETFROM:-0500
TZOFFSETTO:-0400
TZNAME:EDT
DTSTART:20240310T070000
END:DAYLIGHT
BEGIN:STANDARD
TZOFFSETFROM:-0400
TZOFFSETTO:-0500
TZNAME:EST
DTSTART:20241103T060000
END:STANDARD
BEGIN:DAYLIGHT
TZOFFSETFROM:-0500
TZOFFSETTO:-0400
TZNAME:EDT
DTSTART:20250309T070000
END:DAYLIGHT
BEGIN:STANDARD
TZOFFSETFROM:-0400
TZOFFSETTO:-0500
TZNAME:EST
DTSTART:20251102T060000
END:STANDARD
END:VTIMEZONE
BEGIN:VEVENT
DTSTART;TZID=America/New_York:20240906T180000
DTEND;TZID=America/New_York:20240906T210000
DTSTAMP:20260425T081646
CREATED:20240828T215241Z
LAST-MODIFIED:20240829T205829Z
UID:22078-1725645600-1725656400@www.themiamiartscene.com
SUMMARY:Cornell Art Museum presents Nature's Palette: Art inspired by the Earth
DESCRIPTION:Friday\, September 6th from 6 – 9pm art lovers & art-goers are cordially invited to enjoy the Opening Reception of Nature’s Palette: Art inspired by the Earth at Cornell Art Museum in Delray Beach. Guests will experience the opening of this outstanding group show\, along with refreshments and light bites. This exhibition is on view from September 6\, 2024 through February 2\, 2025. \nNature’s Palette features innovative transportive installations from regional artists showcasing various mediums\, including 2D paintings\, 3D sculpture\, glass works\, and more. The exhibition hosts 42 regional artists showcasing over 70 works of art – with special features from notable artists curated by the Delray Beach DDA’s Cultural Arts Director\, Marusca Gatto. \n“The exhibition includes captivating creative expressions that draw inspiration from the beauty of the natural world\,” said Gatto. “In this exploration\, artists dive into various techniques to uncover the profound impact art has on our connection with nature. It will showcase the vibrant world surrounding us with a nod to environmental concerns. \n  \nArtists involved in the Nature’s Palette Exhibition: \nDiane Arrieta\, Doreen Mcgunagle\, Eli Cecil\, Ernesto Kunde\, Ilene Gruber Adams\, Isabel Gouveia\, James Knill\, Jason Martinez\, Jill Hotchkiss\, Jo Ann Nava\, Judy Gaggero\, Karen Ray\, Lara Chapman\, Lisa Littell\, Mark Fletcher\, Marleen DeWaele\, Amanda Johnson\, Amarelle Kukici\, Amy Gross\, Ana Tomayo\, Andrea Facusse\, Andrew Hollimon\, Anthony Burks Sr.\, Astrid Mora\, Autumn Kioti\, Bonnie Levinson\, Brenda Gordon\, Carin Wagner\, Chad Steve\, Cheryl Maeder\, Connie Hanselman\, Diana Bursztein\, Milena Arango\, Monica Fernsell\, Nicole Galluccio\, Pamela Lambie\, Patsy Canning\, Ralph Papa\, Renata Rodriguez\, Rose Gong Monier\, Scott Klimek\, Sharon Koskoff\, Susan Berkowicz\, Tiffany Beasi\, William Combes. \n  \nImage: Artist Diane Arrieta | Concrete Chiefs and Starlight Dreams
URL:https://www.themiamiartscene.com/event/cornell-art-museum-presents-natures-palette-art-inspired-by-the-earth/
LOCATION:Cornell Art Museum\, 51 N. Swinton Avenue\, Delray Beach\, FL\, 33444\, United States
ATTACH;FMTTYPE=image/jpeg:https://www.themiamiartscene.com/wp-content/uploads/2024/08/diane-arrieta_cornell-art-museum.jpeg
END:VEVENT
END:VCALENDAR