BEGIN:VCALENDAR
VERSION:2.0
PRODID:-//Miami Art Scene™ - ECPv6.15.20//NONSGML v1.0//EN
CALSCALE:GREGORIAN
METHOD:PUBLISH
X-WR-CALNAME:Miami Art Scene™
X-ORIGINAL-URL:https://www.themiamiartscene.com
X-WR-CALDESC:Events for Miami Art Scene™
REFRESH-INTERVAL;VALUE=DURATION:PT1H
X-Robots-Tag:noindex
X-PUBLISHED-TTL:PT1H
BEGIN:VTIMEZONE
TZID:America/New_York
BEGIN:DAYLIGHT
TZOFFSETFROM:-0500
TZOFFSETTO:-0400
TZNAME:EDT
DTSTART:20230312T070000
END:DAYLIGHT
BEGIN:STANDARD
TZOFFSETFROM:-0400
TZOFFSETTO:-0500
TZNAME:EST
DTSTART:20231105T060000
END:STANDARD
BEGIN:DAYLIGHT
TZOFFSETFROM:-0500
TZOFFSETTO:-0400
TZNAME:EDT
DTSTART:20240310T070000
END:DAYLIGHT
BEGIN:STANDARD
TZOFFSETFROM:-0400
TZOFFSETTO:-0500
TZNAME:EST
DTSTART:20241103T060000
END:STANDARD
BEGIN:DAYLIGHT
TZOFFSETFROM:-0500
TZOFFSETTO:-0400
TZNAME:EDT
DTSTART:20250309T070000
END:DAYLIGHT
BEGIN:STANDARD
TZOFFSETFROM:-0400
TZOFFSETTO:-0500
TZNAME:EST
DTSTART:20251102T060000
END:STANDARD
END:VTIMEZONE
BEGIN:VEVENT
DTSTART;TZID=America/New_York:20240215T170000
DTEND;TZID=America/New_York:20240220T180000
DTSTAMP:20260425T230602
CREATED:20240102T191532Z
LAST-MODIFIED:20240102T191532Z
UID:20606-1708016400-1708452000@www.themiamiartscene.com
SUMMARY:The Palm Beach Show
DESCRIPTION:Thursday\, February 15th through Tuesday\, February 20th experience The Palm Beach Show – also known as the Palm Beach Jewelry\, Art & Antique Show. An exhibition of luxury and sophistication taking place at the Palm Beach County Convention Center over Presidents’ Day Weekend. \nThe Palm Beach Show remains the area’s only high-end showcase offering items spanning every genre\, juxtaposing many periods and movements. Each year the show reinforces its all-inclusive nature as well as reaffirms the shows prominent presence in the Palm Beach market as the most prestigious cultural event of the season. \n  \nOpening Night Preview Party\nThursday\, February 15\, 2024 | 5:00 pm – 10:00 pm \nVIP Preview – 5:00 pm Entry \nCollectors Preview – 7:00 pm Entry \nGeneral Show Dates\nFriday\, February 16 | 11am – 6pm \nSaturday\, February 17 | 11am – 6pm \nSunday\, February 18 | 11am – 6pm \nMonday\, February 19 | 11am – 6pm \nTuesday\, February 20 | 11am – 6pm
URL:https://www.themiamiartscene.com/event/the-palm-beach-show/
LOCATION:Palm Beach County Convention Center\, 650 Okeechobee Boulevard\, West Palm Beach\, FL\, 33401\, United States
ATTACH;FMTTYPE=image/jpeg:https://www.themiamiartscene.com/wp-content/uploads/2024/01/the-palm-beach-show.jpeg
END:VEVENT
END:VCALENDAR