BEGIN:VCALENDAR
VERSION:2.0
PRODID:-//Miami Art Scene™ - ECPv6.15.20//NONSGML v1.0//EN
CALSCALE:GREGORIAN
METHOD:PUBLISH
X-WR-CALNAME:Miami Art Scene™
X-ORIGINAL-URL:https://www.themiamiartscene.com
X-WR-CALDESC:Events for Miami Art Scene™
REFRESH-INTERVAL;VALUE=DURATION:PT1H
X-Robots-Tag:noindex
X-PUBLISHED-TTL:PT1H
BEGIN:VTIMEZONE
TZID:America/New_York
BEGIN:DAYLIGHT
TZOFFSETFROM:-0500
TZOFFSETTO:-0400
TZNAME:EDT
DTSTART:20250309T070000
END:DAYLIGHT
BEGIN:STANDARD
TZOFFSETFROM:-0400
TZOFFSETTO:-0500
TZNAME:EST
DTSTART:20251102T060000
END:STANDARD
BEGIN:DAYLIGHT
TZOFFSETFROM:-0500
TZOFFSETTO:-0400
TZNAME:EDT
DTSTART:20260308T070000
END:DAYLIGHT
BEGIN:STANDARD
TZOFFSETFROM:-0400
TZOFFSETTO:-0500
TZNAME:EST
DTSTART:20261101T060000
END:STANDARD
BEGIN:DAYLIGHT
TZOFFSETFROM:-0500
TZOFFSETTO:-0400
TZNAME:EDT
DTSTART:20270314T070000
END:DAYLIGHT
BEGIN:STANDARD
TZOFFSETFROM:-0400
TZOFFSETTO:-0500
TZNAME:EST
DTSTART:20271107T060000
END:STANDARD
END:VTIMEZONE
BEGIN:VEVENT
DTSTART;TZID=America/New_York:20260212T120000
DTEND;TZID=America/New_York:20260217T180000
DTSTAMP:20260423T194440
CREATED:20260130T183118Z
LAST-MODIFIED:20260130T183608Z
UID:25880-1770897600-1771351200@www.themiamiartscene.com
SUMMARY:Palm Beach Jewelry\, Art & Antique Show
DESCRIPTION:Thursday\, February 12th through Tuesday\, February 17th experience the Palm Beach Show – AKA the Palm Beach Jewelry\, Art & Antique Show. Known as the most luxurious and sophisticated showcase of its kind in the United States\, the 23rd Annual Palm Beach Show returns February 12-17\, 2026 to the Palm Beach County Convention Center over Presidents’ Day Weekend. PURCHASE TICKETS HERE. \nThe Palm Beach Show offers items spanning every genre\, juxtaposing many periods and movements. Each year the show reinforces its all-inclusive nature as one of the most prestigious cultural event of the Palm Beach winter season. \n  \n\n\nOpening Night Preview Party\n\n\n\n\nThursday\, February 12\, 2026 | 2:00 pm – 9:00 pm \n\n\n\n\nGeneral Show Dates\n\n\n\n\n\n\n\n\n\n\n\n\nFriday\, February 13 | 11am – 6pm \n\n\n\n\n\n\n\n\n\n\n\n\nSaturday\, February 14 | 11am – 6pm \n\n\n\n\n\n\n\n\n\n\n\n\nSunday\, February 15 | 11am – 6pm \n\n\n\n\n\n\n\n\n\n\n\n\nMonday\, February 16 | 11am – 6pm \n\n\n\n\n\n\n\n\n\n\n\n\nTuesday\, February 17 | 11am – 6pm
URL:https://www.themiamiartscene.com/event/palm-beach-jewelry-art-antique-show-2/
LOCATION:Palm Beach County Convention Center\, 650 Okeechobee Boulevard\, West Palm Beach\, FL\, 33401\, United States
ATTACH;FMTTYPE=image/png:https://www.themiamiartscene.com/wp-content/uploads/2026/01/palm-beach-show-2026.png
END:VEVENT
END:VCALENDAR