BEGIN:VCALENDAR
VERSION:2.0
PRODID:-//Miami Art Scene™ - ECPv6.15.20//NONSGML v1.0//EN
CALSCALE:GREGORIAN
METHOD:PUBLISH
X-WR-CALNAME:Miami Art Scene™
X-ORIGINAL-URL:https://www.themiamiartscene.com
X-WR-CALDESC:Events for Miami Art Scene™
REFRESH-INTERVAL;VALUE=DURATION:PT1H
X-Robots-Tag:noindex
X-PUBLISHED-TTL:PT1H
BEGIN:VTIMEZONE
TZID:America/New_York
BEGIN:DAYLIGHT
TZOFFSETFROM:-0500
TZOFFSETTO:-0400
TZNAME:EDT
DTSTART:20230312T070000
END:DAYLIGHT
BEGIN:STANDARD
TZOFFSETFROM:-0400
TZOFFSETTO:-0500
TZNAME:EST
DTSTART:20231105T060000
END:STANDARD
BEGIN:DAYLIGHT
TZOFFSETFROM:-0500
TZOFFSETTO:-0400
TZNAME:EDT
DTSTART:20240310T070000
END:DAYLIGHT
BEGIN:STANDARD
TZOFFSETFROM:-0400
TZOFFSETTO:-0500
TZNAME:EST
DTSTART:20241103T060000
END:STANDARD
BEGIN:DAYLIGHT
TZOFFSETFROM:-0500
TZOFFSETTO:-0400
TZNAME:EDT
DTSTART:20250309T070000
END:DAYLIGHT
BEGIN:STANDARD
TZOFFSETFROM:-0400
TZOFFSETTO:-0500
TZNAME:EST
DTSTART:20251102T060000
END:STANDARD
END:VTIMEZONE
BEGIN:VEVENT
DTSTART;TZID=America/New_York:20241102T110000
DTEND;TZID=America/New_York:20241103T170000
DTSTAMP:20260425T123720
CREATED:20240905T173504Z
LAST-MODIFIED:20240905T173504Z
UID:22138-1730545200-1730653200@www.themiamiartscene.com
SUMMARY:Save The Date! For the 26th Annual Art & Music Fest in the Pines – Saturday\, November 2nd & Sunday\, November 3rd\, 2024
DESCRIPTION:Saturday\, November 2nd (11am to 8pm) and Sunday\, November 3rd (12pm to 5pm) you are cordially invited to enjoy The 26th Annual Art & Music Festival in the Pines! This exciting event is a FREE two-day art and music celebration in The City of Pembroke Pines\, held at the Charles F. Dodge City Center\, 601 City Center Way. This event is free to the public and will feature talented artists from all over the country\, live music\, food trucks\, workshops at The Frank Art Gallery\, a Student Art Competition\, Kids’ Art & Game Zone\, performances\, live hands-on art demonstrations and much more!
URL:https://www.themiamiartscene.com/event/save-the-date-for-the-26th-annual-art-music-fest-in-the-pines-saturday-november-2nd-sunday-november-3rd-2024/
LOCATION:Charles F. Dodge City Center\, 601 City Center Way\, Pembroke Pines\, FL\, 33025\, United States
ATTACH;FMTTYPE=image/png:https://www.themiamiartscene.com/wp-content/uploads/2024/09/26th-Annual-Art-Music-Fest-IG-2.png
END:VEVENT
BEGIN:VEVENT
DTSTART;TZID=America/New_York:20241116T150000
DTEND;TZID=America/New_York:20241116T190000
DTSTAMP:20260425T123720
CREATED:20241101T011654Z
LAST-MODIFIED:20241101T011654Z
UID:22483-1731769200-1731783600@www.themiamiartscene.com
SUMMARY:Studio 18 Art Complex: Studio 18 Resident Artists Takeover Exhibition Celebration
DESCRIPTION:Saturday\, November 16th from 3 – 7pm experience an exciting and interactive celebration of the Studio 18 Resident Artists Takeover Exhibition! This special event is a dynamic fusion of open studios\, hands-on workshops\, and a lively reception\, all coming together for a night of art\, creativity\, and community. The Studio 18 Artist Takeover exhibition is on view October 25\, 2024 – January 11\, 2025. \nExplore the exhibition\, which showcases a diverse array of works from the talented Studio 18 Resident Artists\, spanning painting\, sculpture\, photography\, mixed media\, and more. The show delves into themes of identity\, memory\, and transformation\, offering a glimpse into the unique creative journeys of each artist. \nGuests will enjoy Open Studios & Workshops – wander through the Studio 18 artist studios and take part in free workshops led by Resident Artists. Learn to create realistic textures in drawing or craft your own affirmation collage\, all while discovering the inspiration behind the works in the exhibition. \n 
URL:https://www.themiamiartscene.com/event/studio-18-art-complex-studio-18-resident-artists-takeover-exhibition-celebration/
LOCATION:Studio 18 in the Pines\, 1101 Poinciana Drive\, Pembroke Pines\, FL\, 33025\, United States
ATTACH;FMTTYPE=image/png:https://www.themiamiartscene.com/wp-content/uploads/2024/10/Studio-18-Takeover-Banner.pdf-1.png
END:VEVENT
BEGIN:VEVENT
DTSTART;TZID=America/New_York:20241121T180000
DTEND;TZID=America/New_York:20241121T210000
DTSTAMP:20260425T123720
CREATED:20241023T161833Z
LAST-MODIFIED:20241023T161833Z
UID:22409-1732212000-1732222800@www.themiamiartscene.com
SUMMARY:The Frank presents Ebb & Flow: Exploring The Womanhood Continuum
DESCRIPTION:Thursday\, November 21st from 6 – 9pm art lovers and art-goers are cordially invited to the Opening Reception of Ebb & Flow: Exploring The Womanhood Continuum\, a dynamic winter exhibition at The Frank C. Ortis Art Gallery\, running from November 21\, 2024\, to February 22\, 2025 in the City of Pembroke Pines. The exhibition offers a space for reflection and empowerment\, highlighting the complexities and diversity of feminine experiences across cultures and time. Guests will enjoy free entry\, live music\, complimentary refreshments\, and hors d’oeuvres at The Frank Gallery. This Event is Free & Open to the Public. \nCurated by Sophie Bonet and Pamela Zee Lopez\, the exhibition features nine artists exploring the fluid and evolving nature of womanhood. Through a variety of mediums\, the artists engage with themes of memory\, resilience\, the body\, and identity\, challenging societal constructs of femininity while celebrating its transformative power.
URL:https://www.themiamiartscene.com/event/the-frank-presents-ebb-flow-exploring-the-womanhood-continuum/
LOCATION:The Frank Gallery\, 601 City Center Way\, Pembroke Pines\, FL\, 33025\, United States
ATTACH;FMTTYPE=image/png:https://www.themiamiartscene.com/wp-content/uploads/2024/10/Ebb-Flow-1080x1080-2.png
END:VEVENT
END:VCALENDAR