BEGIN:VCALENDAR
VERSION:2.0
PRODID:-//Miami Art Scene™ - ECPv6.15.20//NONSGML v1.0//EN
CALSCALE:GREGORIAN
METHOD:PUBLISH
X-WR-CALNAME:Miami Art Scene™
X-ORIGINAL-URL:https://www.themiamiartscene.com
X-WR-CALDESC:Events for Miami Art Scene™
REFRESH-INTERVAL;VALUE=DURATION:PT1H
X-Robots-Tag:noindex
X-PUBLISHED-TTL:PT1H
BEGIN:VTIMEZONE
TZID:America/New_York
BEGIN:DAYLIGHT
TZOFFSETFROM:-0500
TZOFFSETTO:-0400
TZNAME:EDT
DTSTART:20250309T070000
END:DAYLIGHT
BEGIN:STANDARD
TZOFFSETFROM:-0400
TZOFFSETTO:-0500
TZNAME:EST
DTSTART:20251102T060000
END:STANDARD
BEGIN:DAYLIGHT
TZOFFSETFROM:-0500
TZOFFSETTO:-0400
TZNAME:EDT
DTSTART:20260308T070000
END:DAYLIGHT
BEGIN:STANDARD
TZOFFSETFROM:-0400
TZOFFSETTO:-0500
TZNAME:EST
DTSTART:20261101T060000
END:STANDARD
BEGIN:DAYLIGHT
TZOFFSETFROM:-0500
TZOFFSETTO:-0400
TZNAME:EDT
DTSTART:20270314T070000
END:DAYLIGHT
BEGIN:STANDARD
TZOFFSETFROM:-0400
TZOFFSETTO:-0500
TZNAME:EST
DTSTART:20271107T060000
END:STANDARD
END:VTIMEZONE
BEGIN:VEVENT
DTSTART;TZID=America/New_York:20260405T130000
DTEND;TZID=America/New_York:20260405T180000
DTSTAMP:20260423T145338
CREATED:20260329T171812Z
LAST-MODIFIED:20260329T171812Z
UID:26454-1775394000-1775412000@www.themiamiartscene.com
SUMMARY:ArtGal.Online invites you to an Easter Sip & Paint at Artgalzim Center Domboshava
DESCRIPTION:Saturday\, April 5th from 1 – 6pm enjoy an Easter Sip & Paint at Artgalzim Center Domboshava\, Zimbabwe. The gallery invites you to enjoy an Easter Sip & Paint where you can get creative\, unwind\, and celebrate renewal with friends and family. Surprise Guest Artist! Check out ArtGal.Online\, promoting art from Zimbabwe. \n$15 per person. All materials supplied\, book your spot now\, RSVP: artgalzimcenter@gmail.com \n 
URL:https://www.themiamiartscene.com/event/artgal-online-invites-you-to-an-easter-sip-paint-at-artgalzim-center-domboshava/
LOCATION:Artgalzim Center Domboshava\, Zimbabwe
ATTACH;FMTTYPE=image/jpeg:https://www.themiamiartscene.com/wp-content/uploads/2026/03/artgal_Sip-and-Paint-at-Easter.jpeg
END:VEVENT
END:VCALENDAR