BEGIN:VCALENDAR
VERSION:2.0
PRODID:-//Miami Art Scene™ - ECPv6.15.20//NONSGML v1.0//EN
CALSCALE:GREGORIAN
METHOD:PUBLISH
X-WR-CALNAME:Miami Art Scene™
X-ORIGINAL-URL:https://www.themiamiartscene.com
X-WR-CALDESC:Events for Miami Art Scene™
REFRESH-INTERVAL;VALUE=DURATION:PT1H
X-Robots-Tag:noindex
X-PUBLISHED-TTL:PT1H
BEGIN:VTIMEZONE
TZID:America/New_York
BEGIN:DAYLIGHT
TZOFFSETFROM:-0500
TZOFFSETTO:-0400
TZNAME:EDT
DTSTART:20230312T070000
END:DAYLIGHT
BEGIN:STANDARD
TZOFFSETFROM:-0400
TZOFFSETTO:-0500
TZNAME:EST
DTSTART:20231105T060000
END:STANDARD
BEGIN:DAYLIGHT
TZOFFSETFROM:-0500
TZOFFSETTO:-0400
TZNAME:EDT
DTSTART:20240310T070000
END:DAYLIGHT
BEGIN:STANDARD
TZOFFSETFROM:-0400
TZOFFSETTO:-0500
TZNAME:EST
DTSTART:20241103T060000
END:STANDARD
BEGIN:DAYLIGHT
TZOFFSETFROM:-0500
TZOFFSETTO:-0400
TZNAME:EDT
DTSTART:20250309T070000
END:DAYLIGHT
BEGIN:STANDARD
TZOFFSETFROM:-0400
TZOFFSETTO:-0500
TZNAME:EST
DTSTART:20251102T060000
END:STANDARD
END:VTIMEZONE
BEGIN:VEVENT
DTSTART;TZID=America/New_York:20240704T180000
DTEND;TZID=America/New_York:20240704T210000
DTSTAMP:20260425T231508
CREATED:20240702T031750Z
LAST-MODIFIED:20240702T031750Z
UID:21642-1720116000-1720126800@www.themiamiartscene.com
SUMMARY:Celebrate Fourth of July at Pérez Art Museum Miami
DESCRIPTION:Thursday\, July 4th from 6 – 9pm kick off your Fourth of July weekend and festivities at Pérez Art Museum Miami. Enjoy sounds by the Taylor Byrd Band\, art-making activities\, happy hour specials (5–8pm)\, and BBQ favorites for purchase from Verde before finding your spot for local fireworks on the bay! \nPAMM members can also enjoy double discounts of 20% at Verde and PAMM Shop all day long. Become a member today at PAMM and receive three extra months of membership. Use promo code SUMMER24 at checkout. About Taylor Byrd Band: Taylor Byrd is a singer and guitarist from Spartanburg\, South Carolina. Pursuing his love of music at the University of Miami\, he has made music his full-time job\, playing in the greater Miami area and abroad for the last 15 years. Byrd has shared his talents with recording artists\, studios\, festivals\, and concert stadiums. His sound blends classic rock\, Americana\, country\, and folk. Free with RSVP. Programming on the terrace is free. Paid tickets required to access the galleries.
URL:https://www.themiamiartscene.com/event/celebrate-fourth-of-july-at-perez-art-museum-miami/
LOCATION:Pérez Art Museum Miami\, 1103 Biscayne Boulevard\, Miami\, FL\, 33132\, United States
ATTACH;FMTTYPE=image/jpeg:https://www.themiamiartscene.com/wp-content/uploads/2024/06/PAMM-ThursdaysAtPAMM-FourthOfJuly_59824607-DFE8-748F-05A098E836C65CD1_5982de91-d294-d7fb-ec16b2266f591590.jpeg
END:VEVENT
BEGIN:VEVENT
DTSTART;TZID=America/New_York:20240711T110000
DTEND;TZID=America/New_York:20240711T190000
DTSTAMP:20260425T231508
CREATED:20240627T025837Z
LAST-MODIFIED:20240627T025837Z
UID:21605-1720695600-1720724400@www.themiamiartscene.com
SUMMARY:NSU Art Museum presents Sunny Days/Starry Nights: Free First Thursdays (New Date!)
DESCRIPTION:Thursday\, July 11th from 11am – 7pm enjoy Sunny Days/Starry Nights at NSU Art Museum in Fort Lauderdale. Due to Sunny Days/Starry Nights falling on July 4\, Free First Thursday will become Free Second Thursday in July! Enjoy FREE Museum admission and 2-for-1 All Day Happy Hour from 11 am to 7 pm during Sunny Days/Starry Nights. \nSchedule\n11 am – 6:30 pm: All Day Mini Muse\n11 am – 6:30 pm: Art & Seek\n3 pm and 5 pm: Storytime in the galleries with our neighbors at the Main Library\n4 – 6:30 pm: Open studio with Dimithry Victor\n11 am – 7 pm: 2-for-1 wine in the store café\nOpen Studio with Dimithry Victor during FREE Starry Nights \n  \nStarry Nights is presented by Broward Health.
URL:https://www.themiamiartscene.com/event/nsu-art-museum-presents-sunny-days-starry-nights-free-first-thursdays-new-date/
LOCATION:NSU Art Museum\, One East Las Olas Boulevard\, Fort Lauderdale\, FL\, 33301\, United States
ATTACH;FMTTYPE=image/png:https://www.themiamiartscene.com/wp-content/uploads/2023/12/nsu-starry-night.png
END:VEVENT
BEGIN:VEVENT
DTSTART;TZID=America/New_York:20240711T180000
DTEND;TZID=America/New_York:20240711T200000
DTSTAMP:20260425T231508
CREATED:20240526T210711Z
LAST-MODIFIED:20240526T210711Z
UID:21335-1720720800-1720728000@www.themiamiartscene.com
SUMMARY:History Fort Lauderdale Presents 'Wild Florida'
DESCRIPTION:History Fort Lauderdale\, proud steward of our community’s past by making our heritage accessible and engaging to residents and visitors\, will present “Wild Florida” from Thursday\, July 11 through Sunday\, September 8\, 2024. This free summer exhibit will feature impressionist fine art landscapes by Tim Forman along with traditional and modern interpretations of wildlife by local artists Stephanie McMillan\, Kim Heise\, Rosemary Fineberg\, and Stephanie Leyden. A free meet and greet with the artists will take place on Thursday\, July 11th from 6 – 8pm\, at the New River Inn Museum of History building at (231 Southwest Second Avenue). Complimentary light bites and beverages will be provided. \n  \nImage: “Pink Sunset” by Tim Forman.
URL:https://www.themiamiartscene.com/event/history-fort-lauderdale-presents-wild-florida/
LOCATION:History Fort Lauderdale\, 231 SW 2nd Avenue\, Fort Lauderdale\, FL\, 33301\, United States
ATTACH;FMTTYPE=image/jpeg:https://www.themiamiartscene.com/wp-content/uploads/2024/05/tim-forman-pink-sunset-1.jpeg
END:VEVENT
BEGIN:VEVENT
DTSTART;TZID=America/New_York:20240717T000000
DTEND;TZID=America/New_York:20240717T000000
DTSTAMP:20260425T231508
CREATED:20240718T182030Z
LAST-MODIFIED:20240723T151038Z
UID:21738-1721174400-1721174400@www.themiamiartscene.com
SUMMARY:Call to Artists: Art & Music Fest in the Pines 26th Annual - 2024
DESCRIPTION:Wednesday\, June 17th opens the application to the Call to Artists for the 26th Annual Art & Music Festival in the Pines\, a FREE two-day art and music celebration in The City of Pembroke Pines\, held at the Charles F. Dodge City Center\, 601 City Center Way\, from Saturday\, November 2nd (11am to 8pm) and Sunday\, November 3rd (12pm to 5pm). This event is free to the public and will feature talented artists from all over the country\, live music\, food trucks\, workshops at The Frank Art Gallery\, a Student Art Competition\, Kids’ Art & Game Zone\, performances\, live hands-on art demonstrations and much more! The City of Pembroke Pines invites all artists and crafters to apply to the 26th Annual Art & Music Fest in the Pines. Applications are available through ZAPP at www.zapplication.org until October 21st\, 2024. Interested parties are encouraged to apply via ZAPP or click here. The deadline for early bird pricing is Friday\, July 26th. \n  \nDates & Deadlines\nOpen Date: June 17\, 2024 \nEarly Bird Deadline: July 26\, 2024\nApplication Deadline: October 21\, 2024\nEvent Start: November 2\, 2024\nEvent End: November 3\, 2024
URL:https://www.themiamiartscene.com/event/call-to-artists-art-music-fest-in-the-pines-26th-annual-2024/
LOCATION:Charles F. Dodge City Center\, 601 City Center Way\, Pembroke Pines\, FL\, 33025\, United States
ATTACH;FMTTYPE=image/jpeg:https://www.themiamiartscene.com/wp-content/uploads/2024/07/art-and-music-fest-in-the-pines-1.jpeg
END:VEVENT
BEGIN:VEVENT
DTSTART;TZID=America/New_York:20240720T180000
DTEND;TZID=America/New_York:20240720T210000
DTSTAMP:20260425T231508
CREATED:20240703T221443Z
LAST-MODIFIED:20240703T221443Z
UID:21644-1721498400-1721509200@www.themiamiartscene.com
SUMMARY:The University of Miami presents 'For I Shall Already Have Forgotten You'\, an exhibition by Diego Waisman
DESCRIPTION:Saturday\, July 20th from 6 – 9pm The University of Miami Gallery in Wynwood presents the Opening Reception for the exhibition\, For I Shall Already Have Forgotten You\, by Diego Waisman. Despite the last economic recession\, cities across the US have seen a rebound in real-estate value. As a result\, land appreciation has allowed developers to target low-income neighborhoods\, paving the way for gentrification. As one South Florida reporter suggested\, Mobile Home Park communities have become the “low-hanging fruit for developers.” The disappearance of these Mobile Home Park communities is expanding homelessness and affecting the ever-shrinking inventory of affordable housing. \nIn a collection of images that are both quiet and telling\, For I Shall Already Have Forgotten You portrays the vulnerabilities experienced by residents of South Florida’s mobile home communities amid rapid urban transformation and the threat of economic displacement. Photographer Diego Alejandro Waisman captures a fractured sense of place in Miami-area neighborhoods that once flourished but are now increasingly forgotten. The exhibition is on view from July 17 – August 30\, 2024.
URL:https://www.themiamiartscene.com/event/the-university-of-miami-presents-for-i-shall-already-have-forgotten-you-an-exhibition-by-diego-waisman/
LOCATION:University of Miami Art Gallery\, 2750 NW 3rd Avenue\, Suite 4\, Miami\, FL\, 33127\, United States
ATTACH;FMTTYPE=image/jpeg:https://www.themiamiartscene.com/wp-content/uploads/2024/07/um-diego-waisman.jpeg
END:VEVENT
BEGIN:VEVENT
DTSTART;TZID=America/New_York:20240725T180000
DTEND;TZID=America/New_York:20240725T210000
DTSTAMP:20260425T231508
CREATED:20240720T013338Z
LAST-MODIFIED:20240720T013338Z
UID:21742-1721930400-1721941200@www.themiamiartscene.com
SUMMARY:The Bass: Summer Thursdays
DESCRIPTION:Thursday\, July 25th from 6 – 9pm stop by The Bass for Summer Thursdays and enjoy extended museum hours EVERY Thursday in July through September! \nRight at sundown\, take a nature walk through Collins Park and top it off with a peaceful evening at Miami Beach’s Contemporary Art Museum. \nMiami Beach residents\, military personnel and museum members enjoy FREE admission. Museum admission is reduced for seniors\, students and kids.
URL:https://www.themiamiartscene.com/event/the-bass-summer-thursdays/
LOCATION:The Bass\, 2100 Collins Avenue\, Miami Beach\, FL\, 33139\, United States
ATTACH;FMTTYPE=image/jpeg:https://www.themiamiartscene.com/wp-content/uploads/2024/07/the-bass-summer-thursdays.jpeg
END:VEVENT
BEGIN:VEVENT
DTSTART;TZID=America/New_York:20240726T000000
DTEND;TZID=America/New_York:20240726T000000
DTSTAMP:20260425T231508
CREATED:20240723T151122Z
LAST-MODIFIED:20240723T151143Z
UID:21777-1721952000-1721952000@www.themiamiartscene.com
SUMMARY:Call to Artists: Art & Music Fest in the Pines 26th Annual - Early Bird Deadline July 26th
DESCRIPTION:Wednesday\, June 17th opens the application to the Call to Artists for the 26th Annual Art & Music Festival in the Pines\, a FREE two-day art and music celebration in The City of Pembroke Pines\, held at the Charles F. Dodge City Center\, 601 City Center Way\, from Saturday\, November 2nd (11am to 8pm) and Sunday\, November 3rd (12pm to 5pm). This event is free to the public and will feature talented artists from all over the country\, live music\, food trucks\, workshops at The Frank Art Gallery\, a Student Art Competition\, Kids’ Art & Game Zone\, performances\, live hands-on art demonstrations and much more! The City of Pembroke Pines invites all artists and crafters to apply to the 26th Annual Art & Music Fest in the Pines. Applications are available through ZAPP at www.zapplication.org until October 21st\, 2024. Interested parties are encouraged to apply via ZAPP or click here. The deadline for early bird pricing is Friday\, July 26th. \n  \nDates & Deadlines\nOpen Date: June 17\, 2024 \nEarly Bird Deadline: July 26\, 2024\nApplication Deadline: October 21\, 2024\nEvent Start: November 2\, 2024\nEvent End: November 3\, 2024
URL:https://www.themiamiartscene.com/event/call-to-artists-art-music-fest-in-the-pines-26th-annual-early-bird-deadline-july-26th/
LOCATION:Charles F. Dodge City Center\, 601 City Center Way\, Pembroke Pines\, FL\, 33025\, United States
ATTACH;FMTTYPE=image/jpeg:https://www.themiamiartscene.com/wp-content/uploads/2024/07/art-and-music-fest-in-the-pines-1.jpeg
END:VEVENT
BEGIN:VEVENT
DTSTART;TZID=America/New_York:20240728T120000
DTEND;TZID=America/New_York:20240728T170000
DTSTAMP:20260425T231508
CREATED:20240715T231008Z
LAST-MODIFIED:20240715T231008Z
UID:21699-1722168000-1722186000@www.themiamiartscene.com
SUMMARY:NSU Art Museum: FREE Fort Lauderdale Neighbor Day
DESCRIPTION:Sunday\, July 28th from 12noon – 5pm Fort Lauderdale residents receive FREE admission to NSU Art Museum on Free Fort Lauderdale Neighbor Days. Residents will enjoy the exhibitions on view\, and also receive 10% discount on catalogues published by NSU Art Museum in the Museum Store as well as 2-for-1 wine in the Museum Café. \nFor free admission\, residents must show a photo ID\, driver’s license or residential utility bill with proof of Fort Lauderdale address. \n  \nFort Lauderdale Neighbor Day is supported by the City of Fort Lauderdale.
URL:https://www.themiamiartscene.com/event/nsu-art-museum-free-fort-lauderdale-neighbor-day-22/
LOCATION:NSU Art Museum\, One East Las Olas Boulevard\, Fort Lauderdale\, FL\, 33301\, United States
ATTACH;FMTTYPE=image/png:https://www.themiamiartscene.com/wp-content/uploads/2022/09/nsu-art-museum_neighborday.png
END:VEVENT
END:VCALENDAR