BEGIN:VCALENDAR
VERSION:2.0
PRODID:-//Miami Art Scene™ - ECPv6.15.20//NONSGML v1.0//EN
CALSCALE:GREGORIAN
METHOD:PUBLISH
X-WR-CALNAME:Miami Art Scene™
X-ORIGINAL-URL:https://www.themiamiartscene.com
X-WR-CALDESC:Events for Miami Art Scene™
REFRESH-INTERVAL;VALUE=DURATION:PT1H
X-Robots-Tag:noindex
X-PUBLISHED-TTL:PT1H
BEGIN:VTIMEZONE
TZID:America/New_York
BEGIN:DAYLIGHT
TZOFFSETFROM:-0500
TZOFFSETTO:-0400
TZNAME:EDT
DTSTART:20230312T070000
END:DAYLIGHT
BEGIN:STANDARD
TZOFFSETFROM:-0400
TZOFFSETTO:-0500
TZNAME:EST
DTSTART:20231105T060000
END:STANDARD
BEGIN:DAYLIGHT
TZOFFSETFROM:-0500
TZOFFSETTO:-0400
TZNAME:EDT
DTSTART:20240310T070000
END:DAYLIGHT
BEGIN:STANDARD
TZOFFSETFROM:-0400
TZOFFSETTO:-0500
TZNAME:EST
DTSTART:20241103T060000
END:STANDARD
BEGIN:DAYLIGHT
TZOFFSETFROM:-0500
TZOFFSETTO:-0400
TZNAME:EDT
DTSTART:20250309T070000
END:DAYLIGHT
BEGIN:STANDARD
TZOFFSETFROM:-0400
TZOFFSETTO:-0500
TZNAME:EST
DTSTART:20251102T060000
END:STANDARD
END:VTIMEZONE
BEGIN:VEVENT
DTSTART;TZID=America/New_York:20241205T110000
DTEND;TZID=America/New_York:20241205T190000
DTSTAMP:20260425T112407
CREATED:20241202T170358Z
LAST-MODIFIED:20241202T170358Z
UID:22774-1733396400-1733425200@www.themiamiartscene.com
SUMMARY:NSU Art Museum presents Sunny Days/Starry Nights: Free First Thursdays
DESCRIPTION:Thursday\, December 5th from 11am – 7pm enjoy Sunny Days/Starry Nights: Free First Thursdays at NSU Art Museum in Fort Lauderdale\, offering visitors free admission to the Museum for a full day of art-making! \nEnjoy FREE Museum admission and 2-for-1 All Day Happy Hour on the first Thursday of every month from 11 am to 7 pm during Free First Thursday Sunny Days/Starry Nights. Enjoy Mini Muse\, free drop-in art-making activities ALL DAY for children inspired by current exhibitions. \n  \nStarry Nights is presented by Broward Health.
URL:https://www.themiamiartscene.com/event/nsu-art-museum-presents-sunny-days-starry-nights-free-first-thursdays-20/
LOCATION:NSU Art Museum\, One East Las Olas Boulevard\, Fort Lauderdale\, FL\, 33301\, United States
ATTACH;FMTTYPE=image/png:https://www.themiamiartscene.com/wp-content/uploads/2023/12/nsu-starry-night.png
END:VEVENT
BEGIN:VEVENT
DTSTART;TZID=America/New_York:20241205T120000
DTEND;TZID=America/New_York:20241207T190000
DTSTAMP:20260425T112407
CREATED:20241201T013519Z
LAST-MODIFIED:20241201T014003Z
UID:22754-1733400000-1733598000@www.themiamiartscene.com
SUMMARY:CAMP Gallery at Feria Clandestina 2024
DESCRIPTION:Thursday\, December 5th through Saturday December 7th join The Contemporary Art Modern Project (CAMP Gallery) from December 5–7 in Room 214 at Feria Clandestina during Miami Art Week for an eclectic showcase of cyanotype and painting.  Step into the world of The Contemporary Art Modern Project exhibition at Feria Clandestina in the glamorous MiMo District. RESERVE A SPOT HERE. \nMargaret Roleke\, Hermes Berrío\, and Lydia Viscardi explore opposing social forces in The Contemporary Art Modern Project’s room at the Gold Dust Motel. These artists tackle the aesthetics of their environments and the day-to-day experiences within them\, from urban and suburban domesticity and how gun violence endangers both\, as a reminder of what we have and what can tear everything apart. \n  \nFeria Clandestina 2024 \nMAKING ROOM at Gold Dust Motel \nVIP POOL PASS HOLDERS: THURSDAY\, December 5\, 2024 | 12-1PM Brunch @Clandestina Lounge (Room 220)| VIP Happy Hour 5-7pm Pool Side \n  \nPublic Fair Hours: Th 12:00-22:00\, Fr 12:00-19:00\, Sa 12:00-19:00 \nTHURSDAY\, DEC. 5 | 12- 10PM \nOpening party 6 – 10PM \nFRIDAY\, DEC. 6 | 12- 7PM \nSATURDAY\, DEC. 7 | 12 – 7PM \n 
URL:https://www.themiamiartscene.com/event/camp-gallery-at-feria-clandestina-2024/
LOCATION:Selina Miami Gold Dust\, 7700 Biscayne Boulevard\, Miami\, FL\, 33138\, United States
ATTACH;FMTTYPE=image/jpeg:https://www.themiamiartscene.com/wp-content/uploads/2024/11/camp-feria-clandestina-miami-art-week.jpeg
END:VEVENT
BEGIN:VEVENT
DTSTART;TZID=America/New_York:20241207T180000
DTEND;TZID=America/New_York:20241207T210000
DTSTAMP:20260425T112407
CREATED:20241115T161400Z
LAST-MODIFIED:20241118T211228Z
UID:22648-1733594400-1733605200@www.themiamiartscene.com
SUMMARY:University of Miami\, Department of Art & Art History: New Works by MFA Students during Miami Art Week
DESCRIPTION:Saturday\, December 7th from 6 – 9pm in celebration of Art Basel Miami\, the University of Miami Department of Art and Art History presents New Works\, showcasing the artwork of students pursuing their Master of Fine Arts at the University of Miami Gallery located in the Wynwood Building. The exhibition features a diverse range of mediums\, including printmaking\, ceramics\, painting\, photography\, and more. The exhibition is on view December 2\, 2024 – January 17\, 2025. \nThe MFA program is a rigorous 60-credit\, three-year curriculum that culminates in a terminal degree\, equipping students for careers in the professional studio art world and qualifying them for college teaching positions. This highly competitive program attracts applicants from across the nation and around the globe. \nFeaturing:\nValerie Catalan\nNatalie Galindo\nMonia Meluzzi\nJulia Galvao Ramos\nAlian Martinez Rives\nRichard Rodriguez\nLucas Varnum\nLiuqing Ruth Yang\nCherlynn Zhang \nNEW WORKS will be on display until January 17\, 2025\, at the University of Miami Gallery\, Wynwood Building\, 2750 NW 3rd Ave\, Suite 4\, Miami\, FL 33127. Open Wed-Fri\, 9:00 a.m. to 3:00 p.m.\, or by appointment. Call (305) 284-3161 to confirm. \nFor information about the gallery and online offerings\, contact Milly Cardoso\, Gallery Director\, m.cardoso1@miami.edu. Follow UM Art Galleries on Instagram @umartgalleries. \n  \nImage: Natalie Galindo\, El Espiritu del Marichi\, La Banda de Papa\, Oil on Canvas\, 48” x 78”
URL:https://www.themiamiartscene.com/event/university-of-miami-department-of-art-art-history-new-works-by-mfa-students-during-miami-art-week/
LOCATION:University of Miami Art Gallery\, 2750 NW 3rd Avenue\, Suite 4\, Miami\, FL\, 33127\, United States
ATTACH;FMTTYPE=image/jpeg:https://www.themiamiartscene.com/wp-content/uploads/2024/11/UM-new-works-MFA-2024-december-art-week.jpeg
END:VEVENT
BEGIN:VEVENT
DTSTART;TZID=America/New_York:20241218T121500
DTEND;TZID=America/New_York:20241218T131500
DTSTAMP:20260425T112407
CREATED:20241217T005102Z
LAST-MODIFIED:20241217T005102Z
UID:22800-1734524100-1734527700@www.themiamiartscene.com
SUMMARY:Bailey Contemporary Arts presents Lunch with Art: The Visual Arts Edition
DESCRIPTION:Wednesday\, December 18th from 12:15 – 1:15pm Bailey Contemporary Arts in Pompano Beach presents Lunch with Art: The Visual Arts Edition. \nTrying new things has been proven to make you more creative\, and it’s good for your brain. So each Wednesday Bailey Contemporary Arts offers a new way to nourish your soul & get creative during your lunch hour… and it’s FREE / RSVP HERE. \nNo two weeks are the same as each new workshop offers a different creative experience and encourages you to step out of the mundane and explore your potential. Each simple\, hands-on project becomes an escape from the daily stresses of life and reminds you how beauty can be found in even the most simplest of projects. \nGuests are invited to bring their lunch. \nSpace is limited\, no tickets will be sold at the door.
URL:https://www.themiamiartscene.com/event/bailey-contemporary-arts-presents-lunch-with-art-the-visual-arts-edition-3/
LOCATION:Bailey Contemporary Arts\, 41 NE 1st Street\, Pompano Beach\, FL\, 33060\, United States
ATTACH;FMTTYPE=image/jpeg:https://www.themiamiartscene.com/wp-content/uploads/2024/12/baca_lunch-with-art.jpeg
END:VEVENT
BEGIN:VEVENT
DTSTART;TZID=America/New_York:20241219T180000
DTEND;TZID=America/New_York:20241219T210000
DTSTAMP:20260425T112407
CREATED:20241119T015948Z
LAST-MODIFIED:20241119T015948Z
UID:22662-1734631200-1734642000@www.themiamiartscene.com
SUMMARY:HOLIDAY ART MARKET at The Frank Gallery in Pembroke Pines
DESCRIPTION:Thursday\, December 19th from 6 – 9pm enjoy the Holiday Art Market at The Frank Gallery in Pembroke Pines. Get in the holiday spirit! Enjoy an evening of Holiday Shopping at The Frank Art Gallery in the City of Pembroke Pines to shop handmade goods from a variety of local artists\, delight in a free screening of a holiday movie\, and enjoy a free art holiday themed art activity. This Event is FREE & Open to the Public. \nGet your holiday shopping done in the Frank Art Gallery while supporting your local art community. Stop by the Classroom space to complete a free\, all ages holiday themed art activity. Bring your chairs and blankets to get cozy on the plaza for a free screening of a holiday movie\, enjoy free popcorn and other snacks and beverages available for purchase.
URL:https://www.themiamiartscene.com/event/holiday-art-market-at-the-frank-gallery-in-pembroke-pines/
LOCATION:The Frank\, 601 City Center Way\, Pembroke Pines\, FL\, 33025\, United States
ATTACH;FMTTYPE=image/jpeg:https://www.themiamiartscene.com/wp-content/uploads/2024/11/Holiday-Art-Market-The-Frank-1-e1731981536494.jpg
END:VEVENT
BEGIN:VEVENT
DTSTART;TZID=America/New_York:20241220T180000
DTEND;TZID=America/New_York:20241220T220000
DTSTAMP:20260425T112407
CREATED:20241218T202806Z
LAST-MODIFIED:20241218T202806Z
UID:22811-1734717600-1734732000@www.themiamiartscene.com
SUMMARY:PAL Gallery 305 presents "Art is in the Eye of the Beholder"
DESCRIPTION:Friday\, December 20th from 6 – 10pm experience the Opening Reception of “Art is in the Eye of the Beholder” at PAL Gallery 305 in Miami. Dive into a world where art is seen through the lens of perception. The inaugural exhibit\, “Art is in the Eye of the Beholder” will be a night of bubbles\, bites\, and\, of course\, beautiful art! This Event is FREE & Open to the Public.
URL:https://www.themiamiartscene.com/event/pal-gallery-305-presents-art-is-in-the-eye-of-the-beholder/
LOCATION:PAL Gallery 305\, Dorn Building 5900 Sunset Drive\, Miami\, FL\, 33143\, United States
ATTACH;FMTTYPE=image/jpeg:https://www.themiamiartscene.com/wp-content/uploads/2024/12/pal-gallery-305.jpeg
END:VEVENT
BEGIN:VEVENT
DTSTART;TZID=America/New_York:20241229T120000
DTEND;TZID=America/New_York:20241229T170000
DTSTAMP:20260425T112407
CREATED:20241217T010308Z
LAST-MODIFIED:20241217T010308Z
UID:22803-1735473600-1735491600@www.themiamiartscene.com
SUMMARY:NSU Art Museum: FREE Fort Lauderdale Neighbor Day
DESCRIPTION:Sunday\, December 29th from 12noon – 5pm Fort Lauderdale residents receive FREE admission to NSU Art Museum on Free Fort Lauderdale Neighbor Days. Residents will enjoy the exhibitions on view\, and also receive 10% discount on catalogues published by NSU Art Museum in the Museum Store as well as 2-for-1 wine in the Museum Café. \nFor free admission\, residents must show a photo ID\, driver’s license or residential utility bill with proof of Fort Lauderdale address. \n  \nFort Lauderdale Neighbor Day is supported by the City of Fort Lauderdale.
URL:https://www.themiamiartscene.com/event/nsu-art-museum-free-fort-lauderdale-neighbor-day-27/
LOCATION:NSU Art Museum\, One East Las Olas Boulevard\, Fort Lauderdale\, FL\, 33301\, United States
ATTACH;FMTTYPE=image/png:https://www.themiamiartscene.com/wp-content/uploads/2022/09/nsu-art-museum_neighborday.png
END:VEVENT
END:VCALENDAR