BEGIN:VCALENDAR
VERSION:2.0
PRODID:-//Miami Art Scene™ - ECPv6.15.20//NONSGML v1.0//EN
CALSCALE:GREGORIAN
METHOD:PUBLISH
X-WR-CALNAME:Miami Art Scene™
X-ORIGINAL-URL:https://www.themiamiartscene.com
X-WR-CALDESC:Events for Miami Art Scene™
REFRESH-INTERVAL;VALUE=DURATION:PT1H
X-Robots-Tag:noindex
X-PUBLISHED-TTL:PT1H
BEGIN:VTIMEZONE
TZID:America/New_York
BEGIN:DAYLIGHT
TZOFFSETFROM:-0500
TZOFFSETTO:-0400
TZNAME:EDT
DTSTART:20240310T070000
END:DAYLIGHT
BEGIN:STANDARD
TZOFFSETFROM:-0400
TZOFFSETTO:-0500
TZNAME:EST
DTSTART:20241103T060000
END:STANDARD
BEGIN:DAYLIGHT
TZOFFSETFROM:-0500
TZOFFSETTO:-0400
TZNAME:EDT
DTSTART:20250309T070000
END:DAYLIGHT
BEGIN:STANDARD
TZOFFSETFROM:-0400
TZOFFSETTO:-0500
TZNAME:EST
DTSTART:20251102T060000
END:STANDARD
BEGIN:DAYLIGHT
TZOFFSETFROM:-0500
TZOFFSETTO:-0400
TZNAME:EDT
DTSTART:20260308T070000
END:DAYLIGHT
BEGIN:STANDARD
TZOFFSETFROM:-0400
TZOFFSETTO:-0500
TZNAME:EST
DTSTART:20261101T060000
END:STANDARD
END:VTIMEZONE
BEGIN:VEVENT
DTSTART;TZID=America/New_York:20251101T140000
DTEND;TZID=America/New_York:20251101T163000
DTSTAMP:20260423T221239
CREATED:20251029T212131Z
LAST-MODIFIED:20251029T212131Z
UID:25164-1762005600-1762014600@www.themiamiartscene.com
SUMMARY:The Contemporary Art Modern Project (CAMP Gallery): Artist Workshop with Laeti Adam-Rabel and Round Table Talk with Janet Muller & Amy A. Llanes
DESCRIPTION:Saturday\, November 1st from 2 – 4:30pm enjoy an Artist Workshop & a Round Table Talk at The Contemporary Art Modern Project (CAMP Gallery) where guests can tour the exhibition and enjoy one of many in-gallery conversations and workshops taking place during the gallery’s annual fiber show\, Don’t Be Absurd. Featuring an Artist Workshop with Laeti Adam-Rabel\, and a Round Table Talk with Janet Mueller & Amy Llanes for an insightful discussion involving the artist’s creative practice and process interpreting this year’s theme into their pieces. This Event is FREE & Open to the Public | RSVP HERE. \n  \nThe Contemporary Art Modern Project’s 7th Edition of Women Pulling at The Threads of Social Discourse: Don’t be Absurd. The exhibition opened on Friday\, Oct.17 with an artist and collector preview. Over 100 years ago Søren Aabye Kierkegaard set the stage for society to look beyond one’s own concerns with the start of Existentialism. Absurdism emerges after the Second World War as the world grappled with the sense of the meaninglessness of life due to an overwhelming indifference for humanity and the suffering of others. For this year’s edition of: Women Pulling at The Threads of Social Discourse\, and Guests: Don’t Be Absurd\, the exploration of Absurdism is done through the hands of fiber artists. Artists were asked to refer to works by: Albert Camus\, Franz Kafka\, Simone De Beauvoir\, Samuel Beckett\, and Jose Saramago and interpret the writings into circular fiber responses. This exhibition is on view October 17 — December 20\, 2025. The run of the exhibition will include several in-gallery art talks\, workshops and conversations about fiber art with both artists and curators. CAMP Gallery is located in North Miami at 791-793 NE 125 Street in Miami\, Florida 33161. The gallery is open Tuesday through Saturday\, from 11am – 5pm. Private visits can be scheduled by emailing hello@thecampgallery.com or calling 786-953-8807.
URL:https://www.themiamiartscene.com/event/the-contemporary-art-modern-project-camp-gallery-artist-workshop-with-laeti-adam-rabel-and-round-table-talk-with-janet-muller-amy-a-llanes/
LOCATION:The Contemporary Art Modern Project (The CAMP Gallery)\, 791-793 NE 125th Street\, North Miami\, FL\, 33161\, United States
ATTACH;FMTTYPE=image/png:https://www.themiamiartscene.com/wp-content/uploads/2025/10/camp-gallery-art-talk-absurd.png
END:VEVENT
BEGIN:VEVENT
DTSTART;TZID=America/New_York:20251102T103000
DTEND;TZID=America/New_York:20251102T120000
DTSTAMP:20260423T221239
CREATED:20251031T175417Z
LAST-MODIFIED:20251031T175417Z
UID:25186-1762079400-1762084800@www.themiamiartscene.com
SUMMARY:Breakfast at The Bass
DESCRIPTION:Saturday\, November 2nd from 10:30am – 12pm enjoy Breakfast at The Bass! Join Associate Curator of New Media Claudia Mattos  for a thought-provoking lecture\, highlighting The Kaleidoscopic: Writing Histories Through the Collection. This Event is Free & Open to the Public | RSVP HERE. \nLearn insights into the exhibition’s central theme\, curatorial process\, and the works selected to illustrate how museum collections shape and reshape narratives over time. This engaging morning program invites members to reflect on what stories are told\, who tells them\, and how shifting perspectives influence our understanding of history. \n  \nPhotography by Zaire Aranguren. Courtesy of The Bass\, Miami Beach.
URL:https://www.themiamiartscene.com/event/breakfast-at-the-bass-2/
LOCATION:The Bass\, 2100 Collins Avenue\, Miami Beach\, FL\, 33139\, United States
ATTACH;FMTTYPE=image/png:https://www.themiamiartscene.com/wp-content/uploads/2025/10/breakfast-at-the-bass-november-2025.png
END:VEVENT
BEGIN:VEVENT
DTSTART;TZID=America/New_York:20251108T140000
DTEND;TZID=America/New_York:20251108T163000
DTSTAMP:20260423T221239
CREATED:20251105T192113Z
LAST-MODIFIED:20251105T192113Z
UID:25236-1762610400-1762619400@www.themiamiartscene.com
SUMMARY:CAMP Gallery | Artist Talk & Workshop: Feat Emily Peters\, Rebecca White & Kátia Bandeira
DESCRIPTION:Saturday\, November 8th from 2 – 4:30pm enjoy an Artist Workshop & a Round Table Talk at The Contemporary Art Modern Project (CAMP Gallery) where guests can tour the exhibition and enjoy one of many in-gallery conversations and workshops taking place during the gallery’s annual fiber show\, Don’t Be Absurd. Featuring a round table talk featuring Emily Peters\, Rebecca White & Kátia Bandeira. \nAs a part of the latest edition of the gallery’s annual fiber show\, Don’t Be Absurd\, CAMP is hosting their second round table talk with Emily Peters\, Rebecca White & Kátia Bandeira. Art lovers and collectors are invited to enjoy an insightful discussion involving the artist’s creative practice and process interpreting this year’s theme into their pieces. This Event is FREE & Open to the Public | RSVP HERE. \nAfter a brief guided free movement exploration to open the body’s energies\, we welcome you to make marks using your choice of graphite or marker on paper\, or simple textile manipulations like ripping\, scrunching\, layering or folding\, or earth pigments on textiles using a mineral pigment and soybean ink ‘mud’.With soundscapes and our intuition as our guides\, we’ll make marks and then rest deeply in a live sound immersion featuring wind gong\, crystal singing pyramid\, wayunki and gentle shakers. \nPlease bring any textiles or fibers you would like to repurpose\, along with\, scissors\, brushes\, sponges or stamps\, and a yoga mat or blanket for the sound bath. \n  \n  \nThe Contemporary Art Modern Project’s 7th Edition of Women Pulling at The Threads of Social Discourse: Don’t be Absurd. The exhibition opened on Friday\, Oct.17 with an artist and collector preview. Over 100 years ago Søren Aabye Kierkegaard set the stage for society to look beyond one’s own concerns with the start of Existentialism. Absurdism emerges after the Second World War as the world grappled with the sense of the meaninglessness of life due to an overwhelming indifference for humanity and the suffering of others. For this year’s edition of: Women Pulling at The Threads of Social Discourse\, and Guests: Don’t Be Absurd\, the exploration of Absurdism is done through the hands of fiber artists. Artists were asked to refer to works by: Albert Camus\, Franz Kafka\, Simone De Beauvoir\, Samuel Beckett\, and Jose Saramago and interpret the writings into circular fiber responses. This exhibition is on view October 17 — December 20\, 2025. The run of the exhibition will include several in-gallery art talks\, workshops and conversations about fiber art with both artists and curators. CAMP Gallery is located in North Miami at 791-793 NE 125 Street in Miami\, Florida 33161. The gallery is open Tuesday through Saturday\, from 11am – 5pm. Private visits can be scheduled by emailing hello@thecampgallery.com or calling 786-953-8807. \n 
URL:https://www.themiamiartscene.com/event/camp-gallery-artist-talk-workshop-feat-emily-peters-rebecca-white-katia-bandeira/
LOCATION:The Contemporary Art Modern Project (The CAMP Gallery)\, 791-793 NE 125th Street\, North Miami\, FL\, 33161\, United States
ATTACH;FMTTYPE=image/png:https://www.themiamiartscene.com/wp-content/uploads/2025/11/camp-nov-8-art-talk.png
END:VEVENT
BEGIN:VEVENT
DTSTART;TZID=America/New_York:20251115T140000
DTEND;TZID=America/New_York:20251115T153000
DTSTAMP:20260423T221239
CREATED:20251111T194155Z
LAST-MODIFIED:20251111T194541Z
UID:25330-1763215200-1763220600@www.themiamiartscene.com
SUMMARY:The Contemporary Art Modern Project (CAMP Gallery) | Artist Talk & Poetry: Feat RemiJin Camping\, Lisa Rockford\, Rosa Henriquez
DESCRIPTION:Saturday\, November 15th from 2-3:30pm enjoy an Artist Talk followed by poetry readings with POP UP POETRY MIA at 4-7 pm at The Contemporary Art Modern Project (CAMP Gallery). This Event is Free & Open to the Public | RSVP HERE. \nContinuing their Roundtable Artist Talk Series as part of the 7th edition of the gallery’s annual fiber show Women Pulling at The Threads of Social Discourse: Don’t Be Absurd this week The CAMP Gallery is sitting down with artists\, RemiJin Camping\, Lisa Rockford and Rosa Henriquez for insightful conversations involving their creative process and how they deciphered this years theme through their works. The Artist Talk will be talking place from 2-3:30pm in the gallery and via instagram Live through the galleries account @thecampgallery. \nDon’t forget to stick around afterwards for poetry readings reflecting on the over 100 works being exhibited\, performed by POP UP POETRY MIA’s very own from 4-7pm to fill your night with amazing art and poetic energy. \n 
URL:https://www.themiamiartscene.com/event/the-contemporary-art-modern-project-camp-gallery-artist-talk-poetry-feat-remijin-camping-lisa-rockford-rosa-henriquez/
LOCATION:The Contemporary Art Modern Project (The CAMP Gallery)\, 791-793 NE 125th Street\, North Miami\, FL\, 33161\, United States
ATTACH;FMTTYPE=image/png:https://www.themiamiartscene.com/wp-content/uploads/2025/11/camp-nov-15.png
END:VEVENT
BEGIN:VEVENT
DTSTART;TZID=America/New_York:20251121T103000
DTEND;TZID=America/New_York:20251121T120000
DTSTAMP:20260423T221239
CREATED:20251117T204306Z
LAST-MODIFIED:20251117T204306Z
UID:25402-1763721000-1763726400@www.themiamiartscene.com
SUMMARY:Friends of NSU Art Museum Presents: Lecture & Luncheon with Speaker Dr. Armando Droulers
DESCRIPTION:Friday\, November 21st from 10:30am – 12pm Friends of NSU Art Museum presents a Lecture & Luncheon with Speaker Dr. Armando Droulers. RSVP HERE. \nRobert Rauschenberg’s work was inspired by lifelong collaborations and a spirit of experimentation with new materials and techniques. He revolutionized the picture plane through the inclusion of everyday objects\, which he termed ‘gifts from the street’\, redefining and expanding the boundaries of what could be considered an artwork. Often working in collaboration with artists\, dancers\, musicians\, and writers\, he invented new interdisciplinary modes of artistic practice that helped set the course for the art of the present day. \nNSU Art Museum Fort Lauderdale –Norma and William Horvitz Auditorium\nOne East Las Olas Blvd.\, Fort Lauderdale\, FL\, 33301 \nFriday\, November 21\, 2025\, 10:30 a.m. Lunch will follow.\nPresentation Free / Lunch: Members and Guests $30 per person. \n  \n  \nIMAGE: [Robert Rauschenberg\, Switchboard (Airport Suite)\, 1974\, Relief and intaglio print on fabric with collage elements\, 32 in x 36 in (81.2 x 91.4 cm)\, NSU Art Museum Fort Lauderdale; gift of Mr. and Mrs. Francis McCahill 77.36. © 2025 Robert Rauschenberg Foundation / Licensed by VAGA at Artists Rights Society (ARS)\, NY]\n 
URL:https://www.themiamiartscene.com/event/friends-of-nsu-art-museum-presents-lecture-luncheon-with-speaker-dr-armando-droulers/
LOCATION:NSU Art Museum\, One East Las Olas Boulevard\, Fort Lauderdale\, FL\, 33301\, United States
ATTACH;FMTTYPE=image/jpeg:https://www.themiamiartscene.com/wp-content/uploads/2025/11/nsu-art-museum-pic-e1763412122898.jpeg
END:VEVENT
BEGIN:VEVENT
DTSTART;TZID=America/New_York:20251130T120000
DTEND;TZID=America/New_York:20251130T170000
DTSTAMP:20260423T221239
CREATED:20251126T204503Z
LAST-MODIFIED:20251126T204503Z
UID:25470-1764504000-1764522000@www.themiamiartscene.com
SUMMARY:NSU Art Museum: FREE Fort Lauderdale Neighbor Day
DESCRIPTION:Sunday\, November 30th from 12 – 5pm enjoy NSU Art Museum‘s FREE Fort Lauderdale Neighbor Day. Every LAST Sunday of every month\, Fort Lauderdale residents receive FREE admission to NSU Art Museum as part of Fort Lauderdale Neighbor Days. RSVP HERE. \nFort Lauderdale Residents Receive: \n\n2-for-1 Wine in the Museum Café\nFREE admission\, residents must show a photo ID\, driver’s license\, or residential utility bill with proof of Fort Lauderdale address.\nVisit the Museum Cafe & Store and receive 10% off books published by NSU Art Museum.\nFort Lauderdale Neighbor Day is made possible by the City of Fort Lauderdale.
URL:https://www.themiamiartscene.com/event/nsu-art-museum-free-fort-lauderdale-neighbor-day-34/
LOCATION:NSU Art Museum\, One East Las Olas Boulevard\, Fort Lauderdale\, FL\, 33301\, United States
ATTACH;FMTTYPE=image/png:https://www.themiamiartscene.com/wp-content/uploads/2022/09/nsu-art-museum_neighborday.png
END:VEVENT
END:VCALENDAR