BEGIN:VCALENDAR
VERSION:2.0
PRODID:-//Miami Art Scene™ - ECPv6.15.20//NONSGML v1.0//EN
CALSCALE:GREGORIAN
METHOD:PUBLISH
X-WR-CALNAME:Miami Art Scene™
X-ORIGINAL-URL:https://www.themiamiartscene.com
X-WR-CALDESC:Events for Miami Art Scene™
REFRESH-INTERVAL;VALUE=DURATION:PT1H
X-Robots-Tag:noindex
X-PUBLISHED-TTL:PT1H
BEGIN:VTIMEZONE
TZID:America/New_York
BEGIN:DAYLIGHT
TZOFFSETFROM:-0500
TZOFFSETTO:-0400
TZNAME:EDT
DTSTART:20230312T070000
END:DAYLIGHT
BEGIN:STANDARD
TZOFFSETFROM:-0400
TZOFFSETTO:-0500
TZNAME:EST
DTSTART:20231105T060000
END:STANDARD
BEGIN:DAYLIGHT
TZOFFSETFROM:-0500
TZOFFSETTO:-0400
TZNAME:EDT
DTSTART:20240310T070000
END:DAYLIGHT
BEGIN:STANDARD
TZOFFSETFROM:-0400
TZOFFSETTO:-0500
TZNAME:EST
DTSTART:20241103T060000
END:STANDARD
BEGIN:DAYLIGHT
TZOFFSETFROM:-0500
TZOFFSETTO:-0400
TZNAME:EDT
DTSTART:20250309T070000
END:DAYLIGHT
BEGIN:STANDARD
TZOFFSETFROM:-0400
TZOFFSETTO:-0500
TZNAME:EST
DTSTART:20251102T060000
END:STANDARD
END:VTIMEZONE
BEGIN:VEVENT
DTSTART;TZID=America/New_York:20240815T180000
DTEND;TZID=America/New_York:20240815T200000
DTSTAMP:20260425T231637
CREATED:20240815T153859Z
LAST-MODIFIED:20240815T153859Z
UID:22009-1723744800-1723752000@www.themiamiartscene.com
SUMMARY:Storytelling at The Frank
DESCRIPTION:Thursday\, August 15th from 6 – 8pm join The Frank C. Ortis Art Gallery in the City of Pembroke Pines for Storytelling at The Frank. Immerse yourself in the power of stories with an evening of live storytelling performances featuring Melissa Karnosh from Broward County South Regional Library. Enjoy free entry to The Frank’s summer exhibition\, drop-in activities\, and light refreshments. RSVP HERE. \n\n\n\nStorytelling performances will be held at 6:30pm\, 7:00pm\, and 7:30pm. Books and a reading area are available in-between performances.
URL:https://www.themiamiartscene.com/event/storytelling-at-the-frank/
LOCATION:The Frank\, 601 City Center Way\, Pembroke Pines\, FL\, 33025\, United States
ATTACH;FMTTYPE=image/jpeg:https://www.themiamiartscene.com/wp-content/uploads/2024/08/the-frank-storytelling-evening-event.jpeg
END:VEVENT
BEGIN:VEVENT
DTSTART;TZID=America/New_York:20240815T183000
DTEND;TZID=America/New_York:20240815T193000
DTSTAMP:20260425T231637
CREATED:20240731T025254Z
LAST-MODIFIED:20240731T025254Z
UID:21825-1723746600-1723750200@www.themiamiartscene.com
SUMMARY:Coral Gables Museum presents “Stars of David” Piano Concert
DESCRIPTION:Thursday\, August 15th from 6:30 – 7:30pm the Coral Gables Museum presents “Stars of David” Piano Concert. The pianist and professor José López will perform works by renowned Jewish composers of the Romantic period in Europe. PURCHASE TICKETS HERE. \nJosé López is a Professor and Coordinator of the Piano Program at the Wertheim School of Music at Florida International University in Miami. He is also President of the South Florida Chapter of the American Liszt Society and Honorary Secretary of the United Kingdom’s Alkan Society. With a career spanning the United States\, Italy\, and Latin America\, López has performed on prestigious stages such as the Music Festival of the Hamptons\, the Killington Music Festival\, and numerous university series across the US. In South Florida\, he is a prominent figure at events including the Florida International University Music Festival and the former Mainly Mozart Series in Coral Gables. His contributions to classical music extend beyond performances\, as he plays a key role in promoting and nurturing the art form within our community.
URL:https://www.themiamiartscene.com/event/coral-gables-museum-presents-stars-of-david-piano-concert/
LOCATION:Coral Gables Museum\, 285 Aragon Avenue\, Coral Gables\, FL\, 33134\, United States
ATTACH;FMTTYPE=image/jpeg:https://www.themiamiartscene.com/wp-content/uploads/2024/07/STARS-OF-DAVID-1-1280x989-1.jpeg
END:VEVENT
END:VCALENDAR