BEGIN:VCALENDAR
VERSION:2.0
PRODID:-//Miami Art Scene™ - ECPv6.15.20//NONSGML v1.0//EN
CALSCALE:GREGORIAN
METHOD:PUBLISH
X-ORIGINAL-URL:https://www.themiamiartscene.com
X-WR-CALDESC:Events for Miami Art Scene™
REFRESH-INTERVAL;VALUE=DURATION:PT1H
X-Robots-Tag:noindex
X-PUBLISHED-TTL:PT1H
BEGIN:VTIMEZONE
TZID:America/New_York
BEGIN:DAYLIGHT
TZOFFSETFROM:-0500
TZOFFSETTO:-0400
TZNAME:EDT
DTSTART:20230312T070000
END:DAYLIGHT
BEGIN:STANDARD
TZOFFSETFROM:-0400
TZOFFSETTO:-0500
TZNAME:EST
DTSTART:20231105T060000
END:STANDARD
BEGIN:DAYLIGHT
TZOFFSETFROM:-0500
TZOFFSETTO:-0400
TZNAME:EDT
DTSTART:20240310T070000
END:DAYLIGHT
BEGIN:STANDARD
TZOFFSETFROM:-0400
TZOFFSETTO:-0500
TZNAME:EST
DTSTART:20241103T060000
END:STANDARD
BEGIN:DAYLIGHT
TZOFFSETFROM:-0500
TZOFFSETTO:-0400
TZNAME:EDT
DTSTART:20250309T070000
END:DAYLIGHT
BEGIN:STANDARD
TZOFFSETFROM:-0400
TZOFFSETTO:-0500
TZNAME:EST
DTSTART:20251102T060000
END:STANDARD
END:VTIMEZONE
BEGIN:VEVENT
DTSTART;TZID=America/New_York:20240928T110000
DTEND;TZID=America/New_York:20240928T140000
DTSTAMP:20260425T213032
CREATED:20240910T204110Z
LAST-MODIFIED:20240910T204110Z
UID:22173-1727521200-1727532000@www.themiamiartscene.com
SUMMARY:The Frank Art Gallery: The Crossings Movement Workshop
DESCRIPTION:September 28th from 11am – 2pm The Frank C. Ortis Art Gallery in Pembroke Pines presents “The Crossings Movement Workshop”. Move with choreographer Damaris Ferrer as she tells the story of “The Crossings”\, and lead participants through their movement. \nThis workshop is part of “The Crossings: A Global Movement Experience”\, a spectacular fall exhibition from September 12\, 2024\, through November 7\, 2024 at the Frank C. Ortis Art Gallery in the City of Pembroke Pines. Amidst the constraints of physical and metaphysical borders\, “The Crossings: A Global Movement Experience” transcends these limitations. Conceived by the visionary choreographer Damaris Ferrer\, this project unfolds as a dynamic narrative that transcends traditional dance and performance\, redefining the essence of communal storytelling through movement.
URL:https://www.themiamiartscene.com/event/the-frank-art-gallery-the-crossings-movement-workshop/
LOCATION:The Frank\, 601 City Center Way\, Pembroke Pines\, FL\, 33025\, United States
ATTACH;FMTTYPE=image/jpeg:https://www.themiamiartscene.com/wp-content/uploads/2024/09/the-crossings_art-workshop_pembroke-pines.jpeg
END:VEVENT
END:VCALENDAR