BEGIN:VCALENDAR
VERSION:2.0
PRODID:-//Miami Art Scene™ - ECPv6.15.20//NONSGML v1.0//EN
CALSCALE:GREGORIAN
METHOD:PUBLISH
X-WR-CALNAME:Miami Art Scene™
X-ORIGINAL-URL:https://www.themiamiartscene.com
X-WR-CALDESC:Events for Miami Art Scene™
REFRESH-INTERVAL;VALUE=DURATION:PT1H
X-Robots-Tag:noindex
X-PUBLISHED-TTL:PT1H
BEGIN:VTIMEZONE
TZID:America/New_York
BEGIN:DAYLIGHT
TZOFFSETFROM:-0500
TZOFFSETTO:-0400
TZNAME:EDT
DTSTART:20230312T070000
END:DAYLIGHT
BEGIN:STANDARD
TZOFFSETFROM:-0400
TZOFFSETTO:-0500
TZNAME:EST
DTSTART:20231105T060000
END:STANDARD
BEGIN:DAYLIGHT
TZOFFSETFROM:-0500
TZOFFSETTO:-0400
TZNAME:EDT
DTSTART:20240310T070000
END:DAYLIGHT
BEGIN:STANDARD
TZOFFSETFROM:-0400
TZOFFSETTO:-0500
TZNAME:EST
DTSTART:20241103T060000
END:STANDARD
BEGIN:DAYLIGHT
TZOFFSETFROM:-0500
TZOFFSETTO:-0400
TZNAME:EDT
DTSTART:20250309T070000
END:DAYLIGHT
BEGIN:STANDARD
TZOFFSETFROM:-0400
TZOFFSETTO:-0500
TZNAME:EST
DTSTART:20251102T060000
END:STANDARD
END:VTIMEZONE
BEGIN:VEVENT
DTSTART;TZID=America/New_York:20241011T190000
DTEND;TZID=America/New_York:20241011T220000
DTSTAMP:20260425T102655
CREATED:20241004T133616Z
LAST-MODIFIED:20241004T133616Z
UID:22253-1728673200-1728684000@www.themiamiartscene.com
SUMMARY:The Contemporary Art Modern Project is pleased to announce the opening of our annual fiber exhibition\, 77 Women Pulling at The Threads of Social Discourse\, FAMA and Guests: We Got The Power
DESCRIPTION:Friday\, October 11th from 7 – 10pm The Contemporary Art Modern Project is pleased to announce the opening of their 6th annual fiber exhibition\, 77 Women Pulling at The Threads of Social Discourse\, FAMA and Guests: We Got The Power. The exhibition is curated by gallery founder and director\, Melanie Prapopoulos\, and assistant director Maria Gabriela Di Giammarco. This Event is FREE & Open to the Public / RSVP HERE. \nOpening October 11\, 2024\, the sixth edition of this exhibition series draws inspiration from Lysistrata by Aristophanes\, and Spike Lee’s response to organized violence in Chi-Raq. Honoring the play and its era\, over 100 pieces were made for the open call\, all touching on themes of violence\, war\, sexual power\, the patriarchy\, and the power of women. These artworks will be installed as a continuous frieze throughout our gallery space\, up until the end of the year. \nParticipating Artists: Mary Tooley Parker\, Eden Quispe\, Fruma Markowitz\, Kathy Nida\, Margaret Roleke\, Natalia Schonowski\, Joan Wheeler\, Leslie Sheryll\, Fernanda Froes\, Barbara Ringer\, Christine Lee Tyler\, Silvana Soriano\, Karola Pezarro\, Jacqueline Myers- Cho\, Mabelin Castellanos\, Katika\, Janine Brown\, Kristina Reinis\, Camille Eskell\, Adriana Carvalho\, Rita Valley\, Rima Day\, Marine Fonteyne\, Star Trauth\, Manju Shandler\, Ola Rondiak\, Louise Cadoux\, Aida Tejada\, Olya Tereschuk\, Itamar Yehiel\, Debora Rosental\, Marjolein Burbank\, Nicole Durham the Caulk Artist\, Amy Gelb\, Lauren Reilly\, Aurora Molina\, Deborah Simon\, Nancy Ofori\, Delaney Conner\, Ainaz Alipour\, Heidi Hankanieman\, Alan Nieder\, Nanilee Robarge\, Melissa Godoy Nieto\, Rosa Henriquez\, Laetitia Adam-Rabel\, Yanira Lopez\, Alexis Oliva\, Hou Guan Ting\, Kim Moore\, Melanie Brewster\, Pangea Kali Virga\, Shelly McCoy\, Alina Rojo Rodriguez\, Micheal Sylvan Robinson\, Eileen Hoffman\, Sarah Laing\, Brenda Kuong\, Marcia Manconi\, Carlos Bautista Biernnay\, Sooo-Z Mastropietro\, Lauren Januhowski\, Deborah Weir\, Amy Putman\, Toni Thomas\, Breanna Cee Martins\, AtelierLustig\, Valeria Montag\, Alieh Rezaei\, Elaine Luther\, Molly Gambardella\, Isabel Infante\, Autumn Kioti Horne\, Caitlin McCormack\, Nancy Tobin\, Janet Mueller\, Kimberly Bentley\, Catherine Olivier\, Lydia Viscardi\, and Julie Peppito.
URL:https://www.themiamiartscene.com/event/the-contemporary-art-modern-project-is-pleased-to-announce-the-opening-of-our-annual-fiber-exhibition-77-women-pulling-at-the-threads-of-social-discourse-fama-and-guests-we-got-the-power/
LOCATION:The Contemporary Art Modern Project (The CAMP Gallery)\, 791-793 NE 125th Street\, North Miami\, FL\, 33161\, United States
ATTACH;FMTTYPE=image/png:https://www.themiamiartscene.com/wp-content/uploads/2024/10/camp-gallery_we-got-the-power_north-miami.png
END:VEVENT
BEGIN:VEVENT
DTSTART;TZID=America/New_York:20241012T170000
DTEND;TZID=America/New_York:20241012T190000
DTSTAMP:20260425T102655
CREATED:20241004T141106Z
LAST-MODIFIED:20241008T014917Z
UID:22272-1728752400-1728759600@www.themiamiartscene.com
SUMMARY:The Contemporary Art Modern Project (The CAMP Gallery) presents an Artist Talk for 'Pulling at The Threads of Social Discourse: We Got The Power'
DESCRIPTION:Saturday\, October 12th from 5 – 7pm experience a Curator Talk at The Contemporary Art Modern Project (The CAMP Gallery) with Melanie Prapopoulos\, and Maria Gabriella Di Giammarco\, along with Guest Speakers Veronica Pesantes Vallejo\, and Nuria Richards. \nThe 6th edition of Women Pulling at The Threads of Social Discourse: We Got The Power. Showcasing fibers works from 81 artists responding to “Lysistrata” by Aristophanes\, and “Chi-Raq” by Spike Lee\, this exhibition explores\, through unity\, the possibility for change. This exhibition is on view from October 11 through December 20\, 2024. Learn more & view works from this exhibition on ARTSY. \n  \nParticipating artists: Mary Tooley Parker\, Eden Quispe\, Fruma Markowitz\, Kathy Nida\, Margaret Roleke\, Natalia Schonowski\, Joan Wheeler\, Leslie Sheryll\, Fernanda Froes\, Barbara Ringer\, Christine Lee Tyler\, Silvana Soriano\, Karola Pezarro\, Jacqueline Myers- Cho\, Mabelin Castellanos\, Katika\, Janine Brown\, Kristina Reinis\, Camille Eskell\, Adriana Carvalho\, Rita Valley\, Rima Day\, Marine Fonteyne\, Star Trauth\, Manju Shandler\, Ola Rondiak\, Louise Cadoux\, Aida Tejada\, Olya Tereschuk\, Itamar Yehiel\, Debora Rosental\, Marjolein Burbank\, Nicole Durham the Caulk Artist\, Amy Gelb\, Lauren Reilly\, Aurora Molina\, Deborah Simon\, Nancy Ofori\, Delaney Conner\, Ainaz Alipour\, Heidi Hankanieman\, Alan Nieder\, Nanilee Robarge\, Melissa Godoy Nieto\, Rosa Henriquez\, Laetitia Adam-Rabel\, Yanira Lopez\, Alexis Oliva\, Hou Guan Ting\, Kim Moore\, Melanie Brewster\, Pangea Kali Virga\, Shelly McCoy\, Alina Rodriguez Rojo\, Micheal Sylvan Robinson\, Eileen Hoffman\, Sarah Laing\, Brenda Kuong\, Marcia Manconi\, Carlos Bautista Biernnay\, Sooo-Z Mastropietro\, Lauren Januhowski\, Deborah Weir\, Amy Putman\, Toni Thomas\, Breanna Cee Martins\, AtelierLustig\, Valeria Montag\, Alieh Rezaei\, Elaine Luther\, Molly Gambardella\, Isabel Infante\, Autumn Kioti Horne\, Caitlin McCormack\, Nancy Tobin\, Janet Mueller\, Kimberly Bentley\, Catherine Olivier\, Lydia Viscardi\, and Julie Peppito.
URL:https://www.themiamiartscene.com/event/the-contemporary-art-modern-project-the-camp-gallery-presents-an-artist-talk-for-pulling-at-the-threads-of-social-discourse-we-got-the-power/
LOCATION:The Contemporary Art Modern Project (The CAMP Gallery)\, 791-793 NE 125th Street\, North Miami\, FL\, 33161\, United States
ATTACH;FMTTYPE=image/jpeg:https://www.themiamiartscene.com/wp-content/uploads/2024/10/camp-gallery_curator-talk.jpeg
END:VEVENT
BEGIN:VEVENT
DTSTART;TZID=America/New_York:20241019T140000
DTEND;TZID=America/New_York:20241019T170000
DTSTAMP:20260425T102655
CREATED:20241011T152134Z
LAST-MODIFIED:20241018T170951Z
UID:22325-1729346400-1729357200@www.themiamiartscene.com
SUMMARY:The Contemporary Art Modern Project (The CAMP Gallery) presents an Artist Talk for ‘Pulling at The Threads of Social Discourse: We Got The Power’
DESCRIPTION:Saturday\, October 19th from 2 – 5pm experience an Artist Talk at The Contemporary Art Modern Project (The CAMP Gallery) featuring artists Laetitia Adam-Rabel and Kim Moore. \nThe 6th edition of Women Pulling at The Threads of Social Discourse: We Got The Power. Showcasing fibers works from 81 artists responding to “Lysistrata” by Aristophanes\, and “Chi-Raq” by Spike Lee\, this exhibition explores\, through unity\, the possibility for change. This exhibition is on view from October 11 through December 20\, 2024. Learn more & view works from this exhibition on ARTSY. \n  \nParticipating artists: Mary Tooley Parker\, Eden Quispe\, Fruma Markowitz\, Kathy Nida\, Margaret Roleke\, Natalia Schonowski\, Joan Wheeler\, Leslie Sheryll\, Fernanda Froes\, Barbara Ringer\, Christine Lee Tyler\, Silvana Soriano\, Karola Pezarro\, Jacqueline Myers- Cho\, Mabelin Castellanos\, Katika\, Janine Brown\, Kristina Reinis\, Camille Eskell\, Adriana Carvalho\, Rita Valley\, Rima Day\, Marine Fonteyne\, Star Trauth\, Manju Shandler\, Ola Rondiak\, Louise Cadoux\, Aida Tejada\, Olya Tereschuk\, Itamar Yehiel\, Debora Rosental\, Marjolein Burbank\, Nicole Durham the Caulk Artist\, Amy Gelb\, Lauren Reilly\, Aurora Molina\, Deborah Simon\, Nancy Ofori\, Delaney Conner\, Ainaz Alipour\, Heidi Hankanieman\, Alan Nieder\, Nanilee Robarge\, Melissa Godoy Nieto\, Rosa Henriquez\, Laetitia Adam-Rabel\, Yanira Lopez\, Alexis Oliva\, Hou Guan Ting\, Kim Moore\, Melanie Brewster\, Pangea Kali Virga\, Shelly McCoy\, Alina Rodriguez Rojo\, Micheal Sylvan Robinson\, Eileen Hoffman\, Sarah Laing\, Brenda Kuong\, Marcia Manconi\, Carlos Bautista Biernnay\, Sooo-Z Mastropietro\, Lauren Januhowski\, Deborah Weir\, Amy Putman\, Toni Thomas\, Breanna Cee Martins\, AtelierLustig\, Valeria Montag\, Alieh Rezaei\, Elaine Luther\, Molly Gambardella\, Isabel Infante\, Autumn Kioti Horne\, Caitlin McCormack\, Nancy Tobin\, Janet Mueller\, Kimberly Bentley\, Catherine Olivier\, Lydia Viscardi\, and Julie Peppito.
URL:https://www.themiamiartscene.com/event/the-contemporary-art-modern-project-the-camp-gallery-presents-an-artist-talk-for-pulling-at-the-threads-of-social-discourse-we-got-the-power-2/
LOCATION:The Contemporary Art Modern Project (The CAMP Gallery)\, 791-793 NE 125th Street\, North Miami\, FL\, 33161\, United States
ATTACH;FMTTYPE=image/png:https://www.themiamiartscene.com/wp-content/uploads/2024/10/camp-gallery_we-got-the-power_north-miami.png
END:VEVENT
BEGIN:VEVENT
DTSTART;TZID=America/New_York:20241026T140000
DTEND;TZID=America/New_York:20241026T170000
DTSTAMP:20260425T102655
CREATED:20241011T152826Z
LAST-MODIFIED:20241020T195733Z
UID:22328-1729951200-1729962000@www.themiamiartscene.com
SUMMARY:The Contemporary Art Modern Project (The CAMP Gallery) presents an Art Talk for ‘Pulling at The Threads of Social Discourse: We Got The Power’
DESCRIPTION:Saturday\, October 26th from 2 – 5pm The Contemporary Art Modern Project (The CAMP Gallery) is pleased to announce an artist talk for our annual fiber exhibition\, 77 Women Pulling at The Threads of Social Discourse\, FAMA and Guests: We Got The Power. This panel will feature CAMP artists Pangea Kali Virga\, Silvana Soriano\, Valeria Montag and art historian Angela Chaine. This Event is FREE & Open to the Public / RSVP HERE. \nThe 6th edition of Women Pulling at The Threads of Social Discourse: We Got The Power. Showcasing fibers works from 81 artists responding to “Lysistrata” by Aristophanes\, and “Chi-Raq” by Spike Lee\, this exhibition explores\, through unity\, the possibility for change. This exhibition is on view from October 11 through December 20\, 2024. Learn more & view works from this exhibition on ARTSY. \n \nParticipating artists: Mary Tooley Parker\, Eden Quispe\, Fruma Markowitz\, Kathy Nida\, Margaret Roleke\, Natalia Schonowski\, Joan Wheeler\, Leslie Sheryll\, Fernanda Froes\, Barbara Ringer\, Christine Lee Tyler\, Silvana Soriano\, Karola Pezarro\, Jacqueline Myers- Cho\, Mabelin Castellanos\, Katika\, Janine Brown\, Kristina Reinis\, Camille Eskell\, Adriana Carvalho\, Rita Valley\, Rima Day\, Marine Fonteyne\, Star Trauth\, Manju Shandler\, Ola Rondiak\, Louise Cadoux\, Aida Tejada\, Olya Tereschuk\, Itamar Yehiel\, Debora Rosental\, Marjolein Burbank\, Nicole Durham the Caulk Artist\, Amy Gelb\, Lauren Reilly\, Aurora Molina\, Deborah Simon\, Nancy Ofori\, Delaney Conner\, Ainaz Alipour\, Heidi Hankanieman\, Alan Nieder\, Nanilee Robarge\, Melissa Godoy Nieto\, Rosa Henriquez\, Laetitia Adam-Rabel\, Yanira Lopez\, Alexis Oliva\, Hou Guan Ting\, Kim Moore\, Melanie Brewster\, Pangea Kali Virga\, Shelly McCoy\, Alina Rodriguez Rojo\, Micheal Sylvan Robinson\, Eileen Hoffman\, Sarah Laing\, Brenda Kuong\, Marcia Manconi\, Carlos Bautista Biernnay\, Sooo-Z Mastropietro\, Lauren Januhowski\, Deborah Weir\, Amy Putman\, Toni Thomas\, Breanna Cee Martins\, AtelierLustig\, Valeria Montag\, Alieh Rezaei\, Elaine Luther\, Molly Gambardella\, Isabel Infante\, Autumn Kioti Horne\, Caitlin McCormack\, Nancy Tobin\, Janet Mueller\, Kimberly Bentley\, Catherine Olivier\, Lydia Viscardi\, and Julie Peppito.\n  \nIMAGE: Pangea Kali Virga\, As Easy As Love\, 2024. Printed Silk\, Gold Thread Hand Embroidery\, Hand Beaded Pearls\, Beads and Sequins\, 12 × 24 in | 30.5 × 61 cm.
URL:https://www.themiamiartscene.com/event/the-contemporary-art-modern-project-the-camp-gallery-presents-an-art-talk-for-pulling-at-the-threads-of-social-discourse-we-got-the-power/
LOCATION:The Contemporary Art Modern Project (The CAMP Gallery)\, 791-793 NE 125th Street\, North Miami\, FL\, 33161\, United States
ATTACH;FMTTYPE=image/png:https://www.themiamiartscene.com/wp-content/uploads/2024/10/camp-gallery_we-got-the-power_north-miami.png
END:VEVENT
END:VCALENDAR