BEGIN:VCALENDAR
VERSION:2.0
PRODID:-//Miami Art Scene™ - ECPv6.15.20//NONSGML v1.0//EN
CALSCALE:GREGORIAN
METHOD:PUBLISH
X-ORIGINAL-URL:https://www.themiamiartscene.com
X-WR-CALDESC:Events for Miami Art Scene™
REFRESH-INTERVAL;VALUE=DURATION:PT1H
X-Robots-Tag:noindex
X-PUBLISHED-TTL:PT1H
BEGIN:VTIMEZONE
TZID:America/New_York
BEGIN:DAYLIGHT
TZOFFSETFROM:-0500
TZOFFSETTO:-0400
TZNAME:EDT
DTSTART:20230312T070000
END:DAYLIGHT
BEGIN:STANDARD
TZOFFSETFROM:-0400
TZOFFSETTO:-0500
TZNAME:EST
DTSTART:20231105T060000
END:STANDARD
BEGIN:DAYLIGHT
TZOFFSETFROM:-0500
TZOFFSETTO:-0400
TZNAME:EDT
DTSTART:20240310T070000
END:DAYLIGHT
BEGIN:STANDARD
TZOFFSETFROM:-0400
TZOFFSETTO:-0500
TZNAME:EST
DTSTART:20241103T060000
END:STANDARD
BEGIN:DAYLIGHT
TZOFFSETFROM:-0500
TZOFFSETTO:-0400
TZNAME:EDT
DTSTART:20250309T070000
END:DAYLIGHT
BEGIN:STANDARD
TZOFFSETFROM:-0400
TZOFFSETTO:-0500
TZNAME:EST
DTSTART:20251102T060000
END:STANDARD
END:VTIMEZONE
BEGIN:VEVENT
DTSTART;TZID=America/New_York:20241123T140000
DTEND;TZID=America/New_York:20241123T170000
DTSTAMP:20260425T084347
CREATED:20241114T034752Z
LAST-MODIFIED:20241114T035201Z
UID:22643-1732370400-1732381200@www.themiamiartscene.com
SUMMARY:The Contemporary Art Modern Project (The CAMP Gallery) presents an Artist Talk for ‘Pulling at The Threads of Social Discourse: We Got The Power’
DESCRIPTION:Saturday\, November 23rd from 2 – 5pm experience a compelling Artist Talk at The Contemporary Art Modern Project (The CAMP Gallery). The Contemporary Art Modern Project is pleased to announce an Artist Talk for their annual fiber exhibition\, 77 Women Pulling at The Threads of Social Discourse\, FAMA and Guests: We Got The Power\, in conversation. This panel will feature artists Aida Tejada\, Atelierlustig\, and Adriana Carvalho\, whose work is currently on display at the gallery for Women Pulling at the Threads of Social Discourse. This Event is FREE & Open to the Public / RSVP HERE. \n“With Aida Tejada the focus is on “The Other\,” an often silent and unconsidered workforce of minority women harvesting crops for consumption. Atelierlustig’s additions to the frieze explores the idea of sorority and the collective energy of women banded together under one goal\, one ethic and the endless possibilities of change through a unified vision. Adriana Carvalho focuses on Vandana Shiva and the idea of protecting the world\, and consumer from the margins of big business.” \nAIDA TEJADA \nb. Dominican Republic \n“My response to the play is one of deep respect for the undeniable power embodied in “The Other.” I particularly honor the women from minority groups in underdeveloped nations who labor in the coffee harvest. These women are the backbone of their families\, providing financial support while balancing their children’s education and household duties. Through their tireless work\, they silently contribute to their country’s economy\, a reality shared by countless women worldwide.” \n  \nImage: Tacit Agreement\, 2024. Reclaimed Jute Sacks\, Coffee Grounds\, Orange Peels\, Gelatin\, Threads. 12 × 24 inches\, USD$1\,200.
URL:https://www.themiamiartscene.com/event/the-contemporary-art-modern-project-the-camp-gallery-presents-an-artist-talk-for-pulling-at-the-threads-of-social-discourse-we-got-the-power-4/
LOCATION:The Contemporary Art Modern Project (The CAMP Gallery)\, 791-793 NE 125th Street\, North Miami\, FL\, 33161\, United States
ATTACH;FMTTYPE=image/jpeg:https://www.themiamiartscene.com/wp-content/uploads/2024/11/tacit-agreement.jpeg
END:VEVENT
END:VCALENDAR