BEGIN:VCALENDAR
VERSION:2.0
PRODID:-//Miami Art Scene™ - ECPv6.15.20//NONSGML v1.0//EN
CALSCALE:GREGORIAN
METHOD:PUBLISH
X-WR-CALNAME:Miami Art Scene™
X-ORIGINAL-URL:https://www.themiamiartscene.com
X-WR-CALDESC:Events for Miami Art Scene™
REFRESH-INTERVAL;VALUE=DURATION:PT1H
X-Robots-Tag:noindex
X-PUBLISHED-TTL:PT1H
BEGIN:VTIMEZONE
TZID:America/New_York
BEGIN:DAYLIGHT
TZOFFSETFROM:-0500
TZOFFSETTO:-0400
TZNAME:EDT
DTSTART:20240310T070000
END:DAYLIGHT
BEGIN:STANDARD
TZOFFSETFROM:-0400
TZOFFSETTO:-0500
TZNAME:EST
DTSTART:20241103T060000
END:STANDARD
BEGIN:DAYLIGHT
TZOFFSETFROM:-0500
TZOFFSETTO:-0400
TZNAME:EDT
DTSTART:20250309T070000
END:DAYLIGHT
BEGIN:STANDARD
TZOFFSETFROM:-0400
TZOFFSETTO:-0500
TZNAME:EST
DTSTART:20251102T060000
END:STANDARD
BEGIN:DAYLIGHT
TZOFFSETFROM:-0500
TZOFFSETTO:-0400
TZNAME:EDT
DTSTART:20260308T070000
END:DAYLIGHT
BEGIN:STANDARD
TZOFFSETFROM:-0400
TZOFFSETTO:-0500
TZNAME:EST
DTSTART:20261101T060000
END:STANDARD
END:VTIMEZONE
BEGIN:VEVENT
DTSTART;TZID=America/New_York:20250320T170000
DTEND;TZID=America/New_York:20250323T180000
DTSTAMP:20260425T201732
CREATED:20250310T211738Z
LAST-MODIFIED:20250310T211738Z
UID:23306-1742490000-1742752800@www.themiamiartscene.com
SUMMARY:Palm Beach Modern + Contemporary (PBM+C)
DESCRIPTION:Thursday\, March 20th through Sunday\, March 23rd enjoy the Palm Beach Modern + Contemporary\, South Florida’s premier and most prestigious winter art fair\, taking place at the Palm Beach County Convention Center. Palm Beach Modern + Contemporary (PBM+C)\, presented by Art Miami\, returns for its eighth edition opening with an exclusive invitation-only VIP Preview on Thursday\, March 20th from 5pm – 9pm. PURCHASE TICKETS HERE. \nPBM+C is the most important fair each winter as it brings a world-class\, internationally respected group of galleries and their artists to the discerning and ever growing high net worth audience that has migrated South. \nThe Fair will coincide with the world-renowned Palm Beach International Boat Show\, located along the waterfront and Flagler Drive in Downtown West Palm Beach\, FL. The show will feature more than $1.2 billion worth of yachts and accessories\, including hundreds of boats ranging from 8-foot inflatables to super yachts nearly 200 feet in length. \n  \nFAIR HOURS \nThursday\, March 20\, 2025\nVIP Preview: 5pm – 9pm\nAccess for PBM+C VIP Passholders & Press\, benefiting the Ann Norton Sculpture Gardens \nGENERAL ADMISSION\nFriday\, March 21 11am – 7pm\nSaturday\, March 22 11am – 7pm\nSunday\, March 23 11am – 6pm
URL:https://www.themiamiartscene.com/event/palm-beach-modern-contemporary-pbmc/
LOCATION:Palm Beach County Convention Center\, 650 Okeechobee Boulevard\, West Palm Beach\, FL\, 33401\, United States
ATTACH;FMTTYPE=image/png:https://www.themiamiartscene.com/wp-content/uploads/2025/03/pbmc-2025.png
END:VEVENT
END:VCALENDAR