BEGIN:VCALENDAR
VERSION:2.0
PRODID:-//Miami Art Scene™ - ECPv6.15.20//NONSGML v1.0//EN
CALSCALE:GREGORIAN
METHOD:PUBLISH
X-ORIGINAL-URL:https://www.themiamiartscene.com
X-WR-CALDESC:Events for Miami Art Scene™
REFRESH-INTERVAL;VALUE=DURATION:PT1H
X-Robots-Tag:noindex
X-PUBLISHED-TTL:PT1H
BEGIN:VTIMEZONE
TZID:America/New_York
BEGIN:DAYLIGHT
TZOFFSETFROM:-0500
TZOFFSETTO:-0400
TZNAME:EDT
DTSTART:20240310T070000
END:DAYLIGHT
BEGIN:STANDARD
TZOFFSETFROM:-0400
TZOFFSETTO:-0500
TZNAME:EST
DTSTART:20241103T060000
END:STANDARD
BEGIN:DAYLIGHT
TZOFFSETFROM:-0500
TZOFFSETTO:-0400
TZNAME:EDT
DTSTART:20250309T070000
END:DAYLIGHT
BEGIN:STANDARD
TZOFFSETFROM:-0400
TZOFFSETTO:-0500
TZNAME:EST
DTSTART:20251102T060000
END:STANDARD
BEGIN:DAYLIGHT
TZOFFSETFROM:-0500
TZOFFSETTO:-0400
TZNAME:EDT
DTSTART:20260308T070000
END:DAYLIGHT
BEGIN:STANDARD
TZOFFSETFROM:-0400
TZOFFSETTO:-0500
TZNAME:EST
DTSTART:20261101T060000
END:STANDARD
END:VTIMEZONE
BEGIN:VEVENT
DTSTART;TZID=America/New_York:20251203T090000
DTEND;TZID=America/New_York:20251207T150000
DTSTAMP:20260424T054834
CREATED:20251027T221758Z
LAST-MODIFIED:20251106T152035Z
UID:25142-1764752400-1765119600@www.themiamiartscene.com
SUMMARY:Ink Miami Art Fair 2025
DESCRIPTION:Wednesday\, December 3rd through Friday\, December 7th enjoy INK Miami Art Fair at the Suites of Dorchester\, for a uniquely engaging art experience. Now celebrating its 19th year\, the INK Miami Art Fair is unique among the satellite fairs during Miami Art Week as the premier fair for works on paper. Tickets for the fair are free with online registration. \nINK Miami Art Fair is unique among the satellite fairs during Miami Art Week as the premier fair for works on paper\, attracting a dedicated audience of museum curators and serious collectors. \nNow celebrating its 19th year\, the 2025 edition of the INK Miami promises to be an extraordinary celebration of 20th-century masterworks and newly released editions by leading contemporary artists.\nSet in a lush open-air courtyard\, the fair offers visitors a unique experience\, as transformed suites serve as gallery spaces for exploration. \n  \nFAIR HOURS\nOpening Brunch\, Wednesday\, December 3rd | 9am – Noon \nPulp Party\, Thursday\, December 4th | 7pm – 9pm \nWednesday\, December 3 | 9am–7pm \nThursday\, December 4 | 10am–9pm \nFriday\, December 5 | 10am–7pm \nSaturday\, December 6 | 10am–7pm \nSunday\, December 7  | 10am–3pm \n 
URL:https://www.themiamiartscene.com/event/ink-miami-art-fair-2025/
LOCATION:Suites of Dorchester\, 1850 Collins Avenue\, Miami Beach\, FL\, 33139\, United States
ATTACH;FMTTYPE=image/jpeg:https://www.themiamiartscene.com/wp-content/uploads/2023/11/ink-miami-art-fair-2023-1.jpeg
END:VEVENT
END:VCALENDAR