BEGIN:VCALENDAR
VERSION:2.0
PRODID:-//Miami Art Scene™ - ECPv6.15.20//NONSGML v1.0//EN
CALSCALE:GREGORIAN
METHOD:PUBLISH
X-WR-CALNAME:Miami Art Scene™
X-ORIGINAL-URL:https://www.themiamiartscene.com
X-WR-CALDESC:Events for Miami Art Scene™
REFRESH-INTERVAL;VALUE=DURATION:PT1H
X-Robots-Tag:noindex
X-PUBLISHED-TTL:PT1H
BEGIN:VTIMEZONE
TZID:America/New_York
BEGIN:DAYLIGHT
TZOFFSETFROM:-0500
TZOFFSETTO:-0400
TZNAME:EDT
DTSTART:20250309T070000
END:DAYLIGHT
BEGIN:STANDARD
TZOFFSETFROM:-0400
TZOFFSETTO:-0500
TZNAME:EST
DTSTART:20251102T060000
END:STANDARD
BEGIN:DAYLIGHT
TZOFFSETFROM:-0500
TZOFFSETTO:-0400
TZNAME:EDT
DTSTART:20260308T070000
END:DAYLIGHT
BEGIN:STANDARD
TZOFFSETFROM:-0400
TZOFFSETTO:-0500
TZNAME:EST
DTSTART:20261101T060000
END:STANDARD
BEGIN:DAYLIGHT
TZOFFSETFROM:-0500
TZOFFSETTO:-0400
TZNAME:EDT
DTSTART:20270314T070000
END:DAYLIGHT
BEGIN:STANDARD
TZOFFSETFROM:-0400
TZOFFSETTO:-0500
TZNAME:EST
DTSTART:20271107T060000
END:STANDARD
END:VTIMEZONE
BEGIN:VEVENT
DTSTART;TZID=America/New_York:20260305T190000
DTEND;TZID=America/New_York:20260305T203000
DTSTAMP:20260423T161106
CREATED:20260223T235359Z
LAST-MODIFIED:20260223T235359Z
UID:26108-1772737200-1772742600@www.themiamiartscene.com
SUMMARY:Writing as Re-Vision Online Workshop Hosted by Neysa King
DESCRIPTION:Thursday\, March 5th from 7 – 8:30pm enjoy a Creative Writing Workshop\, Writing as Re-Vision Online with Neysa King\, Writer\, Curator\, and Coach. \nAbout the Writing as Re-Vision Online Workshop: To revise is to re-see — to look again\, from a sharper angle\, with deeper intelligence. In a moment when AI can generate words in seconds\, the real skill is knowing how to think through your own work. In this 90-minute online workshop\, you’ll explore revision as a creative and critical-thinking practice. \nThe workshop is $49. RSVP HERE. This Workshop will be conducted via Zoom.
URL:https://www.themiamiartscene.com/event/writing-as-re-vision-online-workshop-hosted-by-neysa-king/
ATTACH;FMTTYPE=image/png:https://www.themiamiartscene.com/wp-content/uploads/2026/02/neysa-e1771890795213.png
END:VEVENT
END:VCALENDAR